BEGIN:VCALENDAR
VERSION:2.0
PRODID:-//Keystone Community Services - ECPv6.15.17.1//NONSGML v1.0//EN
CALSCALE:GREGORIAN
METHOD:PUBLISH
X-ORIGINAL-URL:https://keystoneservices.org
X-WR-CALDESC:Events for Keystone Community Services
REFRESH-INTERVAL;VALUE=DURATION:PT1H
X-Robots-Tag:noindex
X-PUBLISHED-TTL:PT1H
BEGIN:VTIMEZONE
TZID:America/Chicago
BEGIN:DAYLIGHT
TZOFFSETFROM:-0600
TZOFFSETTO:-0500
TZNAME:CDT
DTSTART:20210314T080000
END:DAYLIGHT
BEGIN:STANDARD
TZOFFSETFROM:-0500
TZOFFSETTO:-0600
TZNAME:CST
DTSTART:20211107T070000
END:STANDARD
BEGIN:DAYLIGHT
TZOFFSETFROM:-0600
TZOFFSETTO:-0500
TZNAME:CDT
DTSTART:20220313T080000
END:DAYLIGHT
BEGIN:STANDARD
TZOFFSETFROM:-0500
TZOFFSETTO:-0600
TZNAME:CST
DTSTART:20221106T070000
END:STANDARD
BEGIN:DAYLIGHT
TZOFFSETFROM:-0600
TZOFFSETTO:-0500
TZNAME:CDT
DTSTART:20230312T080000
END:DAYLIGHT
BEGIN:STANDARD
TZOFFSETFROM:-0500
TZOFFSETTO:-0600
TZNAME:CST
DTSTART:20231105T070000
END:STANDARD
END:VTIMEZONE
BEGIN:VEVENT
DTSTART;TZID=America/Chicago:20220712T100000
DTEND;TZID=America/Chicago:20220712T120000
DTSTAMP:20260423T023650
CREATED:20220304T191249Z
LAST-MODIFIED:20221021T174959Z
UID:10001950-1657620000-1657627200@keystoneservices.org
SUMMARY:Foodmobile Public Distribution - Anpetu Teca
DESCRIPTION:For people needing emergency food support we are pleased to offer public Foodmobile distribution events. Keystone’s Foodmobile will be onsite for a public food distribution at the Anpetu Teca Education Center. \nPlease note that the Foodmobile is a Keystone food shelf and thus participants can only access services once a month. Visit here\, for more details about using the Foodmobile.
URL:https://keystoneservices.org/events/foodmobile-public-distribution-anpetu-teca-2022-12-13/2022-07-12/
LOCATION:Anpetu Teca Education Center\, 1910 County B Rd W\, Roseville\, MN\, 55113\, United States
GEO:45.0049815;-93.1801093
X-APPLE-STRUCTURED-LOCATION;VALUE=URI;X-ADDRESS=Anpetu Teca Education Center 1910 County B Rd W Roseville MN 55113 United States;X-APPLE-RADIUS=500;X-TITLE=1910 County B Rd W:geo:-93.1801093,45.0049815
END:VEVENT
BEGIN:VEVENT
DTSTART;TZID=America/Chicago:20220712T140000
DTEND;TZID=America/Chicago:20220712T160000
DTSTAMP:20260423T023650
CREATED:20220113T182916Z
LAST-MODIFIED:20220721T155116Z
UID:10001885-1657634400-1657641600@keystoneservices.org
SUMMARY:Foodmobile Public Distribution - St. Michael's
DESCRIPTION:For people needing emergency food support we are pleased to offer public Foodmobile distribution events. Keystone’s Foodmobile will be onsite for a public food distribution at St. Michael’s. \nPlease note that the Foodmobile is a Keystone food shelf and thus participants can only access services once a month. Visit here\, for more details about using the Foodmobile.
URL:https://keystoneservices.org/events/foodmobile-public-distribution-st-michaels-10/2022-07-12/
LOCATION:St. Michael’s Lutheran Church\, 1660 County B Rd W\, Roseville\, MN\, 55113\, United States
GEO:45.0054763;-93.1701553
X-APPLE-STRUCTURED-LOCATION;VALUE=URI;X-ADDRESS=St. Michael’s Lutheran Church 1660 County B Rd W Roseville MN 55113 United States;X-APPLE-RADIUS=500;X-TITLE=1660 County B Rd W:geo:-93.1701553,45.0054763
END:VEVENT
END:VCALENDAR