BEGIN:VCALENDAR
VERSION:2.0
PRODID:-//Keystone Community Services - ECPv6.15.17.1//NONSGML v1.0//EN
CALSCALE:GREGORIAN
METHOD:PUBLISH
X-WR-CALNAME:Keystone Community Services
X-ORIGINAL-URL:https://keystoneservices.org
X-WR-CALDESC:Events for Keystone Community Services
REFRESH-INTERVAL;VALUE=DURATION:PT1H
X-Robots-Tag:noindex
X-PUBLISHED-TTL:PT1H
BEGIN:VTIMEZONE
TZID:America/Chicago
BEGIN:DAYLIGHT
TZOFFSETFROM:-0600
TZOFFSETTO:-0500
TZNAME:CDT
DTSTART:20210314T080000
END:DAYLIGHT
BEGIN:STANDARD
TZOFFSETFROM:-0500
TZOFFSETTO:-0600
TZNAME:CST
DTSTART:20211107T070000
END:STANDARD
BEGIN:DAYLIGHT
TZOFFSETFROM:-0600
TZOFFSETTO:-0500
TZNAME:CDT
DTSTART:20220313T080000
END:DAYLIGHT
BEGIN:STANDARD
TZOFFSETFROM:-0500
TZOFFSETTO:-0600
TZNAME:CST
DTSTART:20221106T070000
END:STANDARD
BEGIN:DAYLIGHT
TZOFFSETFROM:-0600
TZOFFSETTO:-0500
TZNAME:CDT
DTSTART:20230312T080000
END:DAYLIGHT
BEGIN:STANDARD
TZOFFSETFROM:-0500
TZOFFSETTO:-0600
TZNAME:CST
DTSTART:20231105T070000
END:STANDARD
END:VTIMEZONE
BEGIN:VEVENT
DTSTART;TZID=America/Chicago:20220930T100000
DTEND;TZID=America/Chicago:20220930T120000
DTSTAMP:20260422T183511
CREATED:20220113T185339Z
LAST-MODIFIED:20220113T185339Z
UID:10001549-1664532000-1664539200@keystoneservices.org
SUMMARY:Fare for All
DESCRIPTION:Keystone offers the Fare For All program at the West 7th Community Center. This program is available to everyone and is made possible by a partnership with The Food Group. Get more  information about Fare for All here.
URL:https://keystoneservices.org/events/fare-for-all-22/2022-09-30/
LOCATION:West 7th Community Center\, 265 Oneida Street\, St. Paul\, MN\, 55102\, United States
GEO:44.9329884;-93.1237888
X-APPLE-STRUCTURED-LOCATION;VALUE=URI;X-ADDRESS=West 7th Community Center 265 Oneida Street St. Paul MN 55102 United States;X-APPLE-RADIUS=500;X-TITLE=265 Oneida Street:geo:-93.1237888,44.9329884
END:VEVENT
BEGIN:VEVENT
DTSTART;TZID=America/Chicago:20220930T100000
DTEND;TZID=America/Chicago:20220930T120000
DTSTAMP:20260422T183511
CREATED:20220113T185339Z
LAST-MODIFIED:20220428T205239Z
UID:10001555-1664532000-1664539200@keystoneservices.org
SUMMARY:Fare for All
DESCRIPTION:Keystone offers the Fare For All program at the West 7th Community Center. This program is available to everyone and is made possible by a partnership with The Food Group. Get more  information about Fare for All here.
URL:https://keystoneservices.org/events/fare-for-all-22-2022-12-02/2022-09-30/
LOCATION:West 7th Community Center\, 265 Oneida Street\, St. Paul\, MN\, 55102\, United States
GEO:44.9329884;-93.1237888
X-APPLE-STRUCTURED-LOCATION;VALUE=URI;X-ADDRESS=West 7th Community Center 265 Oneida Street St. Paul MN 55102 United States;X-APPLE-RADIUS=500;X-TITLE=265 Oneida Street:geo:-93.1237888,44.9329884
END:VEVENT
BEGIN:VEVENT
DTSTART;TZID=America/Chicago:20220930T100000
DTEND;TZID=America/Chicago:20220930T120000
DTSTAMP:20260422T183511
CREATED:20220509T162759Z
LAST-MODIFIED:20220509T162907Z
UID:10001963-1664532000-1664539200@keystoneservices.org
SUMMARY:Free Farmer's Market Drive-Through Event
DESCRIPTION:This is an event for people in need to receive free\, fresh fruits & vegetables.\n  \nWhen is the event? \nThe event is on Friday\, September 30th \n  \nWhere is the event being held? \nThe event will be held at Rice & Arlington Field\, located at 1500 Rice St\, St. Paul\, MN 55117 \n  \nWhat will I receive? \nPlease note that the food offered at this event has changed. Every household will receive 5 – 7 varieties of fruits and vegetables \n  \nWho can participate? \nThis event is open to anyone in need of food support. It is intended for Ramsey County residents\, but anyone is welcome. \n  \nHow do I participate? \nNo registration is required\, simply drive-through between 10:00 a.m. and 12:00 p.m.! \n  \nWhat if I want food but can’t participate at this time? \nThis event time or date doesn’t work for you but you need food support\, please visit a Keystone food shelf or participate in our other food programs. Complete information about our services is available online at www.keystoneservices.org/food-shelves/ or you can call us at 651-645-0349 for more information. \nIn addition to our food shelves\, Keystone will be hosting more distributions this summer. We are hosting food distributions across Ramsey County through October. You can find dates and locations by visiting the More Food Programs page on our website!
URL:https://keystoneservices.org/events/free-farmers-market-drive-through-event-4/
LOCATION:Rice and Arlington Field\, 1500 Rice Street\, St. Paul\, MN\, 55117\, United States
GEO:44.9862046;-93.1053429
X-APPLE-STRUCTURED-LOCATION;VALUE=URI;X-ADDRESS=Rice and Arlington Field 1500 Rice Street St. Paul MN 55117 United States;X-APPLE-RADIUS=500;X-TITLE=1500 Rice Street:geo:-93.1053429,44.9862046
END:VEVENT
BEGIN:VEVENT
DTSTART;TZID=America/Chicago:20220930T160000
DTEND;TZID=America/Chicago:20220930T180000
DTSTAMP:20260422T183511
CREATED:20220919T172714Z
LAST-MODIFIED:20220927T132059Z
UID:10002004-1664553600-1664560800@keystoneservices.org
SUMMARY:Mini Geek Squad Academy
DESCRIPTION:Teens ages 13-18 are invited to join us for a free\, interactive Mini Geek Squad Academy workshop on September 30\, 2022 from 4:00 – 6:00 p.m. at the Keystone Best Buy Teen Tech Center (1150 Selby Avenue\, St. Paul). \nWhat is the Mini Geek Squad Academy? \nMini Geek Squad is a condensed\, one-day version of our hands-on learning program where teens have the opportunity to not just see technology but experience it. \nTeens will also get to try stop motion photography and 3D Design. Stop Motion Photographer is a cinematic style of animation that uses real-life sets and models rather than 2D or 3D design. 3D design is a process of using computer-modeling software to create an object within a three-dimensional space. \nAll teens ages 13-18 are welcome! \nPlease register here. 
URL:https://keystoneservices.org/events/mini-geek-squad-academy/
LOCATION:Best Buy Teen Tech Center\, 1150 Selby Avenue\, St. Paul\, 55104\, United States
GEO:44.9464614;-93.1487726
X-APPLE-STRUCTURED-LOCATION;VALUE=URI;X-ADDRESS=Best Buy Teen Tech Center 1150 Selby Avenue St. Paul 55104 United States;X-APPLE-RADIUS=500;X-TITLE=1150 Selby Avenue:geo:-93.1487726,44.9464614
END:VEVENT
END:VCALENDAR