BEGIN:VCALENDAR
VERSION:2.0
PRODID:-//Keystone Community Services - ECPv6.15.17.1//NONSGML v1.0//EN
CALSCALE:GREGORIAN
METHOD:PUBLISH
X-ORIGINAL-URL:https://keystoneservices.org
X-WR-CALDESC:Events for Keystone Community Services
REFRESH-INTERVAL;VALUE=DURATION:PT1H
X-Robots-Tag:noindex
X-PUBLISHED-TTL:PT1H
BEGIN:VTIMEZONE
TZID:America/Chicago
BEGIN:DAYLIGHT
TZOFFSETFROM:-0600
TZOFFSETTO:-0500
TZNAME:CDT
DTSTART:20220313T080000
END:DAYLIGHT
BEGIN:STANDARD
TZOFFSETFROM:-0500
TZOFFSETTO:-0600
TZNAME:CST
DTSTART:20221106T070000
END:STANDARD
BEGIN:DAYLIGHT
TZOFFSETFROM:-0600
TZOFFSETTO:-0500
TZNAME:CDT
DTSTART:20230312T080000
END:DAYLIGHT
BEGIN:STANDARD
TZOFFSETFROM:-0500
TZOFFSETTO:-0600
TZNAME:CST
DTSTART:20231105T070000
END:STANDARD
BEGIN:DAYLIGHT
TZOFFSETFROM:-0600
TZOFFSETTO:-0500
TZNAME:CDT
DTSTART:20240310T080000
END:DAYLIGHT
BEGIN:STANDARD
TZOFFSETFROM:-0500
TZOFFSETTO:-0600
TZNAME:CST
DTSTART:20241103T070000
END:STANDARD
END:VTIMEZONE
BEGIN:VEVENT
DTSTART;TZID=America/Chicago:20230731T160000
DTEND;TZID=America/Chicago:20230731T190000
DTSTAMP:20260424T212538
CREATED:20230615T144007Z
LAST-MODIFIED:20230720T155757Z
UID:10002194-1690819200-1690830000@keystoneservices.org
SUMMARY:Keys Fest 2023 - Join us for a night of fun and community!
DESCRIPTION:We are proud to announce Keystone’s first Keys Fest! \nDust off your lawn chair and come out and enjoy this casual\, fun\, free night. Gather with friends and neighbors for an evening of listening to live music for all ages and enjoy a variety of food trucks and activities! \nWhen: Monday\, July 31\nTime: 4:00 – 7:00 p.m.\nWhere: Keystone’s West 7th Community Center\, 265 Oneida Street\, St. Paul\, MN 55102 \nMusical guests:\nRay Barnard – https://ray-barnard.com/\nVocalEssence – https://www.vocalessence.org/\nThe Rosie Posies – https://www.youtube.com/watch?v=FP_KjAIDo28&t=2s \nFood truck vendors:\nGot Rice – https://www.instagram.com/got_rice_mn/?hl=en\nR-Frida’s – https://www.facebook.com/fridampls/ \nThe event is FREE\, but we encourage attendees to bring a school supply donation or cash contribution! \n*This Keystone event is made possible by the voters of Minnesota through grants from the Minnesota State Arts Board thanks to a legislative appropriation from the arts and cultural heritage fund. \n\n 
URL:https://keystoneservices.org/events/keys-fest-2023-join-us-for-a-night-of-fun-and-community/
LOCATION:West 7th Community Center\, 265 Oneida Street\, St. Paul\, MN\, 55102\, United States
GEO:44.9329884;-93.1237888
X-APPLE-STRUCTURED-LOCATION;VALUE=URI;X-ADDRESS=West 7th Community Center 265 Oneida Street St. Paul MN 55102 United States;X-APPLE-RADIUS=500;X-TITLE=265 Oneida Street:geo:-93.1237888,44.9329884
END:VEVENT
END:VCALENDAR