BEGIN:VCALENDAR
VERSION:2.0
PRODID:-//Keystone Community Services - ECPv6.15.17.1//NONSGML v1.0//EN
CALSCALE:GREGORIAN
METHOD:PUBLISH
X-WR-CALNAME:Keystone Community Services
X-ORIGINAL-URL:https://keystoneservices.org
X-WR-CALDESC:Events for Keystone Community Services
REFRESH-INTERVAL;VALUE=DURATION:PT1H
X-Robots-Tag:noindex
X-PUBLISHED-TTL:PT1H
BEGIN:VTIMEZONE
TZID:America/Chicago
BEGIN:DAYLIGHT
TZOFFSETFROM:-0600
TZOFFSETTO:-0500
TZNAME:CDT
DTSTART:20220313T080000
END:DAYLIGHT
BEGIN:STANDARD
TZOFFSETFROM:-0500
TZOFFSETTO:-0600
TZNAME:CST
DTSTART:20221106T070000
END:STANDARD
BEGIN:DAYLIGHT
TZOFFSETFROM:-0600
TZOFFSETTO:-0500
TZNAME:CDT
DTSTART:20230312T080000
END:DAYLIGHT
BEGIN:STANDARD
TZOFFSETFROM:-0500
TZOFFSETTO:-0600
TZNAME:CST
DTSTART:20231105T070000
END:STANDARD
BEGIN:DAYLIGHT
TZOFFSETFROM:-0600
TZOFFSETTO:-0500
TZNAME:CDT
DTSTART:20240310T080000
END:DAYLIGHT
BEGIN:STANDARD
TZOFFSETFROM:-0500
TZOFFSETTO:-0600
TZNAME:CST
DTSTART:20241103T070000
END:STANDARD
END:VTIMEZONE
BEGIN:VEVENT
DTSTART;VALUE=DATE:20230801
DTEND;VALUE=DATE:20230819
DTSTAMP:20260421T000853
CREATED:20230712T173913Z
LAST-MODIFIED:20230802T180240Z
UID:10002196-1690848000-1692403199@keystoneservices.org
SUMMARY:School Supply Drop Off
DESCRIPTION:Help youth go back to school prepared! \n\nYouth will be heading back to school soon\, which means that back-to-school shopping is near! Shopping for school supplies can seem daunting for low-income families as their budgets are stretched due to the rise of the costs for food\, gas\, and other bills. \nDrop off location: Merriam Park Community Center\, 2000 St. Anthony Ave.\, St. Paul\, MN 55104 \nDrop off times: Monday – Friday\, 9:00 a.m. – 5:00 p.m. \n*New school supplies only! \nSchool supply donations will be accepted through August 18th! \nFor more information\, contact us at 651-645-0349 or info@keystoneservices.org. \nMore about the actual distribution event will be posted soon. \nClick here for the 2023 School Supply Flyer! \nClick here to view our Amazon Wish List!
URL:https://keystoneservices.org/events/school-supply-drop-off/
LOCATION:Merriam Park Community Center\, 2000 St. Anthony Avenue\, Saint Paul\, MN\, 55104\, United States
GEO:44.9526961;-93.1851142
X-APPLE-STRUCTURED-LOCATION;VALUE=URI;X-ADDRESS=Merriam Park Community Center 2000 St. Anthony Avenue Saint Paul MN 55104 United States;X-APPLE-RADIUS=500;X-TITLE=2000 St. Anthony Avenue:geo:-93.1851142,44.9526961
END:VEVENT
BEGIN:VEVENT
DTSTART;TZID=America/Chicago:20230804T100000
DTEND;TZID=America/Chicago:20230804T120000
DTSTAMP:20260421T000853
CREATED:20221116T191340Z
LAST-MODIFIED:20260303T203438Z
UID:10001613-1691143200-1691150400@keystoneservices.org
SUMMARY:Fare for All
DESCRIPTION:Keystone offers the Fare for All program at the West 7th Community Center. This program is available to everyone and is made possible by a partnership with The Food Group. Get more information about Fare for All here. \n 
URL:https://keystoneservices.org/events/fare-for-all-23/2023-08-04/
LOCATION:West 7th Community Center\, 265 Oneida Street\, St. Paul\, MN\, 55102\, United States
GEO:44.9329884;-93.1237888
X-APPLE-STRUCTURED-LOCATION;VALUE=URI;X-ADDRESS=West 7th Community Center 265 Oneida Street St. Paul MN 55102 United States;X-APPLE-RADIUS=500;X-TITLE=265 Oneida Street:geo:-93.1237888,44.9329884
END:VEVENT
BEGIN:VEVENT
DTSTART;TZID=America/Chicago:20230804T100000
DTEND;TZID=America/Chicago:20230804T120000
DTSTAMP:20260421T000853
CREATED:20230517T140158Z
LAST-MODIFIED:20230907T135629Z
UID:10001694-1691143200-1691150400@keystoneservices.org
SUMMARY:Free Farmer's Market - Roseville Covenant Church
DESCRIPTION:Keystone is committed to giving people in our community access to fresh produce and healthy foods. Throughout the summer season\, Keystone will offer its events at Roseville Covenant Church\, the Rice and Arlington Field\, and the Allianz Field. You can learn more about this program and see the full list of dates here. All are welcome and this visit does NOT count as a food shelf visit. \nRegistration is not required for the events! \nThis event will take place at Roseville Covenant Church\, 2865 Hamline Ave. N\, Roseville\, MN 55113. This season’s Roseville Covenant Church event dates are: \n\nOctober 6 from 10:00 a.m. – Noon\n\nFall Free Farmer’s Market Flyers (English\, Karen\, Spanish\, and Hmong)
URL:https://keystoneservices.org/events/free-farmers-market-roseville-covenant-church/2023-08-04/
LOCATION:Roseville Covenant Church\, 2865 Hamline Ave N\, St. Paul\, MN\, 55113\, United States
GEO:45.0275693;-93.1578186
X-APPLE-STRUCTURED-LOCATION;VALUE=URI;X-ADDRESS=Roseville Covenant Church 2865 Hamline Ave N St. Paul MN 55113 United States;X-APPLE-RADIUS=500;X-TITLE=2865 Hamline Ave N:geo:-93.1578186,45.0275693
END:VEVENT
BEGIN:VEVENT
DTSTART;TZID=America/Chicago:20230804T130000
DTEND;TZID=America/Chicago:20230804T150000
DTSTAMP:20260421T000853
CREATED:20230801T154059Z
LAST-MODIFIED:20241213T222921Z
UID:10002197-1691154000-1691161200@keystoneservices.org
SUMMARY:Foodmobile Public Distribution – New Life Church
DESCRIPTION:For people needing emergency food support we are pleased to offer public Foodmobile distribution events. Keystone’s Foodmobile will be onsite for a public food distribution at New Life Church. \nPlease note that the Foodmobile is a Keystone food shelf and thus participants can only access services once a month. Visit here\, for more details about using the Foodmobile.
URL:https://keystoneservices.org/events/foodmobile-public-distribution-new-life-church-11/2023-08-04/
LOCATION:New Life Church\, 965 Larpenteur Ave W\, Roseville\, MN\, 55113\, United States
GEO:44.9926909;-93.140767
X-APPLE-STRUCTURED-LOCATION;VALUE=URI;X-ADDRESS=New Life Church 965 Larpenteur Ave W Roseville MN 55113 United States;X-APPLE-RADIUS=500;X-TITLE=965 Larpenteur Ave W:geo:-93.140767,44.9926909
END:VEVENT
END:VCALENDAR