BEGIN:VCALENDAR
VERSION:2.0
PRODID:-//Keystone Community Services - ECPv6.15.17.1//NONSGML v1.0//EN
CALSCALE:GREGORIAN
METHOD:PUBLISH
X-WR-CALNAME:Keystone Community Services
X-ORIGINAL-URL:https://keystoneservices.org
X-WR-CALDESC:Events for Keystone Community Services
REFRESH-INTERVAL;VALUE=DURATION:PT1H
X-Robots-Tag:noindex
X-PUBLISHED-TTL:PT1H
BEGIN:VTIMEZONE
TZID:America/Chicago
BEGIN:DAYLIGHT
TZOFFSETFROM:-0600
TZOFFSETTO:-0500
TZNAME:CDT
DTSTART:20220313T080000
END:DAYLIGHT
BEGIN:STANDARD
TZOFFSETFROM:-0500
TZOFFSETTO:-0600
TZNAME:CST
DTSTART:20221106T070000
END:STANDARD
BEGIN:DAYLIGHT
TZOFFSETFROM:-0600
TZOFFSETTO:-0500
TZNAME:CDT
DTSTART:20230312T080000
END:DAYLIGHT
BEGIN:STANDARD
TZOFFSETFROM:-0500
TZOFFSETTO:-0600
TZNAME:CST
DTSTART:20231105T070000
END:STANDARD
BEGIN:DAYLIGHT
TZOFFSETFROM:-0600
TZOFFSETTO:-0500
TZNAME:CDT
DTSTART:20240310T080000
END:DAYLIGHT
BEGIN:STANDARD
TZOFFSETFROM:-0500
TZOFFSETTO:-0600
TZNAME:CST
DTSTART:20241103T070000
END:STANDARD
END:VTIMEZONE
BEGIN:VEVENT
DTSTART;TZID=America/Chicago:20230926T140000
DTEND;TZID=America/Chicago:20230926T160000
DTSTAMP:20260421T090332
CREATED:20221219T220645Z
LAST-MODIFIED:20231228T193928Z
UID:10002155-1695736800-1695744000@keystoneservices.org
SUMMARY:Foodmobile Public Distribution - Rice Street Library
DESCRIPTION:For people needing emergency food support we are pleased to offer public Foodmobile distribution events. Keystone’s Foodmobile will be onsite for a public food distribution at St. Paul Library – Rice Street Library location. \nPlease note that the Foodmobile is a Keystone food shelf and thus participants can only access services once a month. Visit here\, for more details about using the Foodmobile.
URL:https://keystoneservices.org/events/foodmobile-public-distribution-rice-street-library-2/2023-09-26/
LOCATION:St. Paul Public Library – Rice Street Library\, 1011 Rice Street\, St. Paul\, MN\, 55117\, United States
GEO:44.9717938;-93.1063352
X-APPLE-STRUCTURED-LOCATION;VALUE=URI;X-ADDRESS=St. Paul Public Library – Rice Street Library 1011 Rice Street St. Paul MN 55117 United States;X-APPLE-RADIUS=500;X-TITLE=1011 Rice Street:geo:-93.1063352,44.9717938
END:VEVENT
BEGIN:VEVENT
DTSTART;TZID=America/Chicago:20230926T173000
DTEND;TZID=America/Chicago:20230926T203000
DTSTAMP:20260421T090332
CREATED:20230818T144726Z
LAST-MODIFIED:20230926T172510Z
UID:10002207-1695749400-1695760200@keystoneservices.org
SUMMARY:Keys to Success Gala 2023
DESCRIPTION:Gather with your Keystone community\, family and friends to bring more food to more tables for our neighbors at the 2023 Keys to Success Gala! \nAt the Keys to Success dinner table\, with your support we will raise $100\,000 to fill every corner of our new Community Food Center with food and supplies for the very first time! Will you join us in setting the table together with food and love for our community? \nDate: Tuesday\, September 26\, 2023 \nTime: 5:30 – 8:30 p.m. \nLocation: Allianz Field\, 400 Snelling Avenue North\, St. Paul \nTickets: $60. Online registration for the 2023 Keys to Success Gala has closed. Please call Keystone at 651-645-0349 with any event inquires.   \nFor more information about Keys to Success\, please visit this page: https://keystoneservices.org/donate/keys-to-success-gala/
URL:https://keystoneservices.org/events/keys-to-success-gala-2023/
LOCATION:Allianz Field\, 400 Snelling Avenue N\, St. Paul\, MN\, 55104\, United States
GEO:44.952885;-93.165213
X-APPLE-STRUCTURED-LOCATION;VALUE=URI;X-ADDRESS=Allianz Field 400 Snelling Avenue N St. Paul MN 55104 United States;X-APPLE-RADIUS=500;X-TITLE=400 Snelling Avenue N:geo:-93.165213,44.952885
END:VEVENT
END:VCALENDAR