BEGIN:VCALENDAR
VERSION:2.0
PRODID:-//Keystone Community Services - ECPv6.15.17.1//NONSGML v1.0//EN
CALSCALE:GREGORIAN
METHOD:PUBLISH
X-ORIGINAL-URL:https://keystoneservices.org
X-WR-CALDESC:Events for Keystone Community Services
REFRESH-INTERVAL;VALUE=DURATION:PT1H
X-Robots-Tag:noindex
X-PUBLISHED-TTL:PT1H
BEGIN:VTIMEZONE
TZID:America/Chicago
BEGIN:DAYLIGHT
TZOFFSETFROM:-0600
TZOFFSETTO:-0500
TZNAME:CDT
DTSTART:20220313T080000
END:DAYLIGHT
BEGIN:STANDARD
TZOFFSETFROM:-0500
TZOFFSETTO:-0600
TZNAME:CST
DTSTART:20221106T070000
END:STANDARD
BEGIN:DAYLIGHT
TZOFFSETFROM:-0600
TZOFFSETTO:-0500
TZNAME:CDT
DTSTART:20230312T080000
END:DAYLIGHT
BEGIN:STANDARD
TZOFFSETFROM:-0500
TZOFFSETTO:-0600
TZNAME:CST
DTSTART:20231105T070000
END:STANDARD
BEGIN:DAYLIGHT
TZOFFSETFROM:-0600
TZOFFSETTO:-0500
TZNAME:CDT
DTSTART:20240310T080000
END:DAYLIGHT
BEGIN:STANDARD
TZOFFSETFROM:-0500
TZOFFSETTO:-0600
TZNAME:CST
DTSTART:20241103T070000
END:STANDARD
END:VTIMEZONE
BEGIN:VEVENT
DTSTART;TZID=America/Chicago:20231005T183000
DTEND;TZID=America/Chicago:20231005T200000
DTSTAMP:20260423T152931
CREATED:20230815T152550Z
LAST-MODIFIED:20231002T140649Z
UID:10002206-1696530600-1696536000@keystoneservices.org
SUMMARY:Keystone Musical Heritage Series: The Connor McRae Trio
DESCRIPTION:The Keystone Musical Heritage Series begins this fall with sponsorship from the Minnesota Blues Society and the Minnesota State Arts Board. The series features performances on the first Thursday of each month by established and emerging Twin Cities musicians. We kick off the series with blues musicians who have their own unique angle on a style of music that continues to breathe life into the local music scene. \nThis highly touted performance will be a first for everyone involved. Connor McRae is the highly regarded drummer for internationally recognized band Davina & The Vagabonds but has been doing a once-a-month gig with his trio at the Schooner Tavern near Lake and 27th in Minneapolis for four years. Connor happens to be a fine blues vocalist who pays homage to blues music from Keystone Musical Heritage Series New Orleans to Chicago and points in between. He is joined by bassist Ted Vig and guitarist Jeremy Johnson. \nConcerts are free\, but tips for the band are encouraged! \n     \nKeystone arts funding is made possible by the voters of Minnesota through grants from the Minnesota State Arts Board thanks to a legislative appropriation from the arts and cultural heritage fund.
URL:https://keystoneservices.org/events/keystone-musical-heritage-series-the-connor-mcrae-trio/
LOCATION:West 7th Community Center\, 265 Oneida Street\, St. Paul\, MN\, 55102\, United States
GEO:44.9329884;-93.1237888
X-APPLE-STRUCTURED-LOCATION;VALUE=URI;X-ADDRESS=West 7th Community Center 265 Oneida Street St. Paul MN 55102 United States;X-APPLE-RADIUS=500;X-TITLE=265 Oneida Street:geo:-93.1237888,44.9329884
END:VEVENT
END:VCALENDAR