BEGIN:VCALENDAR
VERSION:2.0
PRODID:-//Keystone Community Services - ECPv6.15.17.1//NONSGML v1.0//EN
CALSCALE:GREGORIAN
METHOD:PUBLISH
X-ORIGINAL-URL:https://keystoneservices.org
X-WR-CALDESC:Events for Keystone Community Services
REFRESH-INTERVAL;VALUE=DURATION:PT1H
X-Robots-Tag:noindex
X-PUBLISHED-TTL:PT1H
BEGIN:VTIMEZONE
TZID:America/Chicago
BEGIN:DAYLIGHT
TZOFFSETFROM:-0600
TZOFFSETTO:-0500
TZNAME:CDT
DTSTART:20220313T080000
END:DAYLIGHT
BEGIN:STANDARD
TZOFFSETFROM:-0500
TZOFFSETTO:-0600
TZNAME:CST
DTSTART:20221106T070000
END:STANDARD
BEGIN:DAYLIGHT
TZOFFSETFROM:-0600
TZOFFSETTO:-0500
TZNAME:CDT
DTSTART:20230312T080000
END:DAYLIGHT
BEGIN:STANDARD
TZOFFSETFROM:-0500
TZOFFSETTO:-0600
TZNAME:CST
DTSTART:20231105T070000
END:STANDARD
BEGIN:DAYLIGHT
TZOFFSETFROM:-0600
TZOFFSETTO:-0500
TZNAME:CDT
DTSTART:20240310T080000
END:DAYLIGHT
BEGIN:STANDARD
TZOFFSETFROM:-0500
TZOFFSETTO:-0600
TZNAME:CST
DTSTART:20241103T070000
END:STANDARD
END:VTIMEZONE
BEGIN:VEVENT
DTSTART;TZID=America/Chicago:20231102T183000
DTEND;TZID=America/Chicago:20231102T194500
DTSTAMP:20260420T093049
CREATED:20231023T173737Z
LAST-MODIFIED:20231023T173737Z
UID:10002227-1698949800-1698954300@keystoneservices.org
SUMMARY:Keystone Musical Heritage Series: Molly Maher
DESCRIPTION:The Keystone Musical Heritage Series begins this fall with sponsorship from the Minnesota Blues Society and the Minnesota State Arts Board. The series features performances on the first Thursday of each month by established and emerging Twin Cities musicians. We are kicking of the series for the month of November with Molly Maher. \nRaised in St. Paul\, Molly Maher resides on the border between the lands of Americana and the Blues and moves beautifully between them\, blending simmer and cool with fine guitar playing\, and a sage & authentic delivery. Her amazing band includes renowned singer/guitarist/songwriter Erik Koskinen\, guitar ace Paul Bergen\, and a fantastic rhythm section in drummer Richard Medek and bass player Steve Murray. \nConcerts are free\, but tips for the band are encouraged! \nYou can visit Molly Maher’s website by clicking here: https://mollymaher.com/ \n     \nKeystone arts funding is made possible by the voters of Minnesota through grants from the Minnesota State Arts Board thanks to a legislative appropriation from the arts and cultural heritage fund.
URL:https://keystoneservices.org/events/keystone-musical-heritage-series-molly-maher/
LOCATION:West 7th Community Center\, 265 Oneida Street\, St. Paul\, MN\, 55102\, United States
GEO:44.9329884;-93.1237888
X-APPLE-STRUCTURED-LOCATION;VALUE=URI;X-ADDRESS=West 7th Community Center 265 Oneida Street St. Paul MN 55102 United States;X-APPLE-RADIUS=500;X-TITLE=265 Oneida Street:geo:-93.1237888,44.9329884
END:VEVENT
END:VCALENDAR