BEGIN:VCALENDAR
VERSION:2.0
PRODID:-//Keystone Community Services - ECPv6.15.17.1//NONSGML v1.0//EN
CALSCALE:GREGORIAN
METHOD:PUBLISH
X-ORIGINAL-URL:https://keystoneservices.org
X-WR-CALDESC:Events for Keystone Community Services
REFRESH-INTERVAL;VALUE=DURATION:PT1H
X-Robots-Tag:noindex
X-PUBLISHED-TTL:PT1H
BEGIN:VTIMEZONE
TZID:America/Chicago
BEGIN:DAYLIGHT
TZOFFSETFROM:-0600
TZOFFSETTO:-0500
TZNAME:CDT
DTSTART:20230312T080000
END:DAYLIGHT
BEGIN:STANDARD
TZOFFSETFROM:-0500
TZOFFSETTO:-0600
TZNAME:CST
DTSTART:20231105T070000
END:STANDARD
BEGIN:DAYLIGHT
TZOFFSETFROM:-0600
TZOFFSETTO:-0500
TZNAME:CDT
DTSTART:20240310T080000
END:DAYLIGHT
BEGIN:STANDARD
TZOFFSETFROM:-0500
TZOFFSETTO:-0600
TZNAME:CST
DTSTART:20241103T070000
END:STANDARD
BEGIN:DAYLIGHT
TZOFFSETFROM:-0600
TZOFFSETTO:-0500
TZNAME:CDT
DTSTART:20250309T080000
END:DAYLIGHT
BEGIN:STANDARD
TZOFFSETFROM:-0500
TZOFFSETTO:-0600
TZNAME:CST
DTSTART:20251102T070000
END:STANDARD
END:VTIMEZONE
BEGIN:VEVENT
DTSTART;TZID=America/Chicago:20240518T120000
DTEND;TZID=America/Chicago:20240518T140000
DTSTAMP:20260421T220700
CREATED:20240429T192938Z
LAST-MODIFIED:20240429T193004Z
UID:10002285-1716033600-1716040800@keystoneservices.org
SUMMARY:Growing for Good
DESCRIPTION:Let’s cultivate a stronger community together! Join Como Park Lutheran Church for an educational growing event to learn about pollinators\, gardening\, and the importance of sharing. \nSpecial features include activities for kids\, tools swapping\, local honey tasting\, talking to a Master Gardener\, and more.
URL:https://keystoneservices.org/events/growing-for-good/
LOCATION:Como Park Lutheran Church\, 1376 Hoyt Avenue W\, Saint Paul\, MN\, 55108\, United States
GEO:44.9878663;-93.1582878
X-APPLE-STRUCTURED-LOCATION;VALUE=URI;X-ADDRESS=Como Park Lutheran Church 1376 Hoyt Avenue W Saint Paul MN 55108 United States;X-APPLE-RADIUS=500;X-TITLE=1376 Hoyt Avenue W:geo:-93.1582878,44.9878663
END:VEVENT
END:VCALENDAR