BEGIN:VCALENDAR
VERSION:2.0
PRODID:-//Keystone Community Services - ECPv6.15.17.1//NONSGML v1.0//EN
CALSCALE:GREGORIAN
METHOD:PUBLISH
X-ORIGINAL-URL:https://keystoneservices.org
X-WR-CALDESC:Events for Keystone Community Services
REFRESH-INTERVAL;VALUE=DURATION:PT1H
X-Robots-Tag:noindex
X-PUBLISHED-TTL:PT1H
BEGIN:VTIMEZONE
TZID:America/Chicago
BEGIN:DAYLIGHT
TZOFFSETFROM:-0600
TZOFFSETTO:-0500
TZNAME:CDT
DTSTART:20230312T080000
END:DAYLIGHT
BEGIN:STANDARD
TZOFFSETFROM:-0500
TZOFFSETTO:-0600
TZNAME:CST
DTSTART:20231105T070000
END:STANDARD
BEGIN:DAYLIGHT
TZOFFSETFROM:-0600
TZOFFSETTO:-0500
TZNAME:CDT
DTSTART:20240310T080000
END:DAYLIGHT
BEGIN:STANDARD
TZOFFSETFROM:-0500
TZOFFSETTO:-0600
TZNAME:CST
DTSTART:20241103T070000
END:STANDARD
BEGIN:DAYLIGHT
TZOFFSETFROM:-0600
TZOFFSETTO:-0500
TZNAME:CDT
DTSTART:20250309T080000
END:DAYLIGHT
BEGIN:STANDARD
TZOFFSETFROM:-0500
TZOFFSETTO:-0600
TZNAME:CST
DTSTART:20251102T070000
END:STANDARD
END:VTIMEZONE
BEGIN:VEVENT
DTSTART;TZID=America/Chicago:20240823T100000
DTEND;TZID=America/Chicago:20240823T120000
DTSTAMP:20260421T042642
CREATED:20240521T204623Z
LAST-MODIFIED:20240729T153310Z
UID:10001793-1724407200-1724414400@keystoneservices.org
SUMMARY:Free Farmer’s Market – Allianz Field
DESCRIPTION:Keystone is committed to giving people in our community access to fresh produce and healthy foods. Throughout the summer season\, Keystone will offer its events at Roseville Covenant Church\, the Rice and Arlington Field\, and the Allianz Field. You can learn more about this program and see the full list of dates here. All are welcome and this visit does count as a food shelf visit. \nRegistration is not required for the events! \nThis event will take place at Allianz Field\, 400 Snelling Ave. N\, St. Paul\, MN 55104 from 10:00 a.m. to 12:00 p.m. This season’s Allianz Field event dates are: \n\nAugust 23\nSeptember 20\n\nFor driving to this event\, please drive North on Snelling Avenue and then turn East onto Spruce Tree Drive (before you get to University Avenue). Our staff and volunteers will direct you from there.
URL:https://keystoneservices.org/events/free-farmers-market-allianz-field-2-2024-07-19/2024-08-23/
LOCATION:Allianz Field\, 400 Snelling Avenue N\, St. Paul\, MN\, 55104\, United States
GEO:44.952885;-93.165213
X-APPLE-STRUCTURED-LOCATION;VALUE=URI;X-ADDRESS=Allianz Field 400 Snelling Avenue N St. Paul MN 55104 United States;X-APPLE-RADIUS=500;X-TITLE=400 Snelling Avenue N:geo:-93.165213,44.952885
END:VEVENT
END:VCALENDAR