BEGIN:VCALENDAR
VERSION:2.0
PRODID:-//Keystone Community Services - ECPv6.15.17.1//NONSGML v1.0//EN
CALSCALE:GREGORIAN
METHOD:PUBLISH
X-ORIGINAL-URL:https://keystoneservices.org
X-WR-CALDESC:Events for Keystone Community Services
REFRESH-INTERVAL;VALUE=DURATION:PT1H
X-Robots-Tag:noindex
X-PUBLISHED-TTL:PT1H
BEGIN:VTIMEZONE
TZID:America/Chicago
BEGIN:DAYLIGHT
TZOFFSETFROM:-0600
TZOFFSETTO:-0500
TZNAME:CDT
DTSTART:20240310T080000
END:DAYLIGHT
BEGIN:STANDARD
TZOFFSETFROM:-0500
TZOFFSETTO:-0600
TZNAME:CST
DTSTART:20241103T070000
END:STANDARD
BEGIN:DAYLIGHT
TZOFFSETFROM:-0600
TZOFFSETTO:-0500
TZNAME:CDT
DTSTART:20250309T080000
END:DAYLIGHT
BEGIN:STANDARD
TZOFFSETFROM:-0500
TZOFFSETTO:-0600
TZNAME:CST
DTSTART:20251102T070000
END:STANDARD
BEGIN:DAYLIGHT
TZOFFSETFROM:-0600
TZOFFSETTO:-0500
TZNAME:CDT
DTSTART:20260308T080000
END:DAYLIGHT
BEGIN:STANDARD
TZOFFSETFROM:-0500
TZOFFSETTO:-0600
TZNAME:CST
DTSTART:20261101T070000
END:STANDARD
END:VTIMEZONE
BEGIN:VEVENT
DTSTART;TZID=America/Chicago:20250912T100000
DTEND;TZID=America/Chicago:20250912T120000
DTSTAMP:20260422T173111
CREATED:20250603T162832Z
LAST-MODIFIED:20250603T162832Z
UID:10002390-1757671200-1757678400@keystoneservices.org
SUMMARY:Free Farmers Market 2025 – Allianz Field
DESCRIPTION:Keystone is committed to giving people in our community access to fresh produce and healthy foods. Throughout the summer season\, Keystone will offer its events at Roseville Covenant Church\, the Rice and Arlington Field\, and the Allianz Field. You can learn more about this program and see the full list of dates here. All are welcome and this visit does count as a food shelf visit. \nRegistration is not required for the events! \nThis event will take place at Allianz Field\, 400 Snelling Ave. N\, St. Paul\, MN 55104 from 10:00 a.m. to 12:00 p.m. This season’s Allianz Field event dates are: \n\nJune 13\nJuly 18\nAugust 8\nSeptember 12\n\nFor driving to this event\, please drive North on Snelling Avenue and then turn East onto Spruce Tree Drive (before you get to University Avenue). Our staff and volunteers will direct you from there.
URL:https://keystoneservices.org/events/free-farmers-market-2025-allianz-field/2025-09-12/
LOCATION:MN
END:VEVENT
END:VCALENDAR