BEGIN:VCALENDAR
VERSION:2.0
PRODID:-//Keystone Community Services - ECPv6.15.17.1//NONSGML v1.0//EN
CALSCALE:GREGORIAN
METHOD:PUBLISH
X-WR-CALNAME:Keystone Community Services
X-ORIGINAL-URL:https://keystoneservices.org
X-WR-CALDESC:Events for Keystone Community Services
REFRESH-INTERVAL;VALUE=DURATION:PT1H
X-Robots-Tag:noindex
X-PUBLISHED-TTL:PT1H
BEGIN:VTIMEZONE
TZID:America/Chicago
BEGIN:DAYLIGHT
TZOFFSETFROM:-0600
TZOFFSETTO:-0500
TZNAME:CDT
DTSTART:20190310T080000
END:DAYLIGHT
BEGIN:STANDARD
TZOFFSETFROM:-0500
TZOFFSETTO:-0600
TZNAME:CST
DTSTART:20191103T070000
END:STANDARD
BEGIN:DAYLIGHT
TZOFFSETFROM:-0600
TZOFFSETTO:-0500
TZNAME:CDT
DTSTART:20200308T080000
END:DAYLIGHT
BEGIN:STANDARD
TZOFFSETFROM:-0500
TZOFFSETTO:-0600
TZNAME:CST
DTSTART:20201101T070000
END:STANDARD
BEGIN:DAYLIGHT
TZOFFSETFROM:-0600
TZOFFSETTO:-0500
TZNAME:CDT
DTSTART:20210314T080000
END:DAYLIGHT
BEGIN:STANDARD
TZOFFSETFROM:-0500
TZOFFSETTO:-0600
TZNAME:CST
DTSTART:20211107T070000
END:STANDARD
BEGIN:DAYLIGHT
TZOFFSETFROM:-0600
TZOFFSETTO:-0500
TZNAME:CDT
DTSTART:20220313T080000
END:DAYLIGHT
BEGIN:STANDARD
TZOFFSETFROM:-0500
TZOFFSETTO:-0600
TZNAME:CST
DTSTART:20221106T070000
END:STANDARD
END:VTIMEZONE
BEGIN:VEVENT
DTSTART;TZID=America/Chicago:20200714T120000
DTEND;TZID=America/Chicago:20200714T140000
DTSTAMP:20260420T064953
CREATED:20200707T230340Z
LAST-MODIFIED:20200714T133812Z
UID:10001494-1594728000-1594735200@keystoneservices.org
SUMMARY:Free Farmers Market - In a Box (Roseville)
DESCRIPTION:This Free Farmers Market In A Box Event is open to anyone in the community needing food support and is intended for residents of the Roseville community. \nEvery household will receive: \n\n1 box of fruits and vegetables\n1 box of mixed dairy items\n1 box of meat (chicken & pork)\n\nThis program is made possible by the COVID Food Assistance Program and we are grateful for our partners at Second Harvest Heartland who are assisting with this event.  \n\nWhen: Tuesday\, July 14\nWhere: Roseville High School\, 1240 County Road B2 W\, Roseville\nNO pre-registration is needed.\nWe encourage driving to the event for safe food delivery and convenience in bringing items home.\n\nThis event will happen rain or shine but caution will be taken if there is severe weather.  \nNote: We will be offering three boxes — one produce\, one dairy\, and one meat. All of these boxes were pre-packed by the USDA as part of the COVID Food Assistance Program as a way to preserve fresh items from local farmers. Please note\, that the meat boxes will/may contain pork. We apologize in advance for the families who do not eat pork. You can take the box and give the pork items to a friend/neighbor OR you can take the other two boxes. \nWe will have enough food to serve 500 households. We will run the event while supplies last. \n  \n\n 
URL:https://keystoneservices.org/events/free-farmers-market-in-a-box-roseville/
LOCATION:Roseville High School\, 1240 County Road B2 W\, Roseville\, MN\, 55113\, United States
GEO:45.0127953;-93.1521097
X-APPLE-STRUCTURED-LOCATION;VALUE=URI;X-ADDRESS=Roseville High School 1240 County Road B2 W Roseville MN 55113 United States;X-APPLE-RADIUS=500;X-TITLE=1240 County Road B2 W:geo:-93.1521097,45.0127953
END:VEVENT
BEGIN:VEVENT
DTSTART;TZID=America/Chicago:20200819T100000
DTEND;TZID=America/Chicago:20200819T120000
DTSTAMP:20260420T064953
CREATED:20200817T153714Z
LAST-MODIFIED:20200817T153714Z
UID:10001540-1597831200-1597838400@keystoneservices.org
SUMMARY:Free Fresh Food Drive-Through Distribution
DESCRIPTION:Drive by Roseville Area High School on Wednesday\, August 19 between 10:00 am and 12:00 pm for a FREE fresh food distribution! \nDate: Wednesday\, August 19 \nTime: 10:00 a.m. – 12:00 p.m. \nLocation: Roseville Area High School\, 1240 County Road B2 W\, Roseville\, MN 55113 \nNo pre-registration is required for this event. When you arrive\, you will simply be asked how many households you’re picking up for and what your zip code is. That’s it! Each household will receive fresh produce\, meat\, and dairy products. \nThis event is open to anyone in the community in need of additional food resources
URL:https://keystoneservices.org/events/free-fresh-food-drive-through-distribution/
LOCATION:Roseville High School\, 1240 County Road B2 W\, Roseville\, MN\, 55113\, United States
GEO:45.0127953;-93.1521097
X-APPLE-STRUCTURED-LOCATION;VALUE=URI;X-ADDRESS=Roseville High School 1240 County Road B2 W Roseville MN 55113 United States;X-APPLE-RADIUS=500;X-TITLE=1240 County Road B2 W:geo:-93.1521097,45.0127953
END:VEVENT
BEGIN:VEVENT
DTSTART;TZID=America/Chicago:20200912T100000
DTEND;TZID=America/Chicago:20200912T123000
DTSTAMP:20260420T064953
CREATED:20200902T170904Z
LAST-MODIFIED:20200902T170938Z
UID:10001301-1599904800-1599913800@keystoneservices.org
SUMMARY:Culture Connection Food Distribution
DESCRIPTION:A FREE food distribution tailored toward Southeast Asian diets. \n\nEach households will receive one bag of dry goods\, such as soy sauce\, rice flour\, bamboo shoots\, jasmine rice\, etc.\, and one bag of fresh produce.\nDrive-through participant preferred\, but walk-up participants will be served.\nNo pre-registration necessary! Available to anyone in need.\n\nHmong\, Karen\, and Spanish interpreters will be available.
URL:https://keystoneservices.org/events/culture-connection-food-distribution/
LOCATION:McDonough Homes Rec Center\, 1544 Timberlake Rd\, St. Paul\, MN\, 55117\, United States
GEO:44.9876869;-93.0925941
X-APPLE-STRUCTURED-LOCATION;VALUE=URI;X-ADDRESS=McDonough Homes Rec Center 1544 Timberlake Rd St. Paul MN 55117 United States;X-APPLE-RADIUS=500;X-TITLE=1544 Timberlake Rd:geo:-93.0925941,44.9876869
END:VEVENT
BEGIN:VEVENT
DTSTART;TZID=America/Chicago:20201121T090000
DTEND;TZID=America/Chicago:20201121T130000
DTSTAMP:20260420T064953
CREATED:20201109T194637Z
LAST-MODIFIED:20201120T172822Z
UID:10001594-1605949200-1605963600@keystoneservices.org
SUMMARY:Fall Free Food Event - Pre-Registration Required
DESCRIPTION:This is a pre-registration ONLY event for people in need to receive free food. \nPre-registration is required to receive food packages for this event. Read full event details below and complete the registration link to sign up.\n\nWhat will I receive? Every household will receive: \n\nFresh produce\nMeat and dairy products\nShelf stable food items\n\nWho can participate? This event is open to anyone in need of food support. It is intended for Ramsey County residents but anyone is welcome. \nWhere is the event being held? The event will be held at the Roseville Public Works Building at 2660 Civic Center Drive\, Roseville\, MN 55113. \nWhen is the event? The event is on Saturday\, November 21. \nHow do I participate? This event requires pre-registration! To manage car traffic and guarantee quick service delivery\, participants are required to sign up in advance. ALL REGISTRATION SPOTS HAVE BEEN FILLED.  All households picking up the food packages must arrive only during your assigned pick up time slot.  You may carpool with friends or family but every household must register separately to ensure we have enough food for everyone. This event will be offered in a drive-through model for everyone’s safety. \nHow do I sign up?  \nRegistration for this event is closed. We have filled all 1\,000 registration spots. To receive food support\, please participate in Keystone food shelves. More information is available online at www.keystoneservices.org/food-shelves/ or you can call us at 651-645-0349 for more information. \nImportant Notes: An event confirmation email will be sent immediately after you hit SUBMIT below and YOUR EMAIL CONFIRMATION will be your “ticket” to attend. Please keep the confirmation email and be prepared to show your “ticket” on your phone or as a printed copy when you enter the event.  Keystone will send one other email with final event details prior to the event. \nHave a question about the event not answered here? Call us at 651-645-0349.
URL:https://keystoneservices.org/events/fall-free-food-event-pre-registration-required/
LOCATION:Roseville Public Works Building\, 2660 Civic Center Drive\, Roseville\, MN\, 55113\, United States
ORGANIZER;CN="Keystone Community Services":MAILTO:info@keystoneservices.org
GEO:45.0209625;-93.1482244
X-APPLE-STRUCTURED-LOCATION;VALUE=URI;X-ADDRESS=Roseville Public Works Building 2660 Civic Center Drive Roseville MN 55113 United States;X-APPLE-RADIUS=500;X-TITLE=2660 Civic Center Drive:geo:-93.1482244,45.0209625
END:VEVENT
BEGIN:VEVENT
DTSTART;TZID=America/Chicago:20210306T090000
DTEND;TZID=America/Chicago:20210306T121500
DTSTAMP:20260420T064953
CREATED:20210218T190107Z
LAST-MODIFIED:20210304T175032Z
UID:10001681-1615021200-1615032900@keystoneservices.org
SUMMARY:March Free Fresh Food Event - Pre-registration Required
DESCRIPTION:Pre-registration is required to receive food packages for this event. Read full event details below and complete the registration link to sign up.\n\nWhat will I receive? Every household will receive one box that includes: \n\nFresh produce\nMeat products\nDairy products\nShelf-Stable Items\n\nWho can participate? This event is open to anyone in need of food support. It is intended for Ramsey County residents but anyone is welcome. \nWhere is the event being held? The event will be held at Roseville Public Works\, 2660 Civic Center Dr\, Roseville\, MN 55113 \nWhen is the event? The event is on Saturday\, March 6. \nHow do I participate? This event requires pre-registration! To manage car traffic and guarantee quick service delivery\, participants are required to sign up in advance. All households picking up the food packages must arrive only during your assigned pick up time slot. You may carpool with friends or family but every household must register separately to ensure we have enough food for everyone. This event will be offered in a drive-through model for everyone’s safety. \nHow do I sign up? \n  \n9:00 a.m. time slot – FILLED \n9:30 a.m. time slot – FILLED \n10:00 a.m. time slot – FILLED  \nSign up for 10:45 – 11:15 a.m. time slot  \n  \nSign up for 11:15 – 11:45 a.m. time slot \n11:45 a.m. time slot – FILLED \n  \nImportant Notes: An event confirmation email will be sent immediately after you hit SUBMIT below and YOUR EMAIL CONFIRMATION will be your “ticket” to attend. Please keep the confirmation email and be prepared to show your “ticket” on your phone or as a printed copy when you enter the event.  Keystone will send one other email with final event details prior to the event. \nHave a question about the event not answered here? Call us at 651-645-0349.\nSigned up for the event?\nPlans change? If you signed up for the event but are unable to make it on the 6th\, please let us know so we can open your spot to someone else. You can let us know by calling 651-645-0349 or emailing us at info@keystoneservices.org.
URL:https://keystoneservices.org/events/march-free-fresh-food-event-pre-registration-required/
LOCATION:Roseville Public Works Building\, 2660 Civic Center Drive\, Roseville\, MN\, 55113\, United States
GEO:45.0209625;-93.1482244
X-APPLE-STRUCTURED-LOCATION;VALUE=URI;X-ADDRESS=Roseville Public Works Building 2660 Civic Center Drive Roseville MN 55113 United States;X-APPLE-RADIUS=500;X-TITLE=2660 Civic Center Drive:geo:-93.1482244,45.0209625
END:VEVENT
BEGIN:VEVENT
DTSTART;TZID=America/Chicago:20210521T093000
DTEND;TZID=America/Chicago:20210521T123000
DTSTAMP:20260420T064953
CREATED:20210510T215301Z
LAST-MODIFIED:20210519T201705Z
UID:10001736-1621589400-1621600200@keystoneservices.org
SUMMARY:Drive Through Food Distribution
DESCRIPTION:This is a pre-registration ONLY event for people in need to receive free\, fresh food package & Shelf Stable Grocery Items. \nPre-registration is required to receive food packages for this event. Read full event details below and complete the registration link to sign up. Thank you to our partners who are helping make this event possible: Allianz Life\, Minnesota United FC\, and Second Harvest Heartland.\n  \nWhen is the event? \nThe event is on Friday\, May 21\, 2021. There are separate registration links for each food distribution time. \n  \nWhere is the event being held? \nThe event will be held in front of Allianz Field\, located at 400 Snelling Avenue N.\, St. Paul. The event will take place on the north side of the stadium. \n  \nWhat will I receive? \nEvery household will receive:\n– 1 box of meat\, produce\, and dairy items\n– 1 gallon of milk\n– 1 bag of shelf-stable items \n  \nWho can participate? \nThis event is open to anyone in need of food support. It is intended for Ramsey County residents but anyone is welcome. \n  \nHow do I participate? \nThis event requires pre-registration! To manage car traffic and guarantee quick service delivery for participants\, everyone is required to sign up in advance. Space is limited. All households picking up the food packages must arrive only during your assigned pick up time slot. DO NOT ARRIVE EARLY as it will cause traffic issues — by registering you are guaranteed food packages. This event will be offered in a drive-through model for everyone’s safety. \n  \nHow do I Register?  \n  \n9:30 a.m. time slot – FILLED  \n  \nRegister for the 10:00 a.m. time slot \n  \nRegister for the 10:30 a.m. time slot \n  \nRegister for the 11:00 a.m. time slot \n  \nRegister for the 11:30 a.m. time slot \n  \n12:00 p.m. time slot – FILLED  \n  \nWhat if I want food but can’t participate at this time? \nThis event time or date doesn’t work for you but you need food support\, please visit a Keystone food shelf or participate in our other food programs. Complete information about our services is available online at www.keystoneservices.org/food-shelves/ or you can call us at 651-645-0349 for more information. \n  \nImportant Notes: \nAn event confirmation email will be sent immediately after you hit SUBMIT below and YOUR EMAIL CONFIRMATION will be your “ticket” to attend. Please keep the confirmation email and be prepared to show your “ticket” on your phone or as a printed copy when you enter the event.  Keystone will send one other email with final event details prior to the event. \n  \nSigned up? Here is some more information: \nDriving instructions: You will ONLY be able to enter the stadium area by driving North on Snelling Avenue. You will enter on Spruce Tree Drive. From there please follow direction from staff and volunteers to drive around the space to pick up your food and exit the stadium area. Here is an event map that shows your route: \n \nPlease HAVE YOUR “TICKET” Ready Upon Arrival: lease have your email confirmation or a printed copy of the email ready to show staff upon arrival. You are welcome to drive with other registered participants but if you have more than one registered household in the vehicle just let us know when you arrive. \nArrival Time: There are six specific pick-up time slots and you are welcome to arrive anytime during the half-hour time slot you are signed up for. Please DO NOT arrive early or late — ONLY ARRIVE AT YOUR SCHEDULED PICK UP TIME. We need to limit the number of cars at the site.
URL:https://keystoneservices.org/events/drive-through-distribution/
LOCATION:Allianz Field\, 400 Snelling Avenue N\, St. Paul\, MN\, 55104\, United States
GEO:44.952885;-93.165213
X-APPLE-STRUCTURED-LOCATION;VALUE=URI;X-ADDRESS=Allianz Field 400 Snelling Avenue N St. Paul MN 55104 United States;X-APPLE-RADIUS=500;X-TITLE=400 Snelling Avenue N:geo:-93.165213,44.952885
END:VEVENT
BEGIN:VEVENT
DTSTART;TZID=America/Chicago:20210827T100000
DTEND;TZID=America/Chicago:20210827T120000
DTSTAMP:20260420T064953
CREATED:20210803T160127Z
LAST-MODIFIED:20210826T143537Z
UID:10001788-1630058400-1630065600@keystoneservices.org
SUMMARY:Free Farmer's Market in a Box
DESCRIPTION:This is a pre-registration ONLY event for people in need to receive free\, fresh food package & Shelf Stable Grocery Items. \nPre-registration is required to receive food packages for this event. Read full event details below and complete the registration link to sign up. Thank you to our partners who are helping make this event possible: Allianz Life\, Minnesota United FC\, and Second Harvest Heartland.\n  \nWhen is the event? \nThe event is on Friday\, August 27\, 2021. There are separate registration links for each food distribution time. \n  \nWhere is the event being held? \nThe event will be held in front of Allianz Field\, located at 400 Snelling Avenue N.\, St. Paul. The event will take place on the north side of the stadium. \n  \nWhat will I receive? \nPlease note that the food offered at this event has changed. Every household will receive: \n– 1 bag of 5-7 varieties of fruits and vegetables \n– Assorted shelf stable grocery items \n  \nWho can participate? \nThis event is open to anyone in need of food support. It is intended for Ramsey County residents but anyone is welcome. \n  \nHow do I participate? \nThis event requires pre-registration! To manage car traffic and guarantee quick service delivery for participants\, everyone is required to sign up in advance. Space is limited. All households picking up the food packages must arrive only during your assigned pick up time slot. DO NOT ARRIVE EARLY as it will cause traffic issues — by registering you are guaranteed food packages. This event will be offered in a drive-through model for everyone’s safety. \n  \nHow do I Register?  \n  \n10:00 time slot – CLOSED/FILLED \n  \nRegister for the 10:30 a.m. time slot \n  \nRegister for the 11:00 a.m. time slot \n  \nRegister for the 11:30 a.m. time slot \n  \nWhat if I want food but can’t participate at this time? \nThis event time or date doesn’t work for you but you need food support\, please visit a Keystone food shelf or participate in our other food programs. Complete information about our services is available online at www.keystoneservices.org/food-shelves/ or you can call us at 651-645-0349 for more information. \nIn addition to our food shelves\, Keystone will be hosting more distributions this summer. We are hosting food distributions across Ramsey County every Friday through September. You can find dates and locations on our website calendar! \n  \nImportant Notes: \nAn event confirmation email will be sent immediately after you hit SUBMIT below and YOUR EMAIL CONFIRMATION will be your “ticket” to attend. Please keep the confirmation email and be prepared to show your “ticket” on your phone or as a printed copy when you enter the event.  Keystone will send one other email with final event details prior to the event. \n  \nSigned up? Here is some more information: \nDriving instructions: You will ONLY be able to enter the stadium area by driving North on Snelling Avenue. You will enter on Spruce Tree Drive. From there please follow direction from staff and volunteers to drive around the space to pick up your food and exit the stadium area. Here is an event map that shows your route: \n \nPlease HAVE YOUR “TICKET” Ready Upon Arrival: lease have your email confirmation or a printed copy of the email ready to show staff upon arrival. You are welcome to drive with other registered participants but if you have more than one registered household in the vehicle just let us know when you arrive. \nArrival Time: There are six specific pick-up time slots and you are welcome to arrive anytime during the half-hour time slot you are signed up for. Please DO NOT arrive early or late — ONLY ARRIVE AT YOUR SCHEDULED PICK UP TIME. We need to limit the number of cars at the site.
URL:https://keystoneservices.org/events/free-farmers-market-in-a-box-2/
LOCATION:Allianz Field\, 400 Snelling Avenue N\, St. Paul\, MN\, 55104\, United States
GEO:44.952885;-93.165213
X-APPLE-STRUCTURED-LOCATION;VALUE=URI;X-ADDRESS=Allianz Field 400 Snelling Avenue N St. Paul MN 55104 United States;X-APPLE-RADIUS=500;X-TITLE=400 Snelling Avenue N:geo:-93.165213,44.952885
END:VEVENT
END:VCALENDAR