BEGIN:VCALENDAR
VERSION:2.0
PRODID:-//Keystone Community Services - ECPv6.15.17.1//NONSGML v1.0//EN
CALSCALE:GREGORIAN
METHOD:PUBLISH
X-WR-CALNAME:Keystone Community Services
X-ORIGINAL-URL:https://keystoneservices.org
X-WR-CALDESC:Events for Keystone Community Services
REFRESH-INTERVAL;VALUE=DURATION:PT1H
X-Robots-Tag:noindex
X-PUBLISHED-TTL:PT1H
BEGIN:VTIMEZONE
TZID:America/Chicago
BEGIN:DAYLIGHT
TZOFFSETFROM:-0600
TZOFFSETTO:-0500
TZNAME:CDT
DTSTART:20190310T080000
END:DAYLIGHT
BEGIN:STANDARD
TZOFFSETFROM:-0500
TZOFFSETTO:-0600
TZNAME:CST
DTSTART:20191103T070000
END:STANDARD
BEGIN:DAYLIGHT
TZOFFSETFROM:-0600
TZOFFSETTO:-0500
TZNAME:CDT
DTSTART:20200308T080000
END:DAYLIGHT
BEGIN:STANDARD
TZOFFSETFROM:-0500
TZOFFSETTO:-0600
TZNAME:CST
DTSTART:20201101T070000
END:STANDARD
BEGIN:DAYLIGHT
TZOFFSETFROM:-0600
TZOFFSETTO:-0500
TZNAME:CDT
DTSTART:20210314T080000
END:DAYLIGHT
BEGIN:STANDARD
TZOFFSETFROM:-0500
TZOFFSETTO:-0600
TZNAME:CST
DTSTART:20211107T070000
END:STANDARD
BEGIN:DAYLIGHT
TZOFFSETFROM:-0600
TZOFFSETTO:-0500
TZNAME:CDT
DTSTART:20220313T080000
END:DAYLIGHT
BEGIN:STANDARD
TZOFFSETFROM:-0500
TZOFFSETTO:-0600
TZNAME:CST
DTSTART:20221106T070000
END:STANDARD
BEGIN:DAYLIGHT
TZOFFSETFROM:-0600
TZOFFSETTO:-0500
TZNAME:CDT
DTSTART:20230312T080000
END:DAYLIGHT
BEGIN:STANDARD
TZOFFSETFROM:-0500
TZOFFSETTO:-0600
TZNAME:CST
DTSTART:20231105T070000
END:STANDARD
END:VTIMEZONE
BEGIN:VEVENT
DTSTART;VALUE=DATE:20220426
DTEND;VALUE=DATE:20220427
DTSTAMP:20260425T084914
CREATED:20220426T132438Z
LAST-MODIFIED:20220426T132438Z
UID:10001955-1650931200-1651017599@keystoneservices.org
SUMMARY:Midway Food Shelf CLOSED
DESCRIPTION:The Keystone Midway Food Shelf is closed today due to unexpected staff shortage. Our Rice Street Food Shelf location is open as scheduled with food shelf service available from 10:00 a.m. – 12:00 p.m. and 1:30 – 3:30 p.m. Thank you for your understanding.
URL:https://keystoneservices.org/events/midway-food-shelf-closed-4/
LOCATION:Midway Food Shelf\, 1916 University Avenue\, St. Paul\, MN\, 55104
GEO:44.956963;-93.1807191
X-APPLE-STRUCTURED-LOCATION;VALUE=URI;X-ADDRESS=Midway Food Shelf 1916 University Avenue St. Paul MN 55104;X-APPLE-RADIUS=500;X-TITLE=1916 University Avenue:geo:-93.1807191,44.956963
END:VEVENT
BEGIN:VEVENT
DTSTART;TZID=America/Chicago:20210728T100000
DTEND;TZID=America/Chicago:20210728T120000
DTSTAMP:20260425T084914
CREATED:20210723T135217Z
LAST-MODIFIED:20210723T135217Z
UID:10001780-1627466400-1627473600@keystoneservices.org
SUMMARY:Midway Food Shelf Closed
DESCRIPTION:The Midway Food Shelf will have altered service schedule July 26-28. The food shelf will be CLOSED the following dates/times: \nMonday\, July 26: CLOSED 1:30 – 3:30 p.m. (Open in the morning from 10:00 a.m. – 12:00 p.m.)\nTuesday\, July 27: CLOSED 1:30 – 3:30 p.m. (Open in the morning from 10:00 a.m. – 12:00 p.m.)\nWednesday\, July 28: CLOSED All Day \nPlease note\, our Rice Street Shelf will be open for morning\, afternoon\, and Wednesday morning service. Please visit our Rice Street Food Shelf at 1459 Rice Street\, St. Paul. \nThank you for your understanding.
URL:https://keystoneservices.org/events/midway-food-shelf-closed-2/2021-07-28/
LOCATION:Midway Food Shelf\, 1916 University Avenue\, St. Paul\, MN\, 55104
GEO:44.956963;-93.1807191
X-APPLE-STRUCTURED-LOCATION;VALUE=URI;X-ADDRESS=Midway Food Shelf 1916 University Avenue St. Paul MN 55104;X-APPLE-RADIUS=500;X-TITLE=1916 University Avenue:geo:-93.1807191,44.956963
END:VEVENT
BEGIN:VEVENT
DTSTART;TZID=America/Chicago:20210727T133000
DTEND;TZID=America/Chicago:20210727T153000
DTSTAMP:20260425T084914
CREATED:20210723T135217Z
LAST-MODIFIED:20210723T135217Z
UID:10001779-1627392600-1627399800@keystoneservices.org
SUMMARY:Midway Food Shelf Closed
DESCRIPTION:The Midway Food Shelf will have altered service schedule July 26-28. The food shelf will be CLOSED the following dates/times: \nMonday\, July 26: CLOSED 1:30 – 3:30 p.m. (Open in the morning from 10:00 a.m. – 12:00 p.m.)\nTuesday\, July 27: CLOSED 1:30 – 3:30 p.m. (Open in the morning from 10:00 a.m. – 12:00 p.m.)\nWednesday\, July 28: CLOSED All Day \nPlease note\, our Rice Street Shelf will be open for morning\, afternoon\, and Wednesday morning service. Please visit our Rice Street Food Shelf at 1459 Rice Street\, St. Paul. \nThank you for your understanding.
URL:https://keystoneservices.org/events/midway-food-shelf-closed-2/2021-07-27/
LOCATION:Midway Food Shelf\, 1916 University Avenue\, St. Paul\, MN\, 55104
GEO:44.956963;-93.1807191
X-APPLE-STRUCTURED-LOCATION;VALUE=URI;X-ADDRESS=Midway Food Shelf 1916 University Avenue St. Paul MN 55104;X-APPLE-RADIUS=500;X-TITLE=1916 University Avenue:geo:-93.1807191,44.956963
END:VEVENT
BEGIN:VEVENT
DTSTART;TZID=America/Chicago:20210726T133000
DTEND;TZID=America/Chicago:20210726T153000
DTSTAMP:20260425T084914
CREATED:20210723T135217Z
LAST-MODIFIED:20210723T135217Z
UID:10001778-1627306200-1627313400@keystoneservices.org
SUMMARY:Midway Food Shelf Closed
DESCRIPTION:The Midway Food Shelf will have altered service schedule July 26-28. The food shelf will be CLOSED the following dates/times: \nMonday\, July 26: CLOSED 1:30 – 3:30 p.m. (Open in the morning from 10:00 a.m. – 12:00 p.m.)\nTuesday\, July 27: CLOSED 1:30 – 3:30 p.m. (Open in the morning from 10:00 a.m. – 12:00 p.m.)\nWednesday\, July 28: CLOSED All Day \nPlease note\, our Rice Street Shelf will be open for morning\, afternoon\, and Wednesday morning service. Please visit our Rice Street Food Shelf at 1459 Rice Street\, St. Paul. \nThank you for your understanding.
URL:https://keystoneservices.org/events/midway-food-shelf-closed-2/2021-07-26/
LOCATION:Midway Food Shelf\, 1916 University Avenue\, St. Paul\, MN\, 55104
GEO:44.956963;-93.1807191
X-APPLE-STRUCTURED-LOCATION;VALUE=URI;X-ADDRESS=Midway Food Shelf 1916 University Avenue St. Paul MN 55104;X-APPLE-RADIUS=500;X-TITLE=1916 University Avenue:geo:-93.1807191,44.956963
END:VEVENT
BEGIN:VEVENT
DTSTART;TZID=America/Chicago:20210306T090000
DTEND;TZID=America/Chicago:20210306T121500
DTSTAMP:20260425T084914
CREATED:20210218T190107Z
LAST-MODIFIED:20210304T175032Z
UID:10001681-1615021200-1615032900@keystoneservices.org
SUMMARY:March Free Fresh Food Event - Pre-registration Required
DESCRIPTION:Pre-registration is required to receive food packages for this event. Read full event details below and complete the registration link to sign up.\n\nWhat will I receive? Every household will receive one box that includes: \n\nFresh produce\nMeat products\nDairy products\nShelf-Stable Items\n\nWho can participate? This event is open to anyone in need of food support. It is intended for Ramsey County residents but anyone is welcome. \nWhere is the event being held? The event will be held at Roseville Public Works\, 2660 Civic Center Dr\, Roseville\, MN 55113 \nWhen is the event? The event is on Saturday\, March 6. \nHow do I participate? This event requires pre-registration! To manage car traffic and guarantee quick service delivery\, participants are required to sign up in advance. All households picking up the food packages must arrive only during your assigned pick up time slot. You may carpool with friends or family but every household must register separately to ensure we have enough food for everyone. This event will be offered in a drive-through model for everyone’s safety. \nHow do I sign up? \n  \n9:00 a.m. time slot – FILLED \n9:30 a.m. time slot – FILLED \n10:00 a.m. time slot – FILLED  \nSign up for 10:45 – 11:15 a.m. time slot  \n  \nSign up for 11:15 – 11:45 a.m. time slot \n11:45 a.m. time slot – FILLED \n  \nImportant Notes: An event confirmation email will be sent immediately after you hit SUBMIT below and YOUR EMAIL CONFIRMATION will be your “ticket” to attend. Please keep the confirmation email and be prepared to show your “ticket” on your phone or as a printed copy when you enter the event.  Keystone will send one other email with final event details prior to the event. \nHave a question about the event not answered here? Call us at 651-645-0349.\nSigned up for the event?\nPlans change? If you signed up for the event but are unable to make it on the 6th\, please let us know so we can open your spot to someone else. You can let us know by calling 651-645-0349 or emailing us at info@keystoneservices.org.
URL:https://keystoneservices.org/events/march-free-fresh-food-event-pre-registration-required/
LOCATION:Roseville Public Works Building\, 2660 Civic Center Drive\, Roseville\, MN\, 55113\, United States
GEO:45.0209625;-93.1482244
X-APPLE-STRUCTURED-LOCATION;VALUE=URI;X-ADDRESS=Roseville Public Works Building 2660 Civic Center Drive Roseville MN 55113 United States;X-APPLE-RADIUS=500;X-TITLE=2660 Civic Center Drive:geo:-93.1482244,45.0209625
END:VEVENT
BEGIN:VEVENT
DTSTART;TZID=America/Chicago:20201230T140000
DTEND;TZID=America/Chicago:20201230T163000
DTSTAMP:20260425T084914
CREATED:20201210T215938Z
LAST-MODIFIED:20201210T223818Z
UID:10001649-1609336800-1609345800@keystoneservices.org
SUMMARY:Midway Food Shelf Closed for Afternoon Service
DESCRIPTION:During the week of December 28\, our food shelf locations will be only open for one service time each day. \nOur Midway Food Shelf will be closed for afternoon service on Monday\, December 28 and Wednesday\, December 30. On that day\, we will be open for morning service from 10:00 a.m. – 12:30 p.m.
URL:https://keystoneservices.org/events/midway-food-shelf-closed-for-afternoon-service/2020-12-30/
LOCATION:Midway Food Shelf\, 1916 University Avenue\, St. Paul\, MN\, 55104
GEO:44.956963;-93.1807191
X-APPLE-STRUCTURED-LOCATION;VALUE=URI;X-ADDRESS=Midway Food Shelf 1916 University Avenue St. Paul MN 55104;X-APPLE-RADIUS=500;X-TITLE=1916 University Avenue:geo:-93.1807191,44.956963
END:VEVENT
BEGIN:VEVENT
DTSTART;TZID=America/Chicago:20201230T100000
DTEND;TZID=America/Chicago:20201230T123000
DTSTAMP:20260425T084914
CREATED:20201210T224028Z
LAST-MODIFIED:20201210T224028Z
UID:10001652-1609322400-1609331400@keystoneservices.org
SUMMARY:Rice Street Food Shelf Closed for Morning Service
DESCRIPTION:During the week of December 28\, our food shelf locations will be only open for one service time each day. \nOur Rice Street Food Shelf will be closed for morning service on Monday\, December 28 and Wednesday\, December 30. On those days\, we will be open for afternoon service from 2:00 – 4:30 p.m.
URL:https://keystoneservices.org/events/rice-street-food-shelf-closed-for-morning-service/2020-12-30/
LOCATION:MN
END:VEVENT
BEGIN:VEVENT
DTSTART;TZID=America/Chicago:20201229T140000
DTEND;TZID=America/Chicago:20201229T163000
DTSTAMP:20260425T084914
CREATED:20201210T223620Z
LAST-MODIFIED:20201210T223620Z
UID:10001650-1609250400-1609259400@keystoneservices.org
SUMMARY:Rice Street Food Shelf Closed for Afternoon Service
DESCRIPTION:During the week of December 28\, our food shelf locations will be only open for one service time each day. \nOur Rice Street Food Shelf will be closed for afternoon service on Tuesday\, December 29. On that day\, we will be open for morning service from 10:00 a.m. – 12:30 p.m.
URL:https://keystoneservices.org/events/rice-street-food-shelf-closed-for-afternoon-service/
LOCATION:Rice Street Food Shelf\, 1459 Rice Street\, St. Paul\, MN\, 55117\, United States
GEO:44.9849346;-93.1062465
X-APPLE-STRUCTURED-LOCATION;VALUE=URI;X-ADDRESS=Rice Street Food Shelf 1459 Rice Street St. Paul MN 55117 United States;X-APPLE-RADIUS=500;X-TITLE=1459 Rice Street:geo:-93.1062465,44.9849346
END:VEVENT
BEGIN:VEVENT
DTSTART;TZID=America/Chicago:20201229T100000
DTEND;TZID=America/Chicago:20201229T123000
DTSTAMP:20260425T084914
CREATED:20201210T215656Z
LAST-MODIFIED:20201210T223721Z
UID:10001646-1609236000-1609245000@keystoneservices.org
SUMMARY:Midway Food Shelf Closed for Morning Service
DESCRIPTION:During the week of December 28\, our food shelf locations will be only open for one service time each day. \nOur Midway Food Shelf will be closed for morning service on Tuesday\, December 29. On that date\, we will be open for afternoon service from 2:00 – 4:30 p.m.
URL:https://keystoneservices.org/events/midway-food-shelf-closed-for-morning-service/
LOCATION:Midway Food Shelf\, 1916 University Avenue\, St. Paul\, MN\, 55104
GEO:44.956963;-93.1807191
X-APPLE-STRUCTURED-LOCATION;VALUE=URI;X-ADDRESS=Midway Food Shelf 1916 University Avenue St. Paul MN 55104;X-APPLE-RADIUS=500;X-TITLE=1916 University Avenue:geo:-93.1807191,44.956963
END:VEVENT
BEGIN:VEVENT
DTSTART;TZID=America/Chicago:20201228T140000
DTEND;TZID=America/Chicago:20201228T163000
DTSTAMP:20260425T084914
CREATED:20201210T215938Z
LAST-MODIFIED:20201210T223818Z
UID:10001648-1609164000-1609173000@keystoneservices.org
SUMMARY:Midway Food Shelf Closed for Afternoon Service
DESCRIPTION:During the week of December 28\, our food shelf locations will be only open for one service time each day. \nOur Midway Food Shelf will be closed for afternoon service on Monday\, December 28 and Wednesday\, December 30. On that day\, we will be open for morning service from 10:00 a.m. – 12:30 p.m.
URL:https://keystoneservices.org/events/midway-food-shelf-closed-for-afternoon-service/2020-12-28/
LOCATION:Midway Food Shelf\, 1916 University Avenue\, St. Paul\, MN\, 55104
GEO:44.956963;-93.1807191
X-APPLE-STRUCTURED-LOCATION;VALUE=URI;X-ADDRESS=Midway Food Shelf 1916 University Avenue St. Paul MN 55104;X-APPLE-RADIUS=500;X-TITLE=1916 University Avenue:geo:-93.1807191,44.956963
END:VEVENT
BEGIN:VEVENT
DTSTART;TZID=America/Chicago:20201228T100000
DTEND;TZID=America/Chicago:20201228T123000
DTSTAMP:20260425T084914
CREATED:20201210T224028Z
LAST-MODIFIED:20201210T224028Z
UID:10001651-1609149600-1609158600@keystoneservices.org
SUMMARY:Rice Street Food Shelf Closed for Morning Service
DESCRIPTION:During the week of December 28\, our food shelf locations will be only open for one service time each day. \nOur Rice Street Food Shelf will be closed for morning service on Monday\, December 28 and Wednesday\, December 30. On those days\, we will be open for afternoon service from 2:00 – 4:30 p.m.
URL:https://keystoneservices.org/events/rice-street-food-shelf-closed-for-morning-service/2020-12-28/
LOCATION:MN
END:VEVENT
END:VCALENDAR