BEGIN:VCALENDAR
VERSION:2.0
PRODID:-//Keystone Community Services - ECPv6.15.17.1//NONSGML v1.0//EN
CALSCALE:GREGORIAN
METHOD:PUBLISH
X-ORIGINAL-URL:https://keystoneservices.org
X-WR-CALDESC:Events for Keystone Community Services
REFRESH-INTERVAL;VALUE=DURATION:PT1H
X-Robots-Tag:noindex
X-PUBLISHED-TTL:PT1H
BEGIN:VTIMEZONE
TZID:America/Chicago
BEGIN:DAYLIGHT
TZOFFSETFROM:-0600
TZOFFSETTO:-0500
TZNAME:CDT
DTSTART:20210314T080000
END:DAYLIGHT
BEGIN:STANDARD
TZOFFSETFROM:-0500
TZOFFSETTO:-0600
TZNAME:CST
DTSTART:20211107T070000
END:STANDARD
BEGIN:DAYLIGHT
TZOFFSETFROM:-0600
TZOFFSETTO:-0500
TZNAME:CDT
DTSTART:20220313T080000
END:DAYLIGHT
BEGIN:STANDARD
TZOFFSETFROM:-0500
TZOFFSETTO:-0600
TZNAME:CST
DTSTART:20221106T070000
END:STANDARD
BEGIN:DAYLIGHT
TZOFFSETFROM:-0600
TZOFFSETTO:-0500
TZNAME:CDT
DTSTART:20230312T080000
END:DAYLIGHT
BEGIN:STANDARD
TZOFFSETFROM:-0500
TZOFFSETTO:-0600
TZNAME:CST
DTSTART:20231105T070000
END:STANDARD
END:VTIMEZONE
BEGIN:VEVENT
DTSTART;TZID=America/Chicago:20221227T140000
DTEND;TZID=America/Chicago:20221227T160000
DTSTAMP:20260422T183031
CREATED:20221021T180656Z
LAST-MODIFIED:20221129T183949Z
UID:10002012-1672149600-1672156800@keystoneservices.org
SUMMARY:Foodmobile Public Distribution - Rice Street Library
DESCRIPTION:For people needing emergency food support we are pleased to offer public Foodmobile distribution events. Keystone’s Foodmobile will be onsite for a public food distribution at St. Paul Library – Rice Street Library location. \nPlease note that the Foodmobile is a Keystone food shelf and thus participants can only access services once a month. Visit here\, for more details about using the Foodmobile.
URL:https://keystoneservices.org/events/foodmobile-public-distribution-rice-street-library-2022-12-27/2022-12-27/
LOCATION:St. Paul Public Library – Rice Street Library\, 1011 Rice Street\, St. Paul\, MN\, 55117\, United States
GEO:44.9717938;-93.1063352
X-APPLE-STRUCTURED-LOCATION;VALUE=URI;X-ADDRESS=St. Paul Public Library – Rice Street Library 1011 Rice Street St. Paul MN 55117 United States;X-APPLE-RADIUS=500;X-TITLE=1011 Rice Street:geo:-93.1063352,44.9717938
END:VEVENT
BEGIN:VEVENT
DTSTART;TZID=America/Chicago:20221221T131500
DTEND;TZID=America/Chicago:20221221T151500
DTSTAMP:20260422T183031
CREATED:20221021T175656Z
LAST-MODIFIED:20221220T211838Z
UID:10002015-1671628500-1671635700@keystoneservices.org
SUMMARY:CANCELLED: Foodmobile Public Distribution - McDonough Rec Center
DESCRIPTION:Today’s Foodmobile Public Distribution at McDonough Rec Center is cancelled due to the forecasted temperature. The next Foodmobile Public Distribution at McDonough Rec Center is January 25th from 1:00pm to 3:00pm. \nFor people needing emergency food support we are pleased to offer public Foodmobile distribution events. Keystone’s Foodmobile will be onsite for a public food distribution at McDonough Recreation Center. \nPlease note that the Foodmobile is a Keystone food shelf and thus participants can only access services once a month. Visit here\, for more details about using the Foodmobile.
URL:https://keystoneservices.org/events/foodmobile-distribution-mcdonough-rec-center-2022-12-21/
LOCATION:McDonough Homes Rec Center\, 1544 Timberlake Rd\, St. Paul\, MN\, 55117\, United States
GEO:44.9876869;-93.0925941
X-APPLE-STRUCTURED-LOCATION;VALUE=URI;X-ADDRESS=McDonough Homes Rec Center 1544 Timberlake Rd St. Paul MN 55117 United States;X-APPLE-RADIUS=500;X-TITLE=1544 Timberlake Rd:geo:-93.0925941,44.9876869
END:VEVENT
BEGIN:VEVENT
DTSTART;TZID=America/Chicago:20221129T140000
DTEND;TZID=America/Chicago:20221129T160000
DTSTAMP:20260422T183031
CREATED:20221021T180656Z
LAST-MODIFIED:20221129T184707Z
UID:10002014-1669730400-1669737600@keystoneservices.org
SUMMARY:Cancelled Foodmobile Public Distribution - Rice Street Library
DESCRIPTION:Due to the snowy conditions\, Keystone’s Foodmobile Public Distribution at the Rice Street Library is cancelled today. This event is re-scheduled for tomorrow Wednesday\, November 30th from 2:00pm to 4:00pm. Everyone is welcome to visit our Rice Street Food Shelf located at 1459 Rice Street\, Suite 3\, St. Paul\, MN 55117. \nFor people needing emergency food support we are pleased to offer public Foodmobile distribution events. Keystone’s Foodmobile will be onsite for a public food distribution at St. Paul Library – Rice Street Library location. \nPlease note that the Foodmobile is a Keystone food shelf and thus participants can only access services once a month. Visit here\, for more details about using the Foodmobile.
URL:https://keystoneservices.org/events/foodmobile-public-distribution-rice-street-library/
LOCATION:St. Paul Public Library – Rice Street Library\, 1011 Rice Street\, St. Paul\, MN\, 55117\, United States
GEO:44.9717938;-93.1063352
X-APPLE-STRUCTURED-LOCATION;VALUE=URI;X-ADDRESS=St. Paul Public Library – Rice Street Library 1011 Rice Street St. Paul MN 55117 United States;X-APPLE-RADIUS=500;X-TITLE=1011 Rice Street:geo:-93.1063352,44.9717938
END:VEVENT
BEGIN:VEVENT
DTSTART;TZID=America/Chicago:20221116T131500
DTEND;TZID=America/Chicago:20221116T151500
DTSTAMP:20260422T183031
CREATED:20221021T175656Z
LAST-MODIFIED:20221021T180739Z
UID:10002013-1668604500-1668611700@keystoneservices.org
SUMMARY:Foodmobile Public Distribution - McDonough Rec Center
DESCRIPTION:For people needing emergency food support we are pleased to offer public Foodmobile distribution events. Keystone’s Foodmobile will be onsite for a public food distribution at McDonough Recreation Center. \nPlease note that the Foodmobile is a Keystone food shelf and thus participants can only access services once a month. Visit here\, for more details about using the Foodmobile.
URL:https://keystoneservices.org/events/foodmobile-distribution-mcdonough-rec-center/2022-11-16/
LOCATION:McDonough Homes Rec Center\, 1544 Timberlake Rd\, St. Paul\, MN\, 55117\, United States
GEO:44.9876869;-93.0925941
X-APPLE-STRUCTURED-LOCATION;VALUE=URI;X-ADDRESS=McDonough Homes Rec Center 1544 Timberlake Rd St. Paul MN 55117 United States;X-APPLE-RADIUS=500;X-TITLE=1544 Timberlake Rd:geo:-93.0925941,44.9876869
END:VEVENT
END:VCALENDAR