BEGIN:VCALENDAR
VERSION:2.0
PRODID:-//Keystone Community Services - ECPv6.15.17.1//NONSGML v1.0//EN
CALSCALE:GREGORIAN
METHOD:PUBLISH
X-ORIGINAL-URL:https://keystoneservices.org
X-WR-CALDESC:Events for Keystone Community Services
REFRESH-INTERVAL;VALUE=DURATION:PT1H
X-Robots-Tag:noindex
X-PUBLISHED-TTL:PT1H
BEGIN:VTIMEZONE
TZID:America/Chicago
BEGIN:DAYLIGHT
TZOFFSETFROM:-0600
TZOFFSETTO:-0500
TZNAME:CDT
DTSTART:20200308T080000
END:DAYLIGHT
BEGIN:STANDARD
TZOFFSETFROM:-0500
TZOFFSETTO:-0600
TZNAME:CST
DTSTART:20201101T070000
END:STANDARD
BEGIN:DAYLIGHT
TZOFFSETFROM:-0600
TZOFFSETTO:-0500
TZNAME:CDT
DTSTART:20210314T080000
END:DAYLIGHT
BEGIN:STANDARD
TZOFFSETFROM:-0500
TZOFFSETTO:-0600
TZNAME:CST
DTSTART:20211107T070000
END:STANDARD
BEGIN:DAYLIGHT
TZOFFSETFROM:-0600
TZOFFSETTO:-0500
TZNAME:CDT
DTSTART:20220313T080000
END:DAYLIGHT
BEGIN:STANDARD
TZOFFSETFROM:-0500
TZOFFSETTO:-0600
TZNAME:CST
DTSTART:20221106T070000
END:STANDARD
BEGIN:DAYLIGHT
TZOFFSETFROM:-0600
TZOFFSETTO:-0500
TZNAME:CDT
DTSTART:20230312T080000
END:DAYLIGHT
BEGIN:STANDARD
TZOFFSETFROM:-0500
TZOFFSETTO:-0600
TZNAME:CST
DTSTART:20231105T070000
END:STANDARD
END:VTIMEZONE
BEGIN:VEVENT
DTSTART;TZID=America/Chicago:20211007T173000
DTEND;TZID=America/Chicago:20211007T203000
DTSTAMP:20260421T061613
CREATED:20210917T204157Z
LAST-MODIFIED:20211007T040348Z
UID:10001825-1633627800-1633638600@keystoneservices.org
SUMMARY:Keys to Success Gala Event
DESCRIPTION:Celebrate our community and accelerate support for your neighbors by joining us for Keystone’s annual fun-raising event! Your attendance at our annual Keys to Success event will help us expand programs that provide support to more than 40\,000 people in our community. \nDate: Thursday\, October 7 \nLocation: Allianz Field in their Stadium Club room\, located at 400 Snelling Avenue North\, St. Paul\, MN 55104 \nTickets: $60 per person \nFor complete information about the event\, including our safety plans for gathering together\, please visit the event webpage online here. \nRegistration has closed for the event! Please call us at 651-645-0349 if you have any questions. \n \n 
URL:https://keystoneservices.org/events/keys-to-success-2/
LOCATION:Allianz Field\, 400 Snelling Avenue N\, St. Paul\, MN\, 55104\, United States
GEO:44.952885;-93.165213
X-APPLE-STRUCTURED-LOCATION;VALUE=URI;X-ADDRESS=Allianz Field 400 Snelling Avenue N St. Paul MN 55104 United States;X-APPLE-RADIUS=500;X-TITLE=400 Snelling Avenue N:geo:-93.165213,44.952885
END:VEVENT
BEGIN:VEVENT
DTSTART;TZID=America/Chicago:20220929T173000
DTEND;TZID=America/Chicago:20220929T203000
DTSTAMP:20260421T061613
CREATED:20220825T230002Z
LAST-MODIFIED:20220926T233621Z
UID:10001983-1664472600-1664483400@keystoneservices.org
SUMMARY:2022 Keys to Success Gala
DESCRIPTION:Gather with the Keystone community to celebrate the launch of the Opening Doors to Food Security Campaign to open our new Community Food Center.\nJoin us for a memorable evening to learn more about our new building and enjoy games and special activities with your neighbors to support our community. \n\nDate: Thursday\, September 29\, 2022\nTime: 5:30 – 8:30 p.m.\nLocation: Allianz Field\, 400 Snelling Avenue North\, St. Paul\nTickets: $60. Registration has closed for the event. If you have any questions\, please call us. Please call us at 651-645-0349 if you have any questions about registration or anything related to Thursday’s event. \nGet full event information on the gala webpage here.\n\n  \n 
URL:https://keystoneservices.org/events/2022-keys-to-success-gala/
LOCATION:Allianz Field\, 400 Snelling Avenue N\, St. Paul\, MN\, 55104\, United States
GEO:44.952885;-93.165213
X-APPLE-STRUCTURED-LOCATION;VALUE=URI;X-ADDRESS=Allianz Field 400 Snelling Avenue N St. Paul MN 55104 United States;X-APPLE-RADIUS=500;X-TITLE=400 Snelling Avenue N:geo:-93.165213,44.952885
END:VEVENT
END:VCALENDAR