BEGIN:VCALENDAR
VERSION:2.0
PRODID:-//Keystone Community Services - ECPv6.15.17.1//NONSGML v1.0//EN
CALSCALE:GREGORIAN
METHOD:PUBLISH
X-WR-CALNAME:Keystone Community Services
X-ORIGINAL-URL:https://keystoneservices.org
X-WR-CALDESC:Events for Keystone Community Services
REFRESH-INTERVAL;VALUE=DURATION:PT1H
X-Robots-Tag:noindex
X-PUBLISHED-TTL:PT1H
BEGIN:VTIMEZONE
TZID:America/Chicago
BEGIN:DAYLIGHT
TZOFFSETFROM:-0600
TZOFFSETTO:-0500
TZNAME:CDT
DTSTART:20200308T080000
END:DAYLIGHT
BEGIN:STANDARD
TZOFFSETFROM:-0500
TZOFFSETTO:-0600
TZNAME:CST
DTSTART:20201101T070000
END:STANDARD
BEGIN:DAYLIGHT
TZOFFSETFROM:-0600
TZOFFSETTO:-0500
TZNAME:CDT
DTSTART:20210314T080000
END:DAYLIGHT
BEGIN:STANDARD
TZOFFSETFROM:-0500
TZOFFSETTO:-0600
TZNAME:CST
DTSTART:20211107T070000
END:STANDARD
BEGIN:DAYLIGHT
TZOFFSETFROM:-0600
TZOFFSETTO:-0500
TZNAME:CDT
DTSTART:20220313T080000
END:DAYLIGHT
BEGIN:STANDARD
TZOFFSETFROM:-0500
TZOFFSETTO:-0600
TZNAME:CST
DTSTART:20221106T070000
END:STANDARD
END:VTIMEZONE
BEGIN:VEVENT
DTSTART;TZID=America/Chicago:20210501T090000
DTEND;TZID=America/Chicago:20210501T123000
DTSTAMP:20260421T055737
CREATED:20210420T012921Z
LAST-MODIFIED:20210420T012921Z
UID:10001732-1619859600-1619872200@keystoneservices.org
SUMMARY:TopLine Bike Drive for Express Bike
DESCRIPTION:TopLine Federal Credit Union is teaming up with Keystone Community Services and Express Bike Shop to host a bike drive on May 1st supporting local youth employment. \nClean out your garage and swing by any TopLine branch location to donate any type of bike (in any shape\, really!) on May 1st (ONLY). \nBike Drive Details\nDate: Saturday\, May 1\, 2021\nTime: 9:00 a.m. – 12:30 p.m.\nLocation: All TopLine Branch Locations
URL:https://keystoneservices.org/events/topline-bike-drive-for-express-bike/
END:VEVENT
BEGIN:VEVENT
DTSTART;TZID=America/Chicago:20210501T093000
DTEND;TZID=America/Chicago:20210501T120000
DTSTAMP:20260421T055737
CREATED:20210420T012101Z
LAST-MODIFIED:20210420T012101Z
UID:10001731-1619861400-1619870400@keystoneservices.org
SUMMARY:St. Thomas Community Food Drive
DESCRIPTION:Tommie Shelf is a free grocery program that takes place every month on St. Thomas’ campus.  This program is made possible through a mutually beneficial partnership between Keystone Community Services and the University of St. Thomas.  Keystone and St. Thomas’ Center for the Common Good developed this partnership in order to combat food insecurity on college campuses and in the larger community.  The Hope Center’s #RealCollege Survey Report of Minnesota State Colleges and Universities found that 37% of student respondents identified as food insecure in the prior 30 days\, and we are determined to be part of the solution when it comes to this basic needs crisis. \nIf you are interested in supporting Keystone through the Tommie Shelf program\, there are two ways that you can help! \n\nWalk-Up Donations – On May 1st\, from 9:30 a.m. – 12:00 p.m.\, stop by the Anderson Student Center Turn-Around at St. Thomas (on the east side of Cretin just north of Summit\, near the St. Thomas football field) to drop of donations of non-perishable food items that will be collected and delivered to Keystone Community Services.  If you are unavailable on May 1st\, you can also drop off donations directly to the Center for the Common Good in the Anderson Student Center\, Room 207\, from April 26th – April 30th.\nCurbside Donations – On May 1st\, between the hours of 10:00 a.m. and 12:00 p.m.\, a St. Thomas volunteer will drive to your home or business to pick up your curbside donation of non-perishable food items.  All you have to do is leave your donation on your step or your curb at 10:00 a.m.\, and St. Thomas will do the rest.  If you would like to participate in this food drive\, simply fill out this survey and start gathering your donation!\n\n  \nIf you have any questions about Tommie Shelf or the Center for the Common Good’s food drive effort for Keystone Community Services\, please direct them to casey.gordon@sstthomas.edu.
URL:https://keystoneservices.org/events/st-thomas-community-food-drive/
LOCATION:University of St. Thomas\, 2115 Summit Avenue\, St. Paul\, MN\, 55105\, United States
GEO:44.9401092;-93.1925247
X-APPLE-STRUCTURED-LOCATION;VALUE=URI;X-ADDRESS=University of St. Thomas 2115 Summit Avenue St. Paul MN 55105 United States;X-APPLE-RADIUS=500;X-TITLE=2115 Summit Avenue:geo:-93.1925247,44.9401092
END:VEVENT
END:VCALENDAR