BEGIN:VCALENDAR
VERSION:2.0
PRODID:-//Keystone Community Services - ECPv6.15.17.1//NONSGML v1.0//EN
CALSCALE:GREGORIAN
METHOD:PUBLISH
X-ORIGINAL-URL:https://keystoneservices.org
X-WR-CALDESC:Events for Keystone Community Services
REFRESH-INTERVAL;VALUE=DURATION:PT1H
X-Robots-Tag:noindex
X-PUBLISHED-TTL:PT1H
BEGIN:VTIMEZONE
TZID:America/Chicago
BEGIN:DAYLIGHT
TZOFFSETFROM:-0600
TZOFFSETTO:-0500
TZNAME:CDT
DTSTART:20210314T080000
END:DAYLIGHT
BEGIN:STANDARD
TZOFFSETFROM:-0500
TZOFFSETTO:-0600
TZNAME:CST
DTSTART:20211107T070000
END:STANDARD
BEGIN:DAYLIGHT
TZOFFSETFROM:-0600
TZOFFSETTO:-0500
TZNAME:CDT
DTSTART:20220313T080000
END:DAYLIGHT
BEGIN:STANDARD
TZOFFSETFROM:-0500
TZOFFSETTO:-0600
TZNAME:CST
DTSTART:20221106T070000
END:STANDARD
BEGIN:DAYLIGHT
TZOFFSETFROM:-0600
TZOFFSETTO:-0500
TZNAME:CDT
DTSTART:20230312T080000
END:DAYLIGHT
BEGIN:STANDARD
TZOFFSETFROM:-0500
TZOFFSETTO:-0600
TZNAME:CST
DTSTART:20231105T070000
END:STANDARD
END:VTIMEZONE
BEGIN:VEVENT
DTSTART;TZID=America/Chicago:20220801T170000
DTEND;TZID=America/Chicago:20220801T180000
DTSTAMP:20260424T164422
CREATED:20220728T131631Z
LAST-MODIFIED:20220728T131631Z
UID:10001976-1659373200-1659376800@keystoneservices.org
SUMMARY:Mexico Azteca Dance Performance
DESCRIPTION:You are invited to a live performance of the Mexico Azteca Ballet Dance School!\n\nThis performance will be on the lawn at the West 7th Community Center\, located at 265 Oneida St\, St. Paul\, MN. The performance will begin at 5:00 p.m. and is completely free to attend! Bring a lawn chair or blanket to sit on\, a water bottle\, and sunscreen! The performance will be an hour long.\n\nFor more information about Mexico Azteca Ballet Dance School\, visit https://www.bfmexicoazteca.com/\n\nThis activity is made possible by the voters of Minnesota through a grant from the Minnesota State Arts Board\, thanks to a legislative appropriation from the arts and cultural heritage fund.
URL:https://keystoneservices.org/events/mexico-azteca-dance-performance/
LOCATION:West 7th Community Center\, 265 Oneida Street\, St. Paul\, MN\, 55102\, United States
GEO:44.9329884;-93.1237888
X-APPLE-STRUCTURED-LOCATION;VALUE=URI;X-ADDRESS=West 7th Community Center 265 Oneida Street St. Paul MN 55102 United States;X-APPLE-RADIUS=500;X-TITLE=265 Oneida Street:geo:-93.1237888,44.9329884
END:VEVENT
BEGIN:VEVENT
DTSTART;VALUE=DATE:20221031
DTEND;VALUE=DATE:20221101
DTSTAMP:20260424T164422
CREATED:20221021T183751Z
LAST-MODIFIED:20221021T183751Z
UID:10001603-1667174400-1667260799@keystoneservices.org
SUMMARY:Social Media Advertising Registration Deadline - Teen Tech Center Program
DESCRIPTION:This is a FREE 5-week program about Social Media Marketing. This program is geared for teens ages 13-18. \nOur five-week program provides students with the fundamentals of creating a holistic digital marketing campaign for a specific brand/product. Upon completion of the program our students will have demonstrated the competency and experience in the following elements in creating an effective marketing campaign. \nWhen: Wednesdays from 4:00 – 6:00 p.m. (start date will be set once cohort of teens is set) \nWhere: Keystone Best Buy Teen Tech Center located at 1150 Selby Avenue\, St. Paul\, MN 55104 \nClick here to sign up today! 
URL:https://keystoneservices.org/events/social-media-advertising-registration-deadline-teen-tech-center-program/
END:VEVENT
BEGIN:VEVENT
DTSTART;TZID=America/Chicago:20221107T163000
DTEND;TZID=America/Chicago:20221107T183000
DTSTAMP:20260424T164422
CREATED:20221021T182522Z
LAST-MODIFIED:20221021T184107Z
UID:10002017-1667838600-1667845800@keystoneservices.org
SUMMARY:Key Coders - Teen Tech Center Program
DESCRIPTION:Lean to create your own app! this 7-week program is for teens ages 13-20 and teens with all levels of experience are welcome to participate. \nWe are offering two courses based on coding knowledge. Please select which course is right for you and sign up. \nWhen: Mondays from November 7 – December 19 \n\nBeginning course (4:30 – 5:30 p.m.): No coding knowledge needed\nAdvanced course (5:30 – 6:30 p.m.): Understanding of loops\, variables\, and if/else statements\n\nLocation: Keystone Best Buy Teen Tech Center at 1150 Selby Avenue\, St. Paul\, MN 55104. \nThe instructor for the course is Kalie Lee\, Software Engineer at C.H. Robinson \nYou must sign up by November 6 to participate. Click here to sign up here! 
URL:https://keystoneservices.org/events/key-coders-teen-tech-center-program/
LOCATION:Best Buy Teen Tech Center\, 1150 Selby Avenue\, St. Paul\, 55104\, United States
GEO:44.9464614;-93.1487726
X-APPLE-STRUCTURED-LOCATION;VALUE=URI;X-ADDRESS=Best Buy Teen Tech Center 1150 Selby Avenue St. Paul 55104 United States;X-APPLE-RADIUS=500;X-TITLE=1150 Selby Avenue:geo:-93.1487726,44.9464614
END:VEVENT
END:VCALENDAR