BEGIN:VCALENDAR
VERSION:2.0
PRODID:-//Keystone Community Services - ECPv6.15.17.1//NONSGML v1.0//EN
CALSCALE:GREGORIAN
METHOD:PUBLISH
X-WR-CALNAME:Keystone Community Services
X-ORIGINAL-URL:https://keystoneservices.org
X-WR-CALDESC:Events for Keystone Community Services
REFRESH-INTERVAL;VALUE=DURATION:PT1H
X-Robots-Tag:noindex
X-PUBLISHED-TTL:PT1H
BEGIN:VTIMEZONE
TZID:America/Chicago
BEGIN:DAYLIGHT
TZOFFSETFROM:-0600
TZOFFSETTO:-0500
TZNAME:CDT
DTSTART:20200308T080000
END:DAYLIGHT
BEGIN:STANDARD
TZOFFSETFROM:-0500
TZOFFSETTO:-0600
TZNAME:CST
DTSTART:20201101T070000
END:STANDARD
BEGIN:DAYLIGHT
TZOFFSETFROM:-0600
TZOFFSETTO:-0500
TZNAME:CDT
DTSTART:20210314T080000
END:DAYLIGHT
BEGIN:STANDARD
TZOFFSETFROM:-0500
TZOFFSETTO:-0600
TZNAME:CST
DTSTART:20211107T070000
END:STANDARD
BEGIN:DAYLIGHT
TZOFFSETFROM:-0600
TZOFFSETTO:-0500
TZNAME:CDT
DTSTART:20220313T080000
END:DAYLIGHT
BEGIN:STANDARD
TZOFFSETFROM:-0500
TZOFFSETTO:-0600
TZNAME:CST
DTSTART:20221106T070000
END:STANDARD
BEGIN:DAYLIGHT
TZOFFSETFROM:-0600
TZOFFSETTO:-0500
TZNAME:CDT
DTSTART:20230312T080000
END:DAYLIGHT
BEGIN:STANDARD
TZOFFSETFROM:-0500
TZOFFSETTO:-0600
TZNAME:CST
DTSTART:20231105T070000
END:STANDARD
END:VTIMEZONE
BEGIN:VEVENT
DTSTART;TZID=America/Chicago:20210824T133000
DTEND;TZID=America/Chicago:20210824T163000
DTSTAMP:20260423T180321
CREATED:20210819T143320Z
LAST-MODIFIED:20210819T143320Z
UID:10001796-1629811800-1629822600@keystoneservices.org
SUMMARY:School Supplies Distribution
DESCRIPTION:Help your student achieve academic success in 2021!  \nThanks to the generosity of many Keystone supporters\, we are are able to distribute FREE backpacks filled with school supplies on August 24 and 25 to families in need. \nThere is no sign-up necessary for this event but please note everything will be distributed on a first come\, first served basis while supplies last. To get your backpacks simply stop by the Merriam Park Community Center (2000 St. Anthony Avenue\, St. Paul) during one of the times listed below to pick up backpacks and supplies for youth in your family. \nSchool Supply Distribution Dates: \n\nTuesday\, August 24 from 1:30 to 4:30 p.m.\nWednesday\, August 25 from 9:30 a.m. to 12:30 p.m. \n\nMasks will be required for everyone while you are onsite at Keystone.
URL:https://keystoneservices.org/events/school-supplies-distribution/2021-08-24/
LOCATION:Merriam Park Community Center\, 2000 St. Anthony Avenue\, Saint Paul\, MN\, 55104\, United States
GEO:44.9526961;-93.1851142
X-APPLE-STRUCTURED-LOCATION;VALUE=URI;X-ADDRESS=Merriam Park Community Center 2000 St. Anthony Avenue Saint Paul MN 55104 United States;X-APPLE-RADIUS=500;X-TITLE=2000 St. Anthony Avenue:geo:-93.1851142,44.9526961
END:VEVENT
BEGIN:VEVENT
DTSTART;TZID=America/Chicago:20210825T093000
DTEND;TZID=America/Chicago:20210825T123000
DTSTAMP:20260423T180321
CREATED:20210819T143320Z
LAST-MODIFIED:20210819T143320Z
UID:10001797-1629883800-1629894600@keystoneservices.org
SUMMARY:School Supplies Distribution
DESCRIPTION:Help your student achieve academic success in 2021!  \nThanks to the generosity of many Keystone supporters\, we are are able to distribute FREE backpacks filled with school supplies on August 24 and 25 to families in need. \nThere is no sign-up necessary for this event but please note everything will be distributed on a first come\, first served basis while supplies last. To get your backpacks simply stop by the Merriam Park Community Center (2000 St. Anthony Avenue\, St. Paul) during one of the times listed below to pick up backpacks and supplies for youth in your family. \nSchool Supply Distribution Dates: \n\nTuesday\, August 24 from 1:30 to 4:30 p.m.\nWednesday\, August 25 from 9:30 a.m. to 12:30 p.m. \n\nMasks will be required for everyone while you are onsite at Keystone.
URL:https://keystoneservices.org/events/school-supplies-distribution/2021-08-25/
LOCATION:Merriam Park Community Center\, 2000 St. Anthony Avenue\, Saint Paul\, MN\, 55104\, United States
GEO:44.9526961;-93.1851142
X-APPLE-STRUCTURED-LOCATION;VALUE=URI;X-ADDRESS=Merriam Park Community Center 2000 St. Anthony Avenue Saint Paul MN 55104 United States;X-APPLE-RADIUS=500;X-TITLE=2000 St. Anthony Avenue:geo:-93.1851142,44.9526961
END:VEVENT
BEGIN:VEVENT
DTSTART;TZID=America/Chicago:20220718T160000
DTEND;TZID=America/Chicago:20220718T173000
DTSTAMP:20260423T180321
CREATED:20220715T140022Z
LAST-MODIFIED:20220715T140022Z
UID:10001975-1658160000-1658165400@keystoneservices.org
SUMMARY:Free Community Book Fair
DESCRIPTION:Trying to encourage your child to read more this summer? Stop by Keystone’s free Community Book Fair at the West 7th Community Center Monday\, July 18th from 4:00 to 5:30! \nThis book fair is for infants through teens\, and every child can choose five books to keep! \nIn addition to picking out some great books\, there will be lawn games like bean bag toss and spike ball\, AND Minnesota United FC mascot PK the Loon will be flying around to meet kids and read books! We hope to see you there!
URL:https://keystoneservices.org/events/free-community-book-fair/
LOCATION:West 7th Community Center\, 265 Oneida Street\, St. Paul\, MN\, 55102\, United States
GEO:44.9329884;-93.1237888
X-APPLE-STRUCTURED-LOCATION;VALUE=URI;X-ADDRESS=West 7th Community Center 265 Oneida Street St. Paul MN 55102 United States;X-APPLE-RADIUS=500;X-TITLE=265 Oneida Street:geo:-93.1237888,44.9329884
END:VEVENT
BEGIN:VEVENT
DTSTART;TZID=America/Chicago:20220831T093000
DTEND;TZID=America/Chicago:20220831T123000
DTSTAMP:20260423T180321
CREATED:20220822T170923Z
LAST-MODIFIED:20220901T153644Z
UID:10001981-1661938200-1661949000@keystoneservices.org
SUMMARY:School Supply Distribution Event
DESCRIPTION:Needing school supplies for your kids? Keystone is distributing backpacks and supplies. \nWhen: Wednesday\, August 31 from 9:30 a.m. – 12:30 p.m. and Thursday\, September 1 from 2:00 – 5:00 p.m. (while supplies last) \nWhere: Merriam Park Community Center\, 2000 St. Anthony Avenue\, St. Paul\, MN 55104. \nNote: All supplies will be distributed on a first come\, first served basis. We will distribute everything until it is gone. IMPORTANT NOTE: We distributed over 670 backpacks during our event on August 31 and do not have any left. We do have some assorted supplies available still which we will distribute on September 1. \nSpecial Opportunity: New this year\, Saints Coast Barber Shop will be giving FREE back-to-school haircuts to students! No sign up is needed for haircuts\, but a parent/guardian must be present. \nIf you have any questions about this event\, please call us at 651-645-0349.
URL:https://keystoneservices.org/events/school-supply-distribution-event/2022-08-31/
LOCATION:Merriam Park Community Center\, 2000 St. Anthony Avenue\, Saint Paul\, MN\, 55104\, United States
GEO:44.9526961;-93.1851142
X-APPLE-STRUCTURED-LOCATION;VALUE=URI;X-ADDRESS=Merriam Park Community Center 2000 St. Anthony Avenue Saint Paul MN 55104 United States;X-APPLE-RADIUS=500;X-TITLE=2000 St. Anthony Avenue:geo:-93.1851142,44.9526961
END:VEVENT
BEGIN:VEVENT
DTSTART;TZID=America/Chicago:20220901T140000
DTEND;TZID=America/Chicago:20220901T170000
DTSTAMP:20260423T180321
CREATED:20220822T170923Z
LAST-MODIFIED:20220901T153644Z
UID:10001982-1662040800-1662051600@keystoneservices.org
SUMMARY:School Supply Distribution Event
DESCRIPTION:Needing school supplies for your kids? Keystone is distributing backpacks and supplies. \nWhen: Wednesday\, August 31 from 9:30 a.m. – 12:30 p.m. and Thursday\, September 1 from 2:00 – 5:00 p.m. (while supplies last) \nWhere: Merriam Park Community Center\, 2000 St. Anthony Avenue\, St. Paul\, MN 55104. \nNote: All supplies will be distributed on a first come\, first served basis. We will distribute everything until it is gone. IMPORTANT NOTE: We distributed over 670 backpacks during our event on August 31 and do not have any left. We do have some assorted supplies available still which we will distribute on September 1. \nSpecial Opportunity: New this year\, Saints Coast Barber Shop will be giving FREE back-to-school haircuts to students! No sign up is needed for haircuts\, but a parent/guardian must be present. \nIf you have any questions about this event\, please call us at 651-645-0349.
URL:https://keystoneservices.org/events/school-supply-distribution-event/2022-09-01/
LOCATION:Merriam Park Community Center\, 2000 St. Anthony Avenue\, Saint Paul\, MN\, 55104\, United States
GEO:44.9526961;-93.1851142
X-APPLE-STRUCTURED-LOCATION;VALUE=URI;X-ADDRESS=Merriam Park Community Center 2000 St. Anthony Avenue Saint Paul MN 55104 United States;X-APPLE-RADIUS=500;X-TITLE=2000 St. Anthony Avenue:geo:-93.1851142,44.9526961
END:VEVENT
BEGIN:VEVENT
DTSTART;TZID=America/Chicago:20221018T160000
DTEND;TZID=America/Chicago:20221018T173000
DTSTAMP:20260423T180321
CREATED:20221013T155930Z
LAST-MODIFIED:20221013T160003Z
UID:10002008-1666108800-1666114200@keystoneservices.org
SUMMARY:Lights on Afterschool - Community Kids Open House Event
DESCRIPTION:We are hosting an Open House Event at our Community Kids Program in honor of Lights on Afterschool. All are welcome to stop by visit on October 18th from 4:00 – 5:30 p.m. We will provide refreshments and program tours. \nHere is a sampling of what you can enjoy at the event: \n4:00-4:45 p.m.:  \n\nClassroom 1: Nutrition – English Muffin Pizzas\nClassroom 2: Nutrition – U of M Extension activity\nClassroom 3: Nutrition – Yogurt and fruit cones\nClassroom 4: Nutrition – Pancake Art / homework\n\n  4:40-5:30 p.m.:  \n\nClassroom 1: Jewelry making / board games\nClassroom 2: Light Table play\nClassroom 3: Nintendo Switch Just Dance\nClassroom 4: Basketball in the Gym and board games\n\nCommunity Kids is funded by Federal 21st Century Community Learning Centers and is administered through the Minnesota Department of Education. \nAbout the event: Launched in October 2000\, Lights On Afterschool is a nationwide event celebrating afterschool programs and their important role in the lives of children\, families and communities. Learn more online here.
URL:https://keystoneservices.org/events/lights-on-afterschool-community-kids-open-house-event/
LOCATION:West 7th Community Center\, 265 Oneida Street\, St. Paul\, MN\, 55102\, United States
GEO:44.9329884;-93.1237888
X-APPLE-STRUCTURED-LOCATION;VALUE=URI;X-ADDRESS=West 7th Community Center 265 Oneida Street St. Paul MN 55102 United States;X-APPLE-RADIUS=500;X-TITLE=265 Oneida Street:geo:-93.1237888,44.9329884
END:VEVENT
END:VCALENDAR