BEGIN:VCALENDAR
VERSION:2.0
PRODID:-//Keystone Community Services - ECPv6.15.17.1//NONSGML v1.0//EN
CALSCALE:GREGORIAN
METHOD:PUBLISH
X-WR-CALNAME:Keystone Community Services
X-ORIGINAL-URL:https://keystoneservices.org
X-WR-CALDESC:Events for Keystone Community Services
REFRESH-INTERVAL;VALUE=DURATION:PT1H
X-Robots-Tag:noindex
X-PUBLISHED-TTL:PT1H
BEGIN:VTIMEZONE
TZID:America/Chicago
BEGIN:DAYLIGHT
TZOFFSETFROM:-0600
TZOFFSETTO:-0500
TZNAME:CDT
DTSTART:20200308T080000
END:DAYLIGHT
BEGIN:STANDARD
TZOFFSETFROM:-0500
TZOFFSETTO:-0600
TZNAME:CST
DTSTART:20201101T070000
END:STANDARD
BEGIN:DAYLIGHT
TZOFFSETFROM:-0600
TZOFFSETTO:-0500
TZNAME:CDT
DTSTART:20210314T080000
END:DAYLIGHT
BEGIN:STANDARD
TZOFFSETFROM:-0500
TZOFFSETTO:-0600
TZNAME:CST
DTSTART:20211107T070000
END:STANDARD
BEGIN:DAYLIGHT
TZOFFSETFROM:-0600
TZOFFSETTO:-0500
TZNAME:CDT
DTSTART:20220313T080000
END:DAYLIGHT
BEGIN:STANDARD
TZOFFSETFROM:-0500
TZOFFSETTO:-0600
TZNAME:CST
DTSTART:20221106T070000
END:STANDARD
END:VTIMEZONE
BEGIN:VEVENT
DTSTART;TZID=America/Chicago:20210519T130000
DTEND;TZID=America/Chicago:20210519T150000
DTSTAMP:20260425T155245
CREATED:20210325T211012Z
LAST-MODIFIED:20210325T211012Z
UID:10001710-1621429200-1621436400@keystoneservices.org
SUMMARY:Foodmobile Public Distribution - New Life Church
DESCRIPTION:For people needing emergency food support we are pleased to offer public Foodmobile distribution events. Keystone’s Foodmobile will be onsite for a public food distribution at New Life Church. \nPlease note that the Foodmobile is a Keystone food shelf and thus participants can only access services once a month. Visit here\, for more details about using the Foodmobile.
URL:https://keystoneservices.org/events/foodmobile-public-distribution-new-life-church-9/
LOCATION:New Life Church\, 965 Larpenteur Ave W\, Roseville\, MN\, 55113\, United States
GEO:44.9926909;-93.140767
X-APPLE-STRUCTURED-LOCATION;VALUE=URI;X-ADDRESS=New Life Church 965 Larpenteur Ave W Roseville MN 55113 United States;X-APPLE-RADIUS=500;X-TITLE=965 Larpenteur Ave W:geo:-93.140767,44.9926909
END:VEVENT
BEGIN:VEVENT
DTSTART;TZID=America/Chicago:20210520T110000
DTEND;TZID=America/Chicago:20210520T120000
DTSTAMP:20260425T155245
CREATED:20210419T180935Z
LAST-MODIFIED:20210419T180935Z
UID:10001729-1621508400-1621512000@keystoneservices.org
SUMMARY:Virtual $1 Bingo for Seniors
DESCRIPTION:The popularity of Bingo is undeniable! So even when there isn’t a holiday\, let’s play once a month on Zoom! We will continue to play 5 games\, plus coverall\, but the win will be one dollar bills. If you need Bingo cards\, they will be mailed and delivered to those who sign up. Play one or three cards. You don’t need a computer – a phone will do!
URL:https://keystoneservices.org/events/virtual-1-bingo-for-seniors/2021-05-20/
LOCATION:Zoom
END:VEVENT
BEGIN:VEVENT
DTSTART;TZID=America/Chicago:20210520T110000
DTEND;TZID=America/Chicago:20210520T130000
DTSTAMP:20260425T155245
CREATED:20210325T211113Z
LAST-MODIFIED:20210325T211113Z
UID:10001715-1621508400-1621515600@keystoneservices.org
SUMMARY:Foodmobile Public Distribution - Terrace Heights
DESCRIPTION:For people needing emergency food support we are pleased to offer public Foodmobile distribution events. Keystone’s Foodmobile will be onsite for a public food distribution at Terrace Heights Mobile Home Park. \nPlease note that the Foodmobile is a Keystone food shelf and thus participants can only access services once a month. Visit here\, for more details about using the Foodmobile.
URL:https://keystoneservices.org/events/foodmobile-public-distribution-terrace-heights-9/
LOCATION:Terrace Heights Mobile Homes\, 2442 Rice Street\, St. Paul\, MN\, 55113\, United States
GEO:45.0148204;-93.1052034
X-APPLE-STRUCTURED-LOCATION;VALUE=URI;X-ADDRESS=Terrace Heights Mobile Homes 2442 Rice Street St. Paul MN 55113 United States;X-APPLE-RADIUS=500;X-TITLE=2442 Rice Street:geo:-93.1052034,45.0148204
END:VEVENT
BEGIN:VEVENT
DTSTART;TZID=America/Chicago:20210521T093000
DTEND;TZID=America/Chicago:20210521T123000
DTSTAMP:20260425T155245
CREATED:20210510T215301Z
LAST-MODIFIED:20210519T201705Z
UID:10001736-1621589400-1621600200@keystoneservices.org
SUMMARY:Drive Through Food Distribution
DESCRIPTION:This is a pre-registration ONLY event for people in need to receive free\, fresh food package & Shelf Stable Grocery Items. \nPre-registration is required to receive food packages for this event. Read full event details below and complete the registration link to sign up. Thank you to our partners who are helping make this event possible: Allianz Life\, Minnesota United FC\, and Second Harvest Heartland.\n  \nWhen is the event? \nThe event is on Friday\, May 21\, 2021. There are separate registration links for each food distribution time. \n  \nWhere is the event being held? \nThe event will be held in front of Allianz Field\, located at 400 Snelling Avenue N.\, St. Paul. The event will take place on the north side of the stadium. \n  \nWhat will I receive? \nEvery household will receive:\n– 1 box of meat\, produce\, and dairy items\n– 1 gallon of milk\n– 1 bag of shelf-stable items \n  \nWho can participate? \nThis event is open to anyone in need of food support. It is intended for Ramsey County residents but anyone is welcome. \n  \nHow do I participate? \nThis event requires pre-registration! To manage car traffic and guarantee quick service delivery for participants\, everyone is required to sign up in advance. Space is limited. All households picking up the food packages must arrive only during your assigned pick up time slot. DO NOT ARRIVE EARLY as it will cause traffic issues — by registering you are guaranteed food packages. This event will be offered in a drive-through model for everyone’s safety. \n  \nHow do I Register?  \n  \n9:30 a.m. time slot – FILLED  \n  \nRegister for the 10:00 a.m. time slot \n  \nRegister for the 10:30 a.m. time slot \n  \nRegister for the 11:00 a.m. time slot \n  \nRegister for the 11:30 a.m. time slot \n  \n12:00 p.m. time slot – FILLED  \n  \nWhat if I want food but can’t participate at this time? \nThis event time or date doesn’t work for you but you need food support\, please visit a Keystone food shelf or participate in our other food programs. Complete information about our services is available online at www.keystoneservices.org/food-shelves/ or you can call us at 651-645-0349 for more information. \n  \nImportant Notes: \nAn event confirmation email will be sent immediately after you hit SUBMIT below and YOUR EMAIL CONFIRMATION will be your “ticket” to attend. Please keep the confirmation email and be prepared to show your “ticket” on your phone or as a printed copy when you enter the event.  Keystone will send one other email with final event details prior to the event. \n  \nSigned up? Here is some more information: \nDriving instructions: You will ONLY be able to enter the stadium area by driving North on Snelling Avenue. You will enter on Spruce Tree Drive. From there please follow direction from staff and volunteers to drive around the space to pick up your food and exit the stadium area. Here is an event map that shows your route: \n \nPlease HAVE YOUR “TICKET” Ready Upon Arrival: lease have your email confirmation or a printed copy of the email ready to show staff upon arrival. You are welcome to drive with other registered participants but if you have more than one registered household in the vehicle just let us know when you arrive. \nArrival Time: There are six specific pick-up time slots and you are welcome to arrive anytime during the half-hour time slot you are signed up for. Please DO NOT arrive early or late — ONLY ARRIVE AT YOUR SCHEDULED PICK UP TIME. We need to limit the number of cars at the site.
URL:https://keystoneservices.org/events/drive-through-distribution/
LOCATION:Allianz Field\, 400 Snelling Avenue N\, St. Paul\, MN\, 55104\, United States
GEO:44.952885;-93.165213
X-APPLE-STRUCTURED-LOCATION;VALUE=URI;X-ADDRESS=Allianz Field 400 Snelling Avenue N St. Paul MN 55104 United States;X-APPLE-RADIUS=500;X-TITLE=400 Snelling Avenue N:geo:-93.165213,44.952885
END:VEVENT
END:VCALENDAR