BEGIN:VCALENDAR
VERSION:2.0
PRODID:-//Keystone Community Services - ECPv6.15.17.1//NONSGML v1.0//EN
CALSCALE:GREGORIAN
METHOD:PUBLISH
X-WR-CALNAME:Keystone Community Services
X-ORIGINAL-URL:https://keystoneservices.org
X-WR-CALDESC:Events for Keystone Community Services
REFRESH-INTERVAL;VALUE=DURATION:PT1H
X-Robots-Tag:noindex
X-PUBLISHED-TTL:PT1H
BEGIN:VTIMEZONE
TZID:America/Chicago
BEGIN:DAYLIGHT
TZOFFSETFROM:-0600
TZOFFSETTO:-0500
TZNAME:CDT
DTSTART:20210314T080000
END:DAYLIGHT
BEGIN:STANDARD
TZOFFSETFROM:-0500
TZOFFSETTO:-0600
TZNAME:CST
DTSTART:20211107T070000
END:STANDARD
BEGIN:DAYLIGHT
TZOFFSETFROM:-0600
TZOFFSETTO:-0500
TZNAME:CDT
DTSTART:20220313T080000
END:DAYLIGHT
BEGIN:STANDARD
TZOFFSETFROM:-0500
TZOFFSETTO:-0600
TZNAME:CST
DTSTART:20221106T070000
END:STANDARD
BEGIN:DAYLIGHT
TZOFFSETFROM:-0600
TZOFFSETTO:-0500
TZNAME:CDT
DTSTART:20230312T080000
END:DAYLIGHT
BEGIN:STANDARD
TZOFFSETFROM:-0500
TZOFFSETTO:-0600
TZNAME:CST
DTSTART:20231105T070000
END:STANDARD
END:VTIMEZONE
BEGIN:VEVENT
DTSTART;TZID=America/Chicago:20220718T093000
DTEND;TZID=America/Chicago:20220718T113000
DTSTAMP:20260420T003810
CREATED:20220113T184007Z
LAST-MODIFIED:20221219T185846Z
UID:10001925-1658136600-1658143800@keystoneservices.org
SUMMARY:Foodmobile Public Distribution - DaVita Dialysis
DESCRIPTION:For people needing emergency food support we are pleased to offer public Foodmobile distribution events. Keystone’s Foodmobile will be onsite for a public food distribution at DaVita Dialysis. \nPlease note that the Foodmobile is a Keystone food shelf and thus participants can only access services once a month. Visit here\, for more details about using the Foodmobile.
URL:https://keystoneservices.org/events/foodmobile-public-distribution-davita-dialysis/2022-07-18/
LOCATION:davita dialysis\, 555 Park St\, Saint Paul\, MN\, 55103\, United States
GEO:44.9583016;-93.1040855
X-APPLE-STRUCTURED-LOCATION;VALUE=URI;X-ADDRESS=davita dialysis 555 Park St Saint Paul MN 55103 United States;X-APPLE-RADIUS=500;X-TITLE=555 Park St:geo:-93.1040855,44.9583016
END:VEVENT
BEGIN:VEVENT
DTSTART;TZID=America/Chicago:20220718T160000
DTEND;TZID=America/Chicago:20220718T173000
DTSTAMP:20260420T003810
CREATED:20220715T140022Z
LAST-MODIFIED:20220715T140022Z
UID:10001975-1658160000-1658165400@keystoneservices.org
SUMMARY:Free Community Book Fair
DESCRIPTION:Trying to encourage your child to read more this summer? Stop by Keystone’s free Community Book Fair at the West 7th Community Center Monday\, July 18th from 4:00 to 5:30! \nThis book fair is for infants through teens\, and every child can choose five books to keep! \nIn addition to picking out some great books\, there will be lawn games like bean bag toss and spike ball\, AND Minnesota United FC mascot PK the Loon will be flying around to meet kids and read books! We hope to see you there!
URL:https://keystoneservices.org/events/free-community-book-fair/
LOCATION:West 7th Community Center\, 265 Oneida Street\, St. Paul\, MN\, 55102\, United States
GEO:44.9329884;-93.1237888
X-APPLE-STRUCTURED-LOCATION;VALUE=URI;X-ADDRESS=West 7th Community Center 265 Oneida Street St. Paul MN 55102 United States;X-APPLE-RADIUS=500;X-TITLE=265 Oneida Street:geo:-93.1237888,44.9329884
END:VEVENT
BEGIN:VEVENT
DTSTART;TZID=America/Chicago:20220719T093000
DTEND;TZID=America/Chicago:20220719T113000
DTSTAMP:20260420T003810
CREATED:20220113T184007Z
LAST-MODIFIED:20221219T185846Z
UID:10001926-1658223000-1658230200@keystoneservices.org
SUMMARY:Foodmobile Public Distribution - DaVita Dialysis
DESCRIPTION:For people needing emergency food support we are pleased to offer public Foodmobile distribution events. Keystone’s Foodmobile will be onsite for a public food distribution at DaVita Dialysis. \nPlease note that the Foodmobile is a Keystone food shelf and thus participants can only access services once a month. Visit here\, for more details about using the Foodmobile.
URL:https://keystoneservices.org/events/foodmobile-public-distribution-davita-dialysis/2022-07-19/
LOCATION:davita dialysis\, 555 Park St\, Saint Paul\, MN\, 55103\, United States
GEO:44.9583016;-93.1040855
X-APPLE-STRUCTURED-LOCATION;VALUE=URI;X-ADDRESS=davita dialysis 555 Park St Saint Paul MN 55103 United States;X-APPLE-RADIUS=500;X-TITLE=555 Park St:geo:-93.1040855,44.9583016
END:VEVENT
BEGIN:VEVENT
DTSTART;TZID=America/Chicago:20220719T160000
DTEND;TZID=America/Chicago:20220719T180000
DTSTAMP:20260420T003810
CREATED:20220707T152547Z
LAST-MODIFIED:20220721T160347Z
UID:10001973-1658246400-1658253600@keystoneservices.org
SUMMARY:Foodmobile Public Distribution - West 7th Community Center
DESCRIPTION:For people needing emergency food support we are pleased to offer public Foodmobile distribution events. Keystone’s Foodmobile will be onsite for a public food distribution at the West 7th Community Center. \nPlease note that the Foodmobile is a Keystone food shelf and thus participants can only access services once a month. Visit here\, for more details about using the Foodmobile.
URL:https://keystoneservices.org/events/foodmobile-public-distribution-west-7th-community-center-5/2022-07-19/
LOCATION:MN
END:VEVENT
BEGIN:VEVENT
DTSTART;TZID=America/Chicago:20220720T130000
DTEND;TZID=America/Chicago:20220720T150000
DTSTAMP:20260420T003810
CREATED:20210601T190557Z
LAST-MODIFIED:20220721T154444Z
UID:10001451-1658322000-1658329200@keystoneservices.org
SUMMARY:Foodmobile Public Distribution - New Life Church
DESCRIPTION:For people needing emergency food support we are pleased to offer public Foodmobile distribution events. Keystone’s Foodmobile will be onsite for a public food distribution at New Life Church. \nPlease note that the Foodmobile is a Keystone food shelf and thus participants can only access services once a month. Visit here\, for more details about using the Foodmobile.
URL:https://keystoneservices.org/events/foodmobile-public-distribution-new-life-church-8-2022-06-15/2022-07-20/
LOCATION:New Life Church\, 965 Larpenteur Ave W\, Roseville\, MN\, 55113\, United States
GEO:44.9926909;-93.140767
X-APPLE-STRUCTURED-LOCATION;VALUE=URI;X-ADDRESS=New Life Church 965 Larpenteur Ave W Roseville MN 55113 United States;X-APPLE-RADIUS=500;X-TITLE=965 Larpenteur Ave W:geo:-93.140767,44.9926909
END:VEVENT
BEGIN:VEVENT
DTSTART;TZID=America/Chicago:20220722T100000
DTEND;TZID=America/Chicago:20220722T120000
DTSTAMP:20260420T003810
CREATED:20220706T151310Z
LAST-MODIFIED:20220718T151119Z
UID:10001972-1658484000-1658491200@keystoneservices.org
SUMMARY:Free Farmer's Market Drive-Through Event - PLEASE REGISTER
DESCRIPTION:This is an event for people in need to receive free\, fresh fruits and vegetables. \nPre-registration is encouraged to receive food packages for this event. Read full event details below and complete the registration link to sign up. Thank you to our partners who are helping make this event possible: Allianz Life\, Minnesota United FC\, and Second Harvest Heartland.\n  \nWhen is the event? \nThe event is on Friday\, July 22\, 2022. There are separate registration links for each food distribution time. \n  \nWhere is the event being held? \nThe event will be held in front of Allianz Field\, located at 400 Snelling Avenue N.\, St. Paul. The event will take place on the north side of the stadium. \n  \nWhat will I receive? \nPlease note that the food offered at this event has changed. Every household will receive 5 – 7 varieties of fruits and vegetables \n  \nWho can participate? \nThis event is open to anyone in need of food support. It is intended for Ramsey County residents\, but anyone is welcome. \n  \nHow do I participate? \nThis event requires pre-registration! To manage car traffic and guarantee quick service delivery for participants\, we encourage participants to sign up in advance. All households picking up the food packages should try to arrive during their assigned pick up time slot. This event will be offered in a drive-through model. \n  \nHow do I Register?  \n  \n10:00 a.m. time slot is FILLED \n  \nRegister for the 10:30 a.m. time slot \n  \nRegister for the 11:00 a.m. time slot \n  \nRegister for the 11:30 a.m. time slot \n  \nWhat if I want food but can’t participate at this time? \nThis event time or date doesn’t work for you but you need food support\, please visit a Keystone food shelf or participate in our other food programs. Complete information about our services is available online at www.keystoneservices.org/food-shelves/ or you can call us at 651-645-0349 for more information. \nIn addition to our food shelves\, Keystone will be hosting more distributions this summer. We are hosting food distributions across Ramsey County through October. You can find dates and locations on our website calendar! \n  \nImportant Notes: \nKeystone will send one other email with final event details prior to the event. \n  \nSigned up? Here is some more information: \nDriving instructions: You will ONLY be able to enter the stadium area by driving North on Snelling Avenue. You will enter on Spruce Tree Drive. From there please follow direction from staff and volunteers to drive around the space to pick up your food and exit the stadium area. Here is an event map that shows your route: \n \nYou are welcome to drive with other participants\, but if you have more than one household in the vehicle just let us know when you arrive. \nArrival Time: There are four specific pick-up time slots and you are welcome to arrive anytime during the half-hour time slot you are signed up for.
URL:https://keystoneservices.org/events/free-farmers-market-drive-through-event-please-register-2/
LOCATION:Allianz Field\, 400 Snelling Avenue N\, St. Paul\, MN\, 55104\, United States
GEO:44.952885;-93.165213
X-APPLE-STRUCTURED-LOCATION;VALUE=URI;X-ADDRESS=Allianz Field 400 Snelling Avenue N St. Paul MN 55104 United States;X-APPLE-RADIUS=500;X-TITLE=400 Snelling Avenue N:geo:-93.165213,44.952885
END:VEVENT
END:VCALENDAR