BEGIN:VCALENDAR
VERSION:2.0
PRODID:-//Keystone Community Services - ECPv6.15.17.1//NONSGML v1.0//EN
CALSCALE:GREGORIAN
METHOD:PUBLISH
X-WR-CALNAME:Keystone Community Services
X-ORIGINAL-URL:https://keystoneservices.org
X-WR-CALDESC:Events for Keystone Community Services
REFRESH-INTERVAL;VALUE=DURATION:PT1H
X-Robots-Tag:noindex
X-PUBLISHED-TTL:PT1H
BEGIN:VTIMEZONE
TZID:America/Chicago
BEGIN:DAYLIGHT
TZOFFSETFROM:-0600
TZOFFSETTO:-0500
TZNAME:CDT
DTSTART:20210314T080000
END:DAYLIGHT
BEGIN:STANDARD
TZOFFSETFROM:-0500
TZOFFSETTO:-0600
TZNAME:CST
DTSTART:20211107T070000
END:STANDARD
BEGIN:DAYLIGHT
TZOFFSETFROM:-0600
TZOFFSETTO:-0500
TZNAME:CDT
DTSTART:20220313T080000
END:DAYLIGHT
BEGIN:STANDARD
TZOFFSETFROM:-0500
TZOFFSETTO:-0600
TZNAME:CST
DTSTART:20221106T070000
END:STANDARD
BEGIN:DAYLIGHT
TZOFFSETFROM:-0600
TZOFFSETTO:-0500
TZNAME:CDT
DTSTART:20230312T080000
END:DAYLIGHT
BEGIN:STANDARD
TZOFFSETFROM:-0500
TZOFFSETTO:-0600
TZNAME:CST
DTSTART:20231105T070000
END:STANDARD
END:VTIMEZONE
BEGIN:VEVENT
DTSTART;TZID=America/Chicago:20220905T080000
DTEND;TZID=America/Chicago:20220905T170000
DTSTAMP:20260423T011402
CREATED:20220113T184815Z
LAST-MODIFIED:20220113T184815Z
UID:10001942-1662364800-1662397200@keystoneservices.org
SUMMARY:Keystone Closed
DESCRIPTION:Keystone Community Services is closed today for the holiday. To see the full list of our hours\, locations\, and full 2022 holiday schedule\, please click here.
URL:https://keystoneservices.org/events/keystone-closed-29/
LOCATION:MN
END:VEVENT
BEGIN:VEVENT
DTSTART;TZID=America/Chicago:20220906T113000
DTEND;TZID=America/Chicago:20220906T133000
DTSTAMP:20260423T011402
CREATED:20220113T183115Z
LAST-MODIFIED:20220721T155849Z
UID:10001897-1662463800-1662471000@keystoneservices.org
SUMMARY:Foodmobile Public Distribution - University of St. Thomas
DESCRIPTION:For people needing emergency food support we are pleased to offer public Foodmobile distribution events. Keystone’s Foodmobile will be onsite for a public food distribution at the University of St. Thomas\, outside of the Facilities & Design Center on Grand Ave & Cretin Ave S. \nPlease note that the Foodmobile is a Keystone food shelf and thus participants can only access services once a month. Visit here\, for more details about using the Foodmobile.
URL:https://keystoneservices.org/events/foodmobile-public-distribution-university-of-st-thomas-2/2022-09-06/
LOCATION:University of St. Thomas\, 2115 Summit Avenue\, St. Paul\, MN\, 55105\, United States
GEO:44.9401092;-93.1925247
X-APPLE-STRUCTURED-LOCATION;VALUE=URI;X-ADDRESS=University of St. Thomas 2115 Summit Avenue St. Paul MN 55105 United States;X-APPLE-RADIUS=500;X-TITLE=2115 Summit Avenue:geo:-93.1925247,44.9401092
END:VEVENT
BEGIN:VEVENT
DTSTART;TZID=America/Chicago:20220907T090000
DTEND;TZID=America/Chicago:20220907T110000
DTSTAMP:20260423T011402
CREATED:20210902T133419Z
LAST-MODIFIED:20220721T160151Z
UID:10001808-1662541200-1662548400@keystoneservices.org
SUMMARY:Foodmobile Public Distribution - St. Paul College
DESCRIPTION:For people needing looking for food support\, we are pleased to offer public Foodmobile distribution events. Keystone’s Foodmobile will be onsite at St. Paul College\, parked near Parking Lot B (at 235 Marshall Avenue). Please note that the Foodmobile is a Keystone food shelf and thus participants can only access services once a month. Visit here\, for more details about using the Foodmobile.
URL:https://keystoneservices.org/events/foodmobile-public-distribution-6/2022-09-07/
LOCATION:St. Paul College\, 235 Marshall Avenue\, St. Paul\, MN\, 55102\, United States
GEO:44.9490099;-93.1108612
X-APPLE-STRUCTURED-LOCATION;VALUE=URI;X-ADDRESS=St. Paul College 235 Marshall Avenue St. Paul MN 55102 United States;X-APPLE-RADIUS=500;X-TITLE=235 Marshall Avenue:geo:-93.1108612,44.9490099
END:VEVENT
BEGIN:VEVENT
DTSTART;TZID=America/Chicago:20220909T100000
DTEND;TZID=America/Chicago:20220909T120000
DTSTAMP:20260423T011402
CREATED:20220509T163618Z
LAST-MODIFIED:20220706T201727Z
UID:10001967-1662717600-1662724800@keystoneservices.org
SUMMARY:Free Farmer's Market Drive-Through Event
DESCRIPTION:This is an event for people in need to receive free\, fresh fruits and vegetables.\nWhen is the event? \nThe event is on Friday\, September 9th. \n  \nWhere is the event being held? \nThe event will be held at Roseville Covenant Church \n  \nWhat will I receive? \nPlease note that the food offered at this event has changed. Every household will receive 5 – 7 varieties of fruits and vegetables \n  \nWho can participate? \nThis event is open to anyone in need of food support. It is intended for Ramsey County residents\, but anyone is welcome. \n  \nHow do I participate? \nNo registration is required\, simply drive-through between 10:00 a.m. and 12:00 p.m.! \n  \nWhat if I want food but can’t participate at this time? \nThis event time or date doesn’t work for you but you need food support\, please visit a Keystone food shelf or participate in our other food programs. Complete information about our services is available online at www.keystoneservices.org/food-shelves/ or you can call us at 651-645-0349 for more information. \nIn addition to our food shelves\, Keystone will be hosting more distributions this summer. We are hosting food distributions across Ramsey County through October. You can find dates and locations by visiting the More Food Programs page on our website!
URL:https://keystoneservices.org/events/free-farmers-market-drive-through-event-8/
LOCATION:Roseville Covenant Church\, 2865 Hamline Ave N\, St. Paul\, MN\, 55113\, United States
GEO:45.0275693;-93.1578186
X-APPLE-STRUCTURED-LOCATION;VALUE=URI;X-ADDRESS=Roseville Covenant Church 2865 Hamline Ave N St. Paul MN 55113 United States;X-APPLE-RADIUS=500;X-TITLE=2865 Hamline Ave N:geo:-93.1578186,45.0275693
END:VEVENT
END:VCALENDAR