BEGIN:VCALENDAR
VERSION:2.0
PRODID:-//Keystone Community Services - ECPv6.15.17.1//NONSGML v1.0//EN
CALSCALE:GREGORIAN
METHOD:PUBLISH
X-ORIGINAL-URL:https://keystoneservices.org
X-WR-CALDESC:Events for Keystone Community Services
REFRESH-INTERVAL;VALUE=DURATION:PT1H
X-Robots-Tag:noindex
X-PUBLISHED-TTL:PT1H
BEGIN:VTIMEZONE
TZID:America/Chicago
BEGIN:DAYLIGHT
TZOFFSETFROM:-0600
TZOFFSETTO:-0500
TZNAME:CDT
DTSTART:20210314T080000
END:DAYLIGHT
BEGIN:STANDARD
TZOFFSETFROM:-0500
TZOFFSETTO:-0600
TZNAME:CST
DTSTART:20211107T070000
END:STANDARD
BEGIN:DAYLIGHT
TZOFFSETFROM:-0600
TZOFFSETTO:-0500
TZNAME:CDT
DTSTART:20220313T080000
END:DAYLIGHT
BEGIN:STANDARD
TZOFFSETFROM:-0500
TZOFFSETTO:-0600
TZNAME:CST
DTSTART:20221106T070000
END:STANDARD
BEGIN:DAYLIGHT
TZOFFSETFROM:-0600
TZOFFSETTO:-0500
TZNAME:CDT
DTSTART:20230312T080000
END:DAYLIGHT
BEGIN:STANDARD
TZOFFSETFROM:-0500
TZOFFSETTO:-0600
TZNAME:CST
DTSTART:20231105T070000
END:STANDARD
END:VTIMEZONE
BEGIN:VEVENT
DTSTART;TZID=America/Chicago:20220912T100000
DTEND;TZID=America/Chicago:20220912T120000
DTSTAMP:20260420T193330
CREATED:20220113T183832Z
LAST-MODIFIED:20241213T223727Z
UID:10001908-1662976800-1662984000@keystoneservices.org
SUMMARY:Foodmobile Public Distribution - Roseville Library
DESCRIPTION:For people needing emergency food support we are pleased to offer public Foodmobile distribution events. Keystone’s Foodmobile will be onsite for a public food distribution at the Roseville Public Library. \nPlease note that the Foodmobile is a Keystone food shelf and thus participants can only access services once a month. Visit here\, for more details about using the Foodmobile.
URL:https://keystoneservices.org/events/foodmobile-public-distribution-roseville-library-10/2022-09-12/
LOCATION:Roseville County Library\, 2180 Hamline Ave N\, Roseville\, MN\, 55113\, United States
GEO:45.0074048;-93.1557921
X-APPLE-STRUCTURED-LOCATION;VALUE=URI;X-ADDRESS=Roseville County Library 2180 Hamline Ave N Roseville MN 55113 United States;X-APPLE-RADIUS=500;X-TITLE=2180 Hamline Ave N:geo:-93.1557921,45.0074048
END:VEVENT
BEGIN:VEVENT
DTSTART;TZID=America/Chicago:20220912T130000
DTEND;TZID=America/Chicago:20220912T150000
DTSTAMP:20260420T193330
CREATED:20220901T171133Z
LAST-MODIFIED:20220907T210341Z
UID:10001999-1662987600-1662994800@keystoneservices.org
SUMMARY:Rosemaling Class
DESCRIPTION:Our active seniors program is hosting a special rosemaling class this September. You can learn the basics of this traditional Norwegian folk art\, originated from the rural\, working-class people of Norway in the 1700s. You will use the basic brush strokes to create beautiful flower patterns\, great for handmade gifts and cards. \nWhen: Mondays\, September 12\, 19 and 26 from 1:00 pm – 3:00 pm.\nCost: Free!\nCall to reserve your place. 651-298-5493 \nThis activity is made by the voters of Minnesota through a Minnesota State Arts Board Operating Support grant\, thanks to legislative appropriation from the arts and cultural heritage fund.
URL:https://keystoneservices.org/events/rosemailing-class/2022-09-12/
LOCATION:West 7th Community Center\, 265 Oneida Street\, St. Paul\, MN\, 55102\, United States
GEO:44.9329884;-93.1237888
X-APPLE-STRUCTURED-LOCATION;VALUE=URI;X-ADDRESS=West 7th Community Center 265 Oneida Street St. Paul MN 55102 United States;X-APPLE-RADIUS=500;X-TITLE=265 Oneida Street:geo:-93.1237888,44.9329884
END:VEVENT
BEGIN:VEVENT
DTSTART;TZID=America/Chicago:20220912T140000
DTEND;TZID=America/Chicago:20220912T160000
DTSTAMP:20260420T193330
CREATED:20220113T182727Z
LAST-MODIFIED:20220721T155531Z
UID:10001874-1662991200-1662998400@keystoneservices.org
SUMMARY:Foodmobile Public Distribution - Terrace Heights
DESCRIPTION:For people needing emergency food support we are pleased to offer public Foodmobile distribution events. Keystone’s Foodmobile will be onsite for a public food distribution at Terrace Heights. \nPlease note that the Foodmobile is a Keystone food shelf and thus participants can only access services once a month. Visit here\, for more details about using the Foodmobile.
URL:https://keystoneservices.org/events/foodmobile-public-distribution-terrace-heights-10/2022-09-12/
LOCATION:Terrace Heights Mobile Homes\, 2442 Rice Street\, St. Paul\, MN\, 55113\, United States
GEO:45.0148204;-93.1052034
X-APPLE-STRUCTURED-LOCATION;VALUE=URI;X-ADDRESS=Terrace Heights Mobile Homes 2442 Rice Street St. Paul MN 55113 United States;X-APPLE-RADIUS=500;X-TITLE=2442 Rice Street:geo:-93.1052034,45.0148204
END:VEVENT
BEGIN:VEVENT
DTSTART;TZID=America/Chicago:20220913T100000
DTEND;TZID=America/Chicago:20220913T120000
DTSTAMP:20260420T193330
CREATED:20220304T191249Z
LAST-MODIFIED:20221021T174959Z
UID:10001951-1663063200-1663070400@keystoneservices.org
SUMMARY:Foodmobile Public Distribution - Anpetu Teca
DESCRIPTION:For people needing emergency food support we are pleased to offer public Foodmobile distribution events. Keystone’s Foodmobile will be onsite for a public food distribution at the Anpetu Teca Education Center. \nPlease note that the Foodmobile is a Keystone food shelf and thus participants can only access services once a month. Visit here\, for more details about using the Foodmobile.
URL:https://keystoneservices.org/events/foodmobile-public-distribution-anpetu-teca-2022-12-13/2022-09-13/
LOCATION:Anpetu Teca Education Center\, 1910 County B Rd W\, Roseville\, MN\, 55113\, United States
GEO:45.0049815;-93.1801093
X-APPLE-STRUCTURED-LOCATION;VALUE=URI;X-ADDRESS=Anpetu Teca Education Center 1910 County B Rd W Roseville MN 55113 United States;X-APPLE-RADIUS=500;X-TITLE=1910 County B Rd W:geo:-93.1801093,45.0049815
END:VEVENT
BEGIN:VEVENT
DTSTART;TZID=America/Chicago:20220913T140000
DTEND;TZID=America/Chicago:20220913T160000
DTSTAMP:20260420T193330
CREATED:20220113T182916Z
LAST-MODIFIED:20220721T155116Z
UID:10001887-1663077600-1663084800@keystoneservices.org
SUMMARY:Foodmobile Public Distribution - St. Michael's
DESCRIPTION:For people needing emergency food support we are pleased to offer public Foodmobile distribution events. Keystone’s Foodmobile will be onsite for a public food distribution at St. Michael’s. \nPlease note that the Foodmobile is a Keystone food shelf and thus participants can only access services once a month. Visit here\, for more details about using the Foodmobile.
URL:https://keystoneservices.org/events/foodmobile-public-distribution-st-michaels-10/2022-09-13/
LOCATION:St. Michael’s Lutheran Church\, 1660 County B Rd W\, Roseville\, MN\, 55113\, United States
GEO:45.0054763;-93.1701553
X-APPLE-STRUCTURED-LOCATION;VALUE=URI;X-ADDRESS=St. Michael’s Lutheran Church 1660 County B Rd W Roseville MN 55113 United States;X-APPLE-RADIUS=500;X-TITLE=1660 County B Rd W:geo:-93.1701553,45.0054763
END:VEVENT
BEGIN:VEVENT
DTSTART;TZID=America/Chicago:20220915T110000
DTEND;TZID=America/Chicago:20220915T120000
DTSTAMP:20260420T193330
CREATED:20220901T171548Z
LAST-MODIFIED:20220901T171548Z
UID:10002002-1663239600-1663243200@keystoneservices.org
SUMMARY:Bingo
DESCRIPTION:Join us! Bingo is presented each month by our active seniors program. \nWe will play both in-person and via ZOOM. Each bingo card costs $1. Play as many as you like. Money collected is divided between 10 games; 9 regular and 1 cover-all.\nOne winner per game. \nZOOM players: If you need bingo cards\, they will be mailed\, or delivered to you. You must play same number of cards each month and must send in monthly or quarterly payments for your cards to play; \nWhere: West 7th Community Center – 265 Oneida Street\, St. Paul\, 55102\nWhen – 3rd Thursday of the month  – September 15 and October 20\nTime – 11:00 a.m. – 12:00 p.m. on Zoom or at W7th
URL:https://keystoneservices.org/events/bingo/2022-09-15/
LOCATION:West 7th Community Center\, 265 Oneida Street\, St. Paul\, MN\, 55102\, United States
GEO:44.9329884;-93.1237888
X-APPLE-STRUCTURED-LOCATION;VALUE=URI;X-ADDRESS=West 7th Community Center 265 Oneida Street St. Paul MN 55102 United States;X-APPLE-RADIUS=500;X-TITLE=265 Oneida Street:geo:-93.1237888,44.9329884
END:VEVENT
BEGIN:VEVENT
DTSTART;TZID=America/Chicago:20220916T100000
DTEND;TZID=America/Chicago:20220916T120000
DTSTAMP:20260420T193330
CREATED:20220729T212505Z
LAST-MODIFIED:20220729T212505Z
UID:10001979-1663322400-1663329600@keystoneservices.org
SUMMARY:Free Farmer's Market Drive-Through Event - PLEASE REGISTER
DESCRIPTION:This is an event for people in need to receive free\, fresh fruits and vegetables. \nPre-registration is encouraged to receive food packages for this event. Read full event details below and complete the registration link to sign up. Thank you to our partners who are helping make this event possible: Allianz Life\, Minnesota United FC\, and Second Harvest Heartland.\n  \nWhen is the event? \nThe event is on Friday\, September 16\, 2022. There are separate registration links for each food distribution time. \n  \nWhere is the event being held? \nThe event will be held in front of Allianz Field\, located at 400 Snelling Avenue N.\, St. Paul. The event will take place on the north side of the stadium. \n  \nWhat will I receive? \nPlease note that the food offered at this event has changed. Every household will receive 5 – 7 varieties of fruits and vegetables \n  \nWho can participate? \nThis event is open to anyone in need of food support. It is intended for Ramsey County residents\, but anyone is welcome. \n  \nHow do I participate? \nThis event requires pre-registration! To manage car traffic and guarantee quick service delivery for participants\, we encourage participants to sign up in advance. All households picking up the food packages should try to arrive during their assigned pick up time slot. This event will be offered in a drive-through model. \n  \nHow do I Register?  \n  \nRegister for the 10:00 a.m. time slot \n  \nRegister for the 10:30 a.m. time slot \n  \nRegister for the 11:00 a.m. time slot \n  \nRegister for the 11:30 a.m. time slot \n  \nWhat if I want food but can’t participate at this time? \nThis event time or date doesn’t work for you but you need food support\, please visit a Keystone food shelf or participate in our other food programs. Complete information about our services is available online at www.keystoneservices.org/food-shelves/ or you can call us at 651-645-0349 for more information. \nIn addition to our food shelves\, Keystone will be hosting more distributions this summer. We are hosting food distributions across Ramsey County through October. You can find dates and locations on our website calendar! \n  \nImportant Notes: \nKeystone will send one other email with final event details prior to the event. \n  \nSigned up? Here is some more information: \nDriving instructions: You will ONLY be able to enter the stadium area by driving North on Snelling Avenue. You will enter on Spruce Tree Drive. From there please follow direction from staff and volunteers to drive around the space to pick up your food and exit the stadium area. Here is an event map that shows your route: \n \nYou are welcome to drive with other participants\, but if you have more than one household in the vehicle just let us know when you arrive. \nArrival Time: There are four specific pick-up time slots and you are welcome to arrive anytime during the half-hour time slot you are signed up for.
URL:https://keystoneservices.org/events/free-farmers-market-drive-through-event-please-register-4/
LOCATION:Allianz Field\, 400 Snelling Avenue N\, St. Paul\, MN\, 55104\, United States
GEO:44.952885;-93.165213
X-APPLE-STRUCTURED-LOCATION;VALUE=URI;X-ADDRESS=Allianz Field 400 Snelling Avenue N St. Paul MN 55104 United States;X-APPLE-RADIUS=500;X-TITLE=400 Snelling Avenue N:geo:-93.165213,44.952885
END:VEVENT
END:VCALENDAR