BEGIN:VCALENDAR
VERSION:2.0
PRODID:-//Keystone Community Services - ECPv6.15.17.1//NONSGML v1.0//EN
CALSCALE:GREGORIAN
METHOD:PUBLISH
X-ORIGINAL-URL:https://keystoneservices.org
X-WR-CALDESC:Events for Keystone Community Services
REFRESH-INTERVAL;VALUE=DURATION:PT1H
X-Robots-Tag:noindex
X-PUBLISHED-TTL:PT1H
BEGIN:VTIMEZONE
TZID:America/Chicago
BEGIN:DAYLIGHT
TZOFFSETFROM:-0600
TZOFFSETTO:-0500
TZNAME:CDT
DTSTART:20210314T080000
END:DAYLIGHT
BEGIN:STANDARD
TZOFFSETFROM:-0500
TZOFFSETTO:-0600
TZNAME:CST
DTSTART:20211107T070000
END:STANDARD
BEGIN:DAYLIGHT
TZOFFSETFROM:-0600
TZOFFSETTO:-0500
TZNAME:CDT
DTSTART:20220313T080000
END:DAYLIGHT
BEGIN:STANDARD
TZOFFSETFROM:-0500
TZOFFSETTO:-0600
TZNAME:CST
DTSTART:20221106T070000
END:STANDARD
BEGIN:DAYLIGHT
TZOFFSETFROM:-0600
TZOFFSETTO:-0500
TZNAME:CDT
DTSTART:20230312T080000
END:DAYLIGHT
BEGIN:STANDARD
TZOFFSETFROM:-0500
TZOFFSETTO:-0600
TZNAME:CST
DTSTART:20231105T070000
END:STANDARD
END:VTIMEZONE
BEGIN:VEVENT
DTSTART;TZID=America/Chicago:20221107T163000
DTEND;TZID=America/Chicago:20221107T183000
DTSTAMP:20260424T172500
CREATED:20221021T182522Z
LAST-MODIFIED:20221021T184107Z
UID:10002017-1667838600-1667845800@keystoneservices.org
SUMMARY:Key Coders - Teen Tech Center Program
DESCRIPTION:Lean to create your own app! this 7-week program is for teens ages 13-20 and teens with all levels of experience are welcome to participate. \nWe are offering two courses based on coding knowledge. Please select which course is right for you and sign up. \nWhen: Mondays from November 7 – December 19 \n\nBeginning course (4:30 – 5:30 p.m.): No coding knowledge needed\nAdvanced course (5:30 – 6:30 p.m.): Understanding of loops\, variables\, and if/else statements\n\nLocation: Keystone Best Buy Teen Tech Center at 1150 Selby Avenue\, St. Paul\, MN 55104. \nThe instructor for the course is Kalie Lee\, Software Engineer at C.H. Robinson \nYou must sign up by November 6 to participate. Click here to sign up here! 
URL:https://keystoneservices.org/events/key-coders-teen-tech-center-program/
LOCATION:Best Buy Teen Tech Center\, 1150 Selby Avenue\, St. Paul\, 55104\, United States
GEO:44.9464614;-93.1487726
X-APPLE-STRUCTURED-LOCATION;VALUE=URI;X-ADDRESS=Best Buy Teen Tech Center 1150 Selby Avenue St. Paul 55104 United States;X-APPLE-RADIUS=500;X-TITLE=1150 Selby Avenue:geo:-93.1487726,44.9464614
END:VEVENT
BEGIN:VEVENT
DTSTART;TZID=America/Chicago:20221107T181500
DTEND;TZID=America/Chicago:20221107T200000
DTSTAMP:20260424T172500
CREATED:20220901T170750Z
LAST-MODIFIED:20221121T170745Z
UID:10001990-1667844900-1667851200@keystoneservices.org
SUMMARY:Square Dancing
DESCRIPTION:This activity is hosted by Dakota Squares. \nDates: Mondays beginning September 26th through January. September 26 and October 3 are free!\nTimes: 6:15 p.m. – 8:00 p.m.\nCost: $5/session. Under 18 are always welcome free of charge.\nWhere: West 7th Community Center
URL:https://keystoneservices.org/events/square-dancing/2022-11-07/
LOCATION:West 7th Community Center\, 265 Oneida Street\, St. Paul\, MN\, 55102\, United States
GEO:44.9329884;-93.1237888
X-APPLE-STRUCTURED-LOCATION;VALUE=URI;X-ADDRESS=West 7th Community Center 265 Oneida Street St. Paul MN 55102 United States;X-APPLE-RADIUS=500;X-TITLE=265 Oneida Street:geo:-93.1237888,44.9329884
END:VEVENT
BEGIN:VEVENT
DTSTART;TZID=America/Chicago:20221108T140000
DTEND;TZID=America/Chicago:20221108T160000
DTSTAMP:20260424T172500
CREATED:20220113T182916Z
LAST-MODIFIED:20220721T155116Z
UID:10001889-1667916000-1667923200@keystoneservices.org
SUMMARY:Foodmobile Public Distribution - St. Michael's
DESCRIPTION:For people needing emergency food support we are pleased to offer public Foodmobile distribution events. Keystone’s Foodmobile will be onsite for a public food distribution at St. Michael’s. \nPlease note that the Foodmobile is a Keystone food shelf and thus participants can only access services once a month. Visit here\, for more details about using the Foodmobile.
URL:https://keystoneservices.org/events/foodmobile-public-distribution-st-michaels-10/2022-11-08/
LOCATION:St. Michael’s Lutheran Church\, 1660 County B Rd W\, Roseville\, MN\, 55113\, United States
GEO:45.0054763;-93.1701553
X-APPLE-STRUCTURED-LOCATION;VALUE=URI;X-ADDRESS=St. Michael’s Lutheran Church 1660 County B Rd W Roseville MN 55113 United States;X-APPLE-RADIUS=500;X-TITLE=1660 County B Rd W:geo:-93.1701553,45.0054763
END:VEVENT
BEGIN:VEVENT
DTSTART;TZID=America/Chicago:20221109T100000
DTEND;TZID=America/Chicago:20221109T110000
DTSTAMP:20260424T172500
CREATED:20221108T145621Z
LAST-MODIFIED:20221108T145621Z
UID:10001605-1667988000-1667991600@keystoneservices.org
SUMMARY:Shortened Food Shelf Service
DESCRIPTION:Due to an all-staff training\, Keystone’s Food Shelves will have shortened service in the morning on Wednesday\, November 9. We will be open for service from 10:00 – 11:00 a.m. Thank you for your understanding.
URL:https://keystoneservices.org/events/shortened-food-shelf-service/
LOCATION:MN
END:VEVENT
END:VCALENDAR