BEGIN:VCALENDAR
VERSION:2.0
PRODID:-//Keystone Community Services - ECPv6.15.17.1//NONSGML v1.0//EN
CALSCALE:GREGORIAN
METHOD:PUBLISH
X-WR-CALNAME:Keystone Community Services
X-ORIGINAL-URL:https://keystoneservices.org
X-WR-CALDESC:Events for Keystone Community Services
REFRESH-INTERVAL;VALUE=DURATION:PT1H
X-Robots-Tag:noindex
X-PUBLISHED-TTL:PT1H
BEGIN:VTIMEZONE
TZID:America/Chicago
BEGIN:DAYLIGHT
TZOFFSETFROM:-0600
TZOFFSETTO:-0500
TZNAME:CDT
DTSTART:20210314T080000
END:DAYLIGHT
BEGIN:STANDARD
TZOFFSETFROM:-0500
TZOFFSETTO:-0600
TZNAME:CST
DTSTART:20211107T070000
END:STANDARD
BEGIN:DAYLIGHT
TZOFFSETFROM:-0600
TZOFFSETTO:-0500
TZNAME:CDT
DTSTART:20220313T080000
END:DAYLIGHT
BEGIN:STANDARD
TZOFFSETFROM:-0500
TZOFFSETTO:-0600
TZNAME:CST
DTSTART:20221106T070000
END:STANDARD
BEGIN:DAYLIGHT
TZOFFSETFROM:-0600
TZOFFSETTO:-0500
TZNAME:CDT
DTSTART:20230312T080000
END:DAYLIGHT
BEGIN:STANDARD
TZOFFSETFROM:-0500
TZOFFSETTO:-0600
TZNAME:CST
DTSTART:20231105T070000
END:STANDARD
END:VTIMEZONE
BEGIN:VEVENT
DTSTART;TZID=America/Chicago:20221114T100000
DTEND;TZID=America/Chicago:20221114T120000
DTSTAMP:20260425T155225
CREATED:20220113T183832Z
LAST-MODIFIED:20241213T223727Z
UID:10001910-1668420000-1668427200@keystoneservices.org
SUMMARY:Foodmobile Public Distribution - Roseville Library
DESCRIPTION:For people needing emergency food support we are pleased to offer public Foodmobile distribution events. Keystone’s Foodmobile will be onsite for a public food distribution at the Roseville Public Library. \nPlease note that the Foodmobile is a Keystone food shelf and thus participants can only access services once a month. Visit here\, for more details about using the Foodmobile.
URL:https://keystoneservices.org/events/foodmobile-public-distribution-roseville-library-10/2022-11-14/
LOCATION:Roseville County Library\, 2180 Hamline Ave N\, Roseville\, MN\, 55113\, United States
GEO:45.0074048;-93.1557921
X-APPLE-STRUCTURED-LOCATION;VALUE=URI;X-ADDRESS=Roseville County Library 2180 Hamline Ave N Roseville MN 55113 United States;X-APPLE-RADIUS=500;X-TITLE=2180 Hamline Ave N:geo:-93.1557921,45.0074048
END:VEVENT
BEGIN:VEVENT
DTSTART;TZID=America/Chicago:20221114T140000
DTEND;TZID=America/Chicago:20221114T160000
DTSTAMP:20260425T155225
CREATED:20220113T182727Z
LAST-MODIFIED:20220721T155531Z
UID:10001876-1668434400-1668441600@keystoneservices.org
SUMMARY:Foodmobile Public Distribution - Terrace Heights
DESCRIPTION:For people needing emergency food support we are pleased to offer public Foodmobile distribution events. Keystone’s Foodmobile will be onsite for a public food distribution at Terrace Heights. \nPlease note that the Foodmobile is a Keystone food shelf and thus participants can only access services once a month. Visit here\, for more details about using the Foodmobile.
URL:https://keystoneservices.org/events/foodmobile-public-distribution-terrace-heights-10/2022-11-14/
LOCATION:Terrace Heights Mobile Homes\, 2442 Rice Street\, St. Paul\, MN\, 55113\, United States
GEO:45.0148204;-93.1052034
X-APPLE-STRUCTURED-LOCATION;VALUE=URI;X-ADDRESS=Terrace Heights Mobile Homes 2442 Rice Street St. Paul MN 55113 United States;X-APPLE-RADIUS=500;X-TITLE=2442 Rice Street:geo:-93.1052034,45.0148204
END:VEVENT
BEGIN:VEVENT
DTSTART;TZID=America/Chicago:20221114T181500
DTEND;TZID=America/Chicago:20221114T200000
DTSTAMP:20260425T155225
CREATED:20220901T170750Z
LAST-MODIFIED:20221121T170745Z
UID:10001991-1668449700-1668456000@keystoneservices.org
SUMMARY:Square Dancing
DESCRIPTION:This activity is hosted by Dakota Squares. \nDates: Mondays beginning September 26th through January. September 26 and October 3 are free!\nTimes: 6:15 p.m. – 8:00 p.m.\nCost: $5/session. Under 18 are always welcome free of charge.\nWhere: West 7th Community Center
URL:https://keystoneservices.org/events/square-dancing/2022-11-14/
LOCATION:West 7th Community Center\, 265 Oneida Street\, St. Paul\, MN\, 55102\, United States
GEO:44.9329884;-93.1237888
X-APPLE-STRUCTURED-LOCATION;VALUE=URI;X-ADDRESS=West 7th Community Center 265 Oneida Street St. Paul MN 55102 United States;X-APPLE-RADIUS=500;X-TITLE=265 Oneida Street:geo:-93.1237888,44.9329884
END:VEVENT
BEGIN:VEVENT
DTSTART;TZID=America/Chicago:20221115T100000
DTEND;TZID=America/Chicago:20221115T120000
DTSTAMP:20260425T155225
CREATED:20220304T191249Z
LAST-MODIFIED:20221021T174959Z
UID:10001953-1668506400-1668513600@keystoneservices.org
SUMMARY:Foodmobile Public Distribution - Anpetu Teca
DESCRIPTION:For people needing emergency food support we are pleased to offer public Foodmobile distribution events. Keystone’s Foodmobile will be onsite for a public food distribution at the Anpetu Teca Education Center. \nPlease note that the Foodmobile is a Keystone food shelf and thus participants can only access services once a month. Visit here\, for more details about using the Foodmobile.
URL:https://keystoneservices.org/events/foodmobile-public-distribution-anpetu-teca-2022-12-13/2022-11-15/
LOCATION:Anpetu Teca Education Center\, 1910 County B Rd W\, Roseville\, MN\, 55113\, United States
GEO:45.0049815;-93.1801093
X-APPLE-STRUCTURED-LOCATION;VALUE=URI;X-ADDRESS=Anpetu Teca Education Center 1910 County B Rd W Roseville MN 55113 United States;X-APPLE-RADIUS=500;X-TITLE=1910 County B Rd W:geo:-93.1801093,45.0049815
END:VEVENT
BEGIN:VEVENT
DTSTART;TZID=America/Chicago:20221116T130000
DTEND;TZID=America/Chicago:20221116T150000
DTSTAMP:20260425T155225
CREATED:20210601T190557Z
LAST-MODIFIED:20220721T154444Z
UID:10001455-1668603600-1668610800@keystoneservices.org
SUMMARY:Foodmobile Public Distribution - New Life Church
DESCRIPTION:For people needing emergency food support we are pleased to offer public Foodmobile distribution events. Keystone’s Foodmobile will be onsite for a public food distribution at New Life Church. \nPlease note that the Foodmobile is a Keystone food shelf and thus participants can only access services once a month. Visit here\, for more details about using the Foodmobile.
URL:https://keystoneservices.org/events/foodmobile-public-distribution-new-life-church-8-2022-06-15/2022-11-16/
LOCATION:New Life Church\, 965 Larpenteur Ave W\, Roseville\, MN\, 55113\, United States
GEO:44.9926909;-93.140767
X-APPLE-STRUCTURED-LOCATION;VALUE=URI;X-ADDRESS=New Life Church 965 Larpenteur Ave W Roseville MN 55113 United States;X-APPLE-RADIUS=500;X-TITLE=965 Larpenteur Ave W:geo:-93.140767,44.9926909
END:VEVENT
BEGIN:VEVENT
DTSTART;TZID=America/Chicago:20221116T131500
DTEND;TZID=America/Chicago:20221116T151500
DTSTAMP:20260425T155225
CREATED:20221021T175656Z
LAST-MODIFIED:20221021T180739Z
UID:10002013-1668604500-1668611700@keystoneservices.org
SUMMARY:Foodmobile Public Distribution - McDonough Rec Center
DESCRIPTION:For people needing emergency food support we are pleased to offer public Foodmobile distribution events. Keystone’s Foodmobile will be onsite for a public food distribution at McDonough Recreation Center. \nPlease note that the Foodmobile is a Keystone food shelf and thus participants can only access services once a month. Visit here\, for more details about using the Foodmobile.
URL:https://keystoneservices.org/events/foodmobile-distribution-mcdonough-rec-center/2022-11-16/
LOCATION:McDonough Homes Rec Center\, 1544 Timberlake Rd\, St. Paul\, MN\, 55117\, United States
GEO:44.9876869;-93.0925941
X-APPLE-STRUCTURED-LOCATION;VALUE=URI;X-ADDRESS=McDonough Homes Rec Center 1544 Timberlake Rd St. Paul MN 55117 United States;X-APPLE-RADIUS=500;X-TITLE=1544 Timberlake Rd:geo:-93.0925941,44.9876869
END:VEVENT
END:VCALENDAR