BEGIN:VCALENDAR
VERSION:2.0
PRODID:-//Keystone Community Services - ECPv6.15.17.1//NONSGML v1.0//EN
CALSCALE:GREGORIAN
METHOD:PUBLISH
X-ORIGINAL-URL:https://keystoneservices.org
X-WR-CALDESC:Events for Keystone Community Services
REFRESH-INTERVAL;VALUE=DURATION:PT1H
X-Robots-Tag:noindex
X-PUBLISHED-TTL:PT1H
BEGIN:VTIMEZONE
TZID:America/Chicago
BEGIN:DAYLIGHT
TZOFFSETFROM:-0600
TZOFFSETTO:-0500
TZNAME:CDT
DTSTART:20210314T080000
END:DAYLIGHT
BEGIN:STANDARD
TZOFFSETFROM:-0500
TZOFFSETTO:-0600
TZNAME:CST
DTSTART:20211107T070000
END:STANDARD
BEGIN:DAYLIGHT
TZOFFSETFROM:-0600
TZOFFSETTO:-0500
TZNAME:CDT
DTSTART:20220313T080000
END:DAYLIGHT
BEGIN:STANDARD
TZOFFSETFROM:-0500
TZOFFSETTO:-0600
TZNAME:CST
DTSTART:20221106T070000
END:STANDARD
BEGIN:DAYLIGHT
TZOFFSETFROM:-0600
TZOFFSETTO:-0500
TZNAME:CDT
DTSTART:20230312T080000
END:DAYLIGHT
BEGIN:STANDARD
TZOFFSETFROM:-0500
TZOFFSETTO:-0600
TZNAME:CST
DTSTART:20231105T070000
END:STANDARD
END:VTIMEZONE
BEGIN:VEVENT
DTSTART;TZID=America/Chicago:20221205T181500
DTEND;TZID=America/Chicago:20221205T200000
DTSTAMP:20260423T081850
CREATED:20220901T170750Z
LAST-MODIFIED:20221121T170745Z
UID:10001994-1670264100-1670270400@keystoneservices.org
SUMMARY:Square Dancing
DESCRIPTION:This activity is hosted by Dakota Squares. \nDates: Mondays beginning September 26th through January. September 26 and October 3 are free!\nTimes: 6:15 p.m. – 8:00 p.m.\nCost: $5/session. Under 18 are always welcome free of charge.\nWhere: West 7th Community Center
URL:https://keystoneservices.org/events/square-dancing/2022-12-05/
LOCATION:West 7th Community Center\, 265 Oneida Street\, St. Paul\, MN\, 55102\, United States
GEO:44.9329884;-93.1237888
X-APPLE-STRUCTURED-LOCATION;VALUE=URI;X-ADDRESS=West 7th Community Center 265 Oneida Street St. Paul MN 55102 United States;X-APPLE-RADIUS=500;X-TITLE=265 Oneida Street:geo:-93.1237888,44.9329884
END:VEVENT
BEGIN:VEVENT
DTSTART;TZID=America/Chicago:20221206T113000
DTEND;TZID=America/Chicago:20221206T133000
DTSTAMP:20260423T081850
CREATED:20220113T183115Z
LAST-MODIFIED:20220721T155849Z
UID:10001900-1670326200-1670333400@keystoneservices.org
SUMMARY:Foodmobile Public Distribution - University of St. Thomas
DESCRIPTION:For people needing emergency food support we are pleased to offer public Foodmobile distribution events. Keystone’s Foodmobile will be onsite for a public food distribution at the University of St. Thomas\, outside of the Facilities & Design Center on Grand Ave & Cretin Ave S. \nPlease note that the Foodmobile is a Keystone food shelf and thus participants can only access services once a month. Visit here\, for more details about using the Foodmobile.
URL:https://keystoneservices.org/events/foodmobile-public-distribution-university-of-st-thomas-2/2022-12-06/
LOCATION:University of St. Thomas\, 2115 Summit Avenue\, St. Paul\, MN\, 55105\, United States
GEO:44.9401092;-93.1925247
X-APPLE-STRUCTURED-LOCATION;VALUE=URI;X-ADDRESS=University of St. Thomas 2115 Summit Avenue St. Paul MN 55105 United States;X-APPLE-RADIUS=500;X-TITLE=2115 Summit Avenue:geo:-93.1925247,44.9401092
END:VEVENT
BEGIN:VEVENT
DTSTART;TZID=America/Chicago:20221207T090000
DTEND;TZID=America/Chicago:20221207T110000
DTSTAMP:20260423T081850
CREATED:20210902T133419Z
LAST-MODIFIED:20220721T160151Z
UID:10001811-1670403600-1670410800@keystoneservices.org
SUMMARY:Foodmobile Public Distribution - St. Paul College
DESCRIPTION:For people needing looking for food support\, we are pleased to offer public Foodmobile distribution events. Keystone’s Foodmobile will be onsite at St. Paul College\, parked near Parking Lot B (at 235 Marshall Avenue). Please note that the Foodmobile is a Keystone food shelf and thus participants can only access services once a month. Visit here\, for more details about using the Foodmobile.
URL:https://keystoneservices.org/events/foodmobile-public-distribution-6/2022-12-07/
LOCATION:St. Paul College\, 235 Marshall Avenue\, St. Paul\, MN\, 55102\, United States
GEO:44.9490099;-93.1108612
X-APPLE-STRUCTURED-LOCATION;VALUE=URI;X-ADDRESS=St. Paul College 235 Marshall Avenue St. Paul MN 55102 United States;X-APPLE-RADIUS=500;X-TITLE=235 Marshall Avenue:geo:-93.1108612,44.9490099
END:VEVENT
BEGIN:VEVENT
DTSTART;TZID=America/Chicago:20221207T130000
DTEND;TZID=America/Chicago:20221207T150000
DTSTAMP:20260423T081850
CREATED:20221018T212715Z
LAST-MODIFIED:20221018T212715Z
UID:10002011-1670418000-1670425200@keystoneservices.org
SUMMARY:Desserts and Dancing in December
DESCRIPTION:The Keystone Senior Program is excited to bring back live music to the West 7th Community Center. Kick off the holiday season with dancing\, desserts\, and the Golden Tones band. Bring your dancing shoes\, and we will provide the rest. \nWhen: Wednesday\, December 7 from 1:00 – 3:00 p.m. \nWhere: Gym at the West 7th Community Center. \nCost: $5 per person and you can pay at the door. \nRVSP: Please RSVP to Keystone at 651-298-5493 by November 30 so we can have enough refreshments for everyone.
URL:https://keystoneservices.org/events/desserts-and-dancing-in-december/
LOCATION:West 7th Community Center\, 265 Oneida Street\, St. Paul\, MN\, 55102\, United States
GEO:44.9329884;-93.1237888
X-APPLE-STRUCTURED-LOCATION;VALUE=URI;X-ADDRESS=West 7th Community Center 265 Oneida Street St. Paul MN 55102 United States;X-APPLE-RADIUS=500;X-TITLE=265 Oneida Street:geo:-93.1237888,44.9329884
END:VEVENT
END:VCALENDAR