BEGIN:VCALENDAR
VERSION:2.0
PRODID:-//Keystone Community Services - ECPv6.15.17.1//NONSGML v1.0//EN
CALSCALE:GREGORIAN
METHOD:PUBLISH
X-ORIGINAL-URL:https://keystoneservices.org
X-WR-CALDESC:Events for Keystone Community Services
REFRESH-INTERVAL;VALUE=DURATION:PT1H
X-Robots-Tag:noindex
X-PUBLISHED-TTL:PT1H
BEGIN:VTIMEZONE
TZID:America/Chicago
BEGIN:DAYLIGHT
TZOFFSETFROM:-0600
TZOFFSETTO:-0500
TZNAME:CDT
DTSTART:20210314T080000
END:DAYLIGHT
BEGIN:STANDARD
TZOFFSETFROM:-0500
TZOFFSETTO:-0600
TZNAME:CST
DTSTART:20211107T070000
END:STANDARD
BEGIN:DAYLIGHT
TZOFFSETFROM:-0600
TZOFFSETTO:-0500
TZNAME:CDT
DTSTART:20220313T080000
END:DAYLIGHT
BEGIN:STANDARD
TZOFFSETFROM:-0500
TZOFFSETTO:-0600
TZNAME:CST
DTSTART:20221106T070000
END:STANDARD
BEGIN:DAYLIGHT
TZOFFSETFROM:-0600
TZOFFSETTO:-0500
TZNAME:CDT
DTSTART:20230312T080000
END:DAYLIGHT
BEGIN:STANDARD
TZOFFSETFROM:-0500
TZOFFSETTO:-0600
TZNAME:CST
DTSTART:20231105T070000
END:STANDARD
END:VTIMEZONE
BEGIN:VEVENT
DTSTART;TZID=America/Chicago:20221212T100000
DTEND;TZID=America/Chicago:20221212T120000
DTSTAMP:20260422T092811
CREATED:20220113T183832Z
LAST-MODIFIED:20241213T223727Z
UID:10001911-1670839200-1670846400@keystoneservices.org
SUMMARY:Foodmobile Public Distribution - Roseville Library
DESCRIPTION:For people needing emergency food support we are pleased to offer public Foodmobile distribution events. Keystone’s Foodmobile will be onsite for a public food distribution at the Roseville Public Library. \nPlease note that the Foodmobile is a Keystone food shelf and thus participants can only access services once a month. Visit here\, for more details about using the Foodmobile.
URL:https://keystoneservices.org/events/foodmobile-public-distribution-roseville-library-10/2022-12-12/
LOCATION:Roseville County Library\, 2180 Hamline Ave N\, Roseville\, MN\, 55113\, United States
GEO:45.0074048;-93.1557921
X-APPLE-STRUCTURED-LOCATION;VALUE=URI;X-ADDRESS=Roseville County Library 2180 Hamline Ave N Roseville MN 55113 United States;X-APPLE-RADIUS=500;X-TITLE=2180 Hamline Ave N:geo:-93.1557921,45.0074048
END:VEVENT
BEGIN:VEVENT
DTSTART;TZID=America/Chicago:20221212T140000
DTEND;TZID=America/Chicago:20221212T160000
DTSTAMP:20260422T092811
CREATED:20220113T182727Z
LAST-MODIFIED:20220721T155531Z
UID:10001877-1670853600-1670860800@keystoneservices.org
SUMMARY:Foodmobile Public Distribution - Terrace Heights
DESCRIPTION:For people needing emergency food support we are pleased to offer public Foodmobile distribution events. Keystone’s Foodmobile will be onsite for a public food distribution at Terrace Heights. \nPlease note that the Foodmobile is a Keystone food shelf and thus participants can only access services once a month. Visit here\, for more details about using the Foodmobile.
URL:https://keystoneservices.org/events/foodmobile-public-distribution-terrace-heights-10/2022-12-12/
LOCATION:Terrace Heights Mobile Homes\, 2442 Rice Street\, St. Paul\, MN\, 55113\, United States
GEO:45.0148204;-93.1052034
X-APPLE-STRUCTURED-LOCATION;VALUE=URI;X-ADDRESS=Terrace Heights Mobile Homes 2442 Rice Street St. Paul MN 55113 United States;X-APPLE-RADIUS=500;X-TITLE=2442 Rice Street:geo:-93.1052034,45.0148204
END:VEVENT
BEGIN:VEVENT
DTSTART;TZID=America/Chicago:20221212T170000
DTEND;TZID=America/Chicago:20221212T200000
DTSTAMP:20260422T092811
CREATED:20221208T194532Z
LAST-MODIFIED:20221208T195006Z
UID:10002183-1670864400-1670875200@keystoneservices.org
SUMMARY:Free Event: Canadian Pacific Holiday Train
DESCRIPTION:Keystone has been selected as the local non-profit partner for the Canadian Pacific Holiday Train’s stop in Saint Paul at the Union Depot. People who are attending this event will bring food or cash donations to support Keystone’s food shelf-programs. The event is taking place on Monday\, December 12th from 5:00pm to 8:00pm. This is a great way for you and your loved ones to show support for Keystone while eating delicious concessions and browsing vendors! To learn more about the event\, visit Union Depot’s website by clicking here. \n 
URL:https://keystoneservices.org/events/free-event-canadian-pacific-holiday-train/
LOCATION:Union Depot\, 214 4th Street East\, Saint Paul\, MN\, 55101\, United States
GEO:44.9474271;-93.0858774
X-APPLE-STRUCTURED-LOCATION;VALUE=URI;X-ADDRESS=Union Depot 214 4th Street East Saint Paul MN 55101 United States;X-APPLE-RADIUS=500;X-TITLE=214 4th Street East:geo:-93.0858774,44.9474271
END:VEVENT
BEGIN:VEVENT
DTSTART;TZID=America/Chicago:20221212T181500
DTEND;TZID=America/Chicago:20221212T200000
DTSTAMP:20260422T092811
CREATED:20220901T170750Z
LAST-MODIFIED:20221121T170745Z
UID:10001995-1670868900-1670875200@keystoneservices.org
SUMMARY:Square Dancing
DESCRIPTION:This activity is hosted by Dakota Squares. \nDates: Mondays beginning September 26th through January. September 26 and October 3 are free!\nTimes: 6:15 p.m. – 8:00 p.m.\nCost: $5/session. Under 18 are always welcome free of charge.\nWhere: West 7th Community Center
URL:https://keystoneservices.org/events/square-dancing/2022-12-12/
LOCATION:West 7th Community Center\, 265 Oneida Street\, St. Paul\, MN\, 55102\, United States
GEO:44.9329884;-93.1237888
X-APPLE-STRUCTURED-LOCATION;VALUE=URI;X-ADDRESS=West 7th Community Center 265 Oneida Street St. Paul MN 55102 United States;X-APPLE-RADIUS=500;X-TITLE=265 Oneida Street:geo:-93.1237888,44.9329884
END:VEVENT
BEGIN:VEVENT
DTSTART;TZID=America/Chicago:20221213T100000
DTEND;TZID=America/Chicago:20221213T120000
DTSTAMP:20260422T092811
CREATED:20220304T191249Z
LAST-MODIFIED:20221021T174959Z
UID:10001954-1670925600-1670932800@keystoneservices.org
SUMMARY:Foodmobile Public Distribution - Anpetu Teca
DESCRIPTION:For people needing emergency food support we are pleased to offer public Foodmobile distribution events. Keystone’s Foodmobile will be onsite for a public food distribution at the Anpetu Teca Education Center. \nPlease note that the Foodmobile is a Keystone food shelf and thus participants can only access services once a month. Visit here\, for more details about using the Foodmobile.
URL:https://keystoneservices.org/events/foodmobile-public-distribution-anpetu-teca-2022-12-13/2022-12-13/
LOCATION:Anpetu Teca Education Center\, 1910 County B Rd W\, Roseville\, MN\, 55113\, United States
GEO:45.0049815;-93.1801093
X-APPLE-STRUCTURED-LOCATION;VALUE=URI;X-ADDRESS=Anpetu Teca Education Center 1910 County B Rd W Roseville MN 55113 United States;X-APPLE-RADIUS=500;X-TITLE=1910 County B Rd W:geo:-93.1801093,45.0049815
END:VEVENT
BEGIN:VEVENT
DTSTART;TZID=America/Chicago:20221213T140000
DTEND;TZID=America/Chicago:20221213T160000
DTSTAMP:20260422T092811
CREATED:20220113T182916Z
LAST-MODIFIED:20220721T155116Z
UID:10001890-1670940000-1670947200@keystoneservices.org
SUMMARY:Foodmobile Public Distribution - St. Michael's
DESCRIPTION:For people needing emergency food support we are pleased to offer public Foodmobile distribution events. Keystone’s Foodmobile will be onsite for a public food distribution at St. Michael’s. \nPlease note that the Foodmobile is a Keystone food shelf and thus participants can only access services once a month. Visit here\, for more details about using the Foodmobile.
URL:https://keystoneservices.org/events/foodmobile-public-distribution-st-michaels-10/2022-12-13/
LOCATION:St. Michael’s Lutheran Church\, 1660 County B Rd W\, Roseville\, MN\, 55113\, United States
GEO:45.0054763;-93.1701553
X-APPLE-STRUCTURED-LOCATION;VALUE=URI;X-ADDRESS=St. Michael’s Lutheran Church 1660 County B Rd W Roseville MN 55113 United States;X-APPLE-RADIUS=500;X-TITLE=1660 County B Rd W:geo:-93.1701553,45.0054763
END:VEVENT
BEGIN:VEVENT
DTSTART;TZID=America/Chicago:20221214T100000
DTEND;TZID=America/Chicago:20221214T120000
DTSTAMP:20260422T092811
CREATED:20221205T174006Z
LAST-MODIFIED:20221205T174037Z
UID:10002103-1671012000-1671019200@keystoneservices.org
SUMMARY:Foodmobile Public Distribution
DESCRIPTION:For people needing emergency food support we are pleased to offer public Foodmobile distribution events. Keystone’s Foodmobile will be onsite for a public food distribution at the HealthPartners – Como Clinic. \nPlease note that the Foodmobile is a Keystone food shelf and thus participants can only access services once a month. Visit here\, for more details about using the Foodmobile.
URL:https://keystoneservices.org/events/foodmobile-public-distribution-7/
LOCATION:HealthPartners – Como Clinic\, 2500 Como Ave\, Saint Paul\, 55108\, United States
GEO:44.9865133;-93.2019148
X-APPLE-STRUCTURED-LOCATION;VALUE=URI;X-ADDRESS=HealthPartners – Como Clinic 2500 Como Ave Saint Paul 55108 United States;X-APPLE-RADIUS=500;X-TITLE=2500 Como Ave:geo:-93.2019148,44.9865133
END:VEVENT
BEGIN:VEVENT
DTSTART;VALUE=DATE:20221215
DTEND;VALUE=DATE:20221217
DTSTAMP:20260422T092811
CREATED:20221208T203834Z
LAST-MODIFIED:20221208T204341Z
UID:10002184-1671062400-1671235199@keystoneservices.org
SUMMARY:Holiday Shop with a Purpose at Roseville Schuler Shoes
DESCRIPTION:Keystone Community Services has been chosen by the employees at the Roseville Schuler Shoes as their nonprofit partner for this year’s Shop with a Purpose Event. \n10% of the sales from December 15th & December 16th will support Keystone and our work in the community. \nWith the holiday season upon us\, now is a great time to get your last-minute gifts or treat yourself all while supporting Keystone. Thank you\, Schuler Shoes!
URL:https://keystoneservices.org/events/holiday-shop-with-a-purpose-at-schuler-shoes/
LOCATION:Roseville Schuler Shoes\, 1475 County Road B W\, Roseville\, MN\, 55113\, United States
GEO:45.0073416;-93.1620486
X-APPLE-STRUCTURED-LOCATION;VALUE=URI;X-ADDRESS=Roseville Schuler Shoes 1475 County Road B W Roseville MN 55113 United States;X-APPLE-RADIUS=500;X-TITLE=1475 County Road B W:geo:-93.1620486,45.0073416
END:VEVENT
END:VCALENDAR