BEGIN:VCALENDAR
VERSION:2.0
PRODID:-//Keystone Community Services - ECPv6.15.17.1//NONSGML v1.0//EN
CALSCALE:GREGORIAN
METHOD:PUBLISH
X-ORIGINAL-URL:https://keystoneservices.org
X-WR-CALDESC:Events for Keystone Community Services
REFRESH-INTERVAL;VALUE=DURATION:PT1H
X-Robots-Tag:noindex
X-PUBLISHED-TTL:PT1H
BEGIN:VTIMEZONE
TZID:America/Chicago
BEGIN:DAYLIGHT
TZOFFSETFROM:-0600
TZOFFSETTO:-0500
TZNAME:CDT
DTSTART:20220313T080000
END:DAYLIGHT
BEGIN:STANDARD
TZOFFSETFROM:-0500
TZOFFSETTO:-0600
TZNAME:CST
DTSTART:20221106T070000
END:STANDARD
BEGIN:DAYLIGHT
TZOFFSETFROM:-0600
TZOFFSETTO:-0500
TZNAME:CDT
DTSTART:20230312T080000
END:DAYLIGHT
BEGIN:STANDARD
TZOFFSETFROM:-0500
TZOFFSETTO:-0600
TZNAME:CST
DTSTART:20231105T070000
END:STANDARD
BEGIN:DAYLIGHT
TZOFFSETFROM:-0600
TZOFFSETTO:-0500
TZNAME:CDT
DTSTART:20240310T080000
END:DAYLIGHT
BEGIN:STANDARD
TZOFFSETFROM:-0500
TZOFFSETTO:-0600
TZNAME:CST
DTSTART:20241103T070000
END:STANDARD
END:VTIMEZONE
BEGIN:VEVENT
DTSTART;TZID=America/Chicago:20231128T120000
DTEND;TZID=America/Chicago:20231128T140000
DTSTAMP:20260425T131946
CREATED:20231109T210725Z
LAST-MODIFIED:20231109T211042Z
UID:10002229-1701172800-1701180000@keystoneservices.org
SUMMARY:Lunch and Conversation with Keystone Community Services: for Adults 55 and Older from the Latino Community
DESCRIPTION:Talk with us about what services and programs are helpful for you! Share your ideas with Keystone to help us plan services for the future. \nWhen: Tuesday\, November 28 \nTime: 12:00 – 2:00 p.m. \nWhere: Neighborhood House\, 179 Robie St. E.\, St. Paul\, MN 55107 \nLunch will be served\, and participants will receive gift bags of food! \nPlease register by calling 651-603-6641 or email jmccarthy@keystoneservices.org.
URL:https://keystoneservices.org/events/lunch-and-conversation-with-keystone-community-services-for-adults-55-and-older-from-the-latino-community/
LOCATION:Neighborhood House\, 179 Robie St. E\, Saint Paul\, MN\, 55107\, United States
GEO:44.9307843;-93.0771457
X-APPLE-STRUCTURED-LOCATION;VALUE=URI;X-ADDRESS=Neighborhood House 179 Robie St. E Saint Paul MN 55107 United States;X-APPLE-RADIUS=500;X-TITLE=179 Robie St. E:geo:-93.0771457,44.9307843
END:VEVENT
BEGIN:VEVENT
DTSTART;TZID=America/Chicago:20231128T140000
DTEND;TZID=America/Chicago:20231128T160000
DTSTAMP:20260425T131946
CREATED:20221219T220645Z
LAST-MODIFIED:20231228T193928Z
UID:10002157-1701180000-1701187200@keystoneservices.org
SUMMARY:Foodmobile Public Distribution - Rice Street Library
DESCRIPTION:For people needing emergency food support we are pleased to offer public Foodmobile distribution events. Keystone’s Foodmobile will be onsite for a public food distribution at St. Paul Library – Rice Street Library location. \nPlease note that the Foodmobile is a Keystone food shelf and thus participants can only access services once a month. Visit here\, for more details about using the Foodmobile.
URL:https://keystoneservices.org/events/foodmobile-public-distribution-rice-street-library-2/2023-11-28/
LOCATION:St. Paul Public Library – Rice Street Library\, 1011 Rice Street\, St. Paul\, MN\, 55117\, United States
GEO:44.9717938;-93.1063352
X-APPLE-STRUCTURED-LOCATION;VALUE=URI;X-ADDRESS=St. Paul Public Library – Rice Street Library 1011 Rice Street St. Paul MN 55117 United States;X-APPLE-RADIUS=500;X-TITLE=1011 Rice Street:geo:-93.1063352,44.9717938
END:VEVENT
BEGIN:VEVENT
DTSTART;TZID=America/Chicago:20231129T100000
DTEND;TZID=America/Chicago:20231129T113000
DTSTAMP:20260425T131946
CREATED:20230808T145424Z
LAST-MODIFIED:20230808T145424Z
UID:10002202-1701252000-1701257400@keystoneservices.org
SUMMARY:Community Sing Along
DESCRIPTION:Do you love to sing? How about singing with others who love to sing? \nWhether you have sung in choirs your whole life or have only belted out tunes in the privacy of your shower or car\, come join us at West 7th Community Center for a monthly series of community sing-alongs! Led by conductor Robert Graham and pianist John Jensen of VocalEssence\, a 54-year old choral music organization based in Minneapolis – singers of all levels of musical skill and experience are encouraged to come and raise their voices. We work on learning a variety of familiar and new music while forging new friendships and connections along the way. \nThis FREE series is open to all adults 55+\, no experience necessary! This series is a precursor to the launch of the VocalEssence Vintage Voices choir at Keystone in Spring 2024. \nWe hope to see you there! To RSVP\, please call 651-298-5493. \n 
URL:https://keystoneservices.org/events/community-sing-along/2023-11-29/
LOCATION:West 7th Community Center\, 265 Oneida Street\, St. Paul\, MN\, 55102\, United States
GEO:44.9329884;-93.1237888
X-APPLE-STRUCTURED-LOCATION;VALUE=URI;X-ADDRESS=West 7th Community Center 265 Oneida Street St. Paul MN 55102 United States;X-APPLE-RADIUS=500;X-TITLE=265 Oneida Street:geo:-93.1237888,44.9329884
END:VEVENT
BEGIN:VEVENT
DTSTART;TZID=America/Chicago:20231130T140000
DTEND;TZID=America/Chicago:20231130T160000
DTSTAMP:20260425T131946
CREATED:20230925T142125Z
LAST-MODIFIED:20231004T163002Z
UID:10002211-1701352800-1701360000@keystoneservices.org
SUMMARY:Foodmobile Public Distribution – McDonough Homes Recreation Center
DESCRIPTION:For people needing emergency food support we are pleased to offer public Foodmobile distribution events. Keystone’s Foodmobile will be onsite for a public food distribution at St. Michael’s. \nPlease note that the Foodmobile is a Keystone food shelf and thus participants can only access services once a month. Visit here\, for more details about using the Foodmobile.
URL:https://keystoneservices.org/events/foodmobile-public-distribution-mcdonough-homes-recreation-center/2023-11-30/
LOCATION:McDonough Homes Rec Center\, 1544 Timberlake Rd\, St. Paul\, MN\, 55117\, United States
GEO:44.9876869;-93.0925941
X-APPLE-STRUCTURED-LOCATION;VALUE=URI;X-ADDRESS=McDonough Homes Rec Center 1544 Timberlake Rd St. Paul MN 55117 United States;X-APPLE-RADIUS=500;X-TITLE=1544 Timberlake Rd:geo:-93.0925941,44.9876869
END:VEVENT
BEGIN:VEVENT
DTSTART;TZID=America/Chicago:20231201T100000
DTEND;TZID=America/Chicago:20231201T120000
DTSTAMP:20260425T131946
CREATED:20221116T191340Z
LAST-MODIFIED:20260303T203438Z
UID:10001617-1701424800-1701432000@keystoneservices.org
SUMMARY:Fare for All
DESCRIPTION:Keystone offers the Fare for All program at the West 7th Community Center. This program is available to everyone and is made possible by a partnership with The Food Group. Get more information about Fare for All here. \n 
URL:https://keystoneservices.org/events/fare-for-all-23/2023-12-01/
LOCATION:West 7th Community Center\, 265 Oneida Street\, St. Paul\, MN\, 55102\, United States
GEO:44.9329884;-93.1237888
X-APPLE-STRUCTURED-LOCATION;VALUE=URI;X-ADDRESS=West 7th Community Center 265 Oneida Street St. Paul MN 55102 United States;X-APPLE-RADIUS=500;X-TITLE=265 Oneida Street:geo:-93.1237888,44.9329884
END:VEVENT
BEGIN:VEVENT
DTSTART;TZID=America/Chicago:20231203T120000
DTEND;TZID=America/Chicago:20231203T150000
DTSTAMP:20260425T131946
CREATED:20231030T173845Z
LAST-MODIFIED:20231115T215155Z
UID:10002228-1701604800-1701615600@keystoneservices.org
SUMMARY:Presented by the St. Paul North Ramsey 500 Lions Club: Pictures with Santa
DESCRIPTION:Bring your little ones to meet Santa and support hunger relief in our community! \n\nWhen: Sunday\, December 3 \n\nTime: 12:00 – 3:00 P.M. \n\nWhere: Autumn Grove Park Facility 1395 Lydia Ave. W\, Roseville\, MN 55113 \n\nCost: $10 per child\, payable with cash or check at the door \n\nOne fresh cut\, decorated Christmas tree will be raffled off at $2/ticket. The winner will be announced at 3pm! \n\nAll proceeds benefit the Keystone Community Services Foodmobile program. The Lions are partnering with Keystone to provide mobile food support to people in need. Please consider bringing a non perishable food item! \nCLICK HERE TO REGISTER: https://www.signupgenius.com/go/4090C4CACAC23A7FD0-44560831-pictures#/
URL:https://keystoneservices.org/events/presented-by-the-st-paul-north-ramsey-500-lions-club-pictures-with-santa/
LOCATION:Autumn Grove Park Facility\, 1395 Lydia Ave W\, Roseville\, MN\, 55113\, United States
GEO:45.033147;-93.206362
X-APPLE-STRUCTURED-LOCATION;VALUE=URI;X-ADDRESS=Autumn Grove Park Facility 1395 Lydia Ave W Roseville MN 55113 United States;X-APPLE-RADIUS=500;X-TITLE=1395 Lydia Ave W:geo:-93.206362,45.033147
END:VEVENT
END:VCALENDAR