BEGIN:VCALENDAR
VERSION:2.0
PRODID:-//Keystone Community Services - ECPv6.15.17.1//NONSGML v1.0//EN
CALSCALE:GREGORIAN
METHOD:PUBLISH
X-WR-CALNAME:Keystone Community Services
X-ORIGINAL-URL:https://keystoneservices.org
X-WR-CALDESC:Events for Keystone Community Services
REFRESH-INTERVAL;VALUE=DURATION:PT1H
X-Robots-Tag:noindex
X-PUBLISHED-TTL:PT1H
BEGIN:VTIMEZONE
TZID:America/Chicago
BEGIN:DAYLIGHT
TZOFFSETFROM:-0600
TZOFFSETTO:-0500
TZNAME:CDT
DTSTART:20230312T080000
END:DAYLIGHT
BEGIN:STANDARD
TZOFFSETFROM:-0500
TZOFFSETTO:-0600
TZNAME:CST
DTSTART:20231105T070000
END:STANDARD
BEGIN:DAYLIGHT
TZOFFSETFROM:-0600
TZOFFSETTO:-0500
TZNAME:CDT
DTSTART:20240310T080000
END:DAYLIGHT
BEGIN:STANDARD
TZOFFSETFROM:-0500
TZOFFSETTO:-0600
TZNAME:CST
DTSTART:20241103T070000
END:STANDARD
BEGIN:DAYLIGHT
TZOFFSETFROM:-0600
TZOFFSETTO:-0500
TZNAME:CDT
DTSTART:20250309T080000
END:DAYLIGHT
BEGIN:STANDARD
TZOFFSETFROM:-0500
TZOFFSETTO:-0600
TZNAME:CST
DTSTART:20251102T070000
END:STANDARD
END:VTIMEZONE
BEGIN:VEVENT
DTSTART;TZID=America/Chicago:20240325T093000
DTEND;TZID=America/Chicago:20240325T113000
DTSTAMP:20260423T194832
CREATED:20221116T220105Z
LAST-MODIFIED:20240322T181654Z
UID:10002053-1711359000-1711366200@keystoneservices.org
SUMMARY:CANCELLED: Foodmobile Public Distribution – DaVita Dialysis
DESCRIPTION:Due to the projected inclement weather on Monday\, March 25th\, we are cancelling our Foodmobile Public Distribution stop at DaVita Dialysis. We apologize for any inconvenience this may cause!  \nFor people needing emergency food support we are pleased to offer public Foodmobile distribution events. Keystone’s Foodmobile will be onsite for a public food distribution at DaVita Dialysis. \nPlease note that the Foodmobile is a Keystone food shelf and thus participants can only access services once a month. Visit here\, for more details about using the Foodmobile.
URL:https://keystoneservices.org/events/foodmobile-public-distribution-davita-dialysis-2-2023-04-17-2024-03-25/
LOCATION:davita dialysis\, 555 Park St\, Saint Paul\, MN\, 55103\, United States
GEO:44.9583016;-93.1040855
X-APPLE-STRUCTURED-LOCATION;VALUE=URI;X-ADDRESS=davita dialysis 555 Park St Saint Paul MN 55103 United States;X-APPLE-RADIUS=500;X-TITLE=555 Park St:geo:-93.1040855,44.9583016
END:VEVENT
BEGIN:VEVENT
DTSTART;TZID=America/Chicago:20240326T093000
DTEND;TZID=America/Chicago:20240326T113000
DTSTAMP:20260423T194832
CREATED:20221116T220105Z
LAST-MODIFIED:20241213T224630Z
UID:10002043-1711445400-1711452600@keystoneservices.org
SUMMARY:Foodmobile Public Distribution – DaVita Dialysis
DESCRIPTION:For people needing emergency food support we are pleased to offer public Foodmobile distribution events. Keystone’s Foodmobile will be onsite for a public food distribution at DaVita Dialysis. \nPlease note that the Foodmobile is a Keystone food shelf and thus participants can only access services once a month. Visit here\, for more details about using the Foodmobile.
URL:https://keystoneservices.org/events/foodmobile-public-distribution-davita-dialysis-2-2023-04-17/2024-03-26/
LOCATION:davita dialysis\, 555 Park St\, Saint Paul\, MN\, 55103\, United States
GEO:44.9583016;-93.1040855
X-APPLE-STRUCTURED-LOCATION;VALUE=URI;X-ADDRESS=davita dialysis 555 Park St Saint Paul MN 55103 United States;X-APPLE-RADIUS=500;X-TITLE=555 Park St:geo:-93.1040855,44.9583016
END:VEVENT
BEGIN:VEVENT
DTSTART;TZID=America/Chicago:20240327T100000
DTEND;TZID=America/Chicago:20240327T120000
DTSTAMP:20260423T194832
CREATED:20221128T213735Z
LAST-MODIFIED:20241213T222158Z
UID:10002092-1711533600-1711540800@keystoneservices.org
SUMMARY:Foodmobile Public Distribution – HealthPartners Como Clinic
DESCRIPTION:For people needing emergency food support we are pleased to offer public Foodmobile distribution events. Keystone’s Foodmobile will be onsite for a public food distribution at the HealthPartners – Como Clinic. \nPlease note that the Foodmobile is a Keystone food shelf and thus participants can only access services once a month. Visit here\, for more details about using the Foodmobile.
URL:https://keystoneservices.org/events/foodmobile-public-distribution-healthpartners-como-clinic/2024-03-27/
LOCATION:HealthPartners – Como Clinic\, 2500 Como Ave\, Saint Paul\, 55108\, United States
GEO:44.9865133;-93.2019148
X-APPLE-STRUCTURED-LOCATION;VALUE=URI;X-ADDRESS=HealthPartners – Como Clinic 2500 Como Ave Saint Paul 55108 United States;X-APPLE-RADIUS=500;X-TITLE=2500 Como Ave:geo:-93.2019148,44.9865133
END:VEVENT
BEGIN:VEVENT
DTSTART;TZID=America/Chicago:20240327T133000
DTEND;TZID=America/Chicago:20240327T150000
DTSTAMP:20260423T194832
CREATED:20240109T211632Z
LAST-MODIFIED:20240423T210137Z
UID:10002246-1711546200-1711551600@keystoneservices.org
SUMMARY:Community Sing Along
DESCRIPTION:Do you love to sing? How about singing with others who love to sing? \nWhether you have sung in choirs your whole life or have only belted out tunes in the privacy of your shower or car\, come join us at West 7th Community Center for a monthly series of community sing-alongs! Led by conductor Robert Graham and pianist John Jensen of VocalEssence\, a 54-year old choral music organization based in Minneapolis – singers of all levels of musical skill and experience are encouraged to come and raise their voices. We work on learning a variety of familiar and new music while forging new friendships and connections along the way. \nThis FREE series is open to all adults 55+\, no experience necessary! This series is a precursor to the launch of the VocalEssence Vintage Voices choir at Keystone in Spring 2024. \nWe hope to see you there! To RSVP\, please call 651-298-5493.
URL:https://keystoneservices.org/events/community-sing-along-2/2024-03-27/
LOCATION:West 7th Community Center\, 265 Oneida Street\, St. Paul\, MN\, 55102\, United States
GEO:44.9329884;-93.1237888
X-APPLE-STRUCTURED-LOCATION;VALUE=URI;X-ADDRESS=West 7th Community Center 265 Oneida Street St. Paul MN 55102 United States;X-APPLE-RADIUS=500;X-TITLE=265 Oneida Street:geo:-93.1237888,44.9329884
END:VEVENT
END:VCALENDAR