BEGIN:VCALENDAR
VERSION:2.0
PRODID:-//Keystone Community Services - ECPv6.15.17.1//NONSGML v1.0//EN
CALSCALE:GREGORIAN
METHOD:PUBLISH
X-ORIGINAL-URL:https://keystoneservices.org
X-WR-CALDESC:Events for Keystone Community Services
REFRESH-INTERVAL;VALUE=DURATION:PT1H
X-Robots-Tag:noindex
X-PUBLISHED-TTL:PT1H
BEGIN:VTIMEZONE
TZID:America/Chicago
BEGIN:DAYLIGHT
TZOFFSETFROM:-0600
TZOFFSETTO:-0500
TZNAME:CDT
DTSTART:20230312T080000
END:DAYLIGHT
BEGIN:STANDARD
TZOFFSETFROM:-0500
TZOFFSETTO:-0600
TZNAME:CST
DTSTART:20231105T070000
END:STANDARD
BEGIN:DAYLIGHT
TZOFFSETFROM:-0600
TZOFFSETTO:-0500
TZNAME:CDT
DTSTART:20240310T080000
END:DAYLIGHT
BEGIN:STANDARD
TZOFFSETFROM:-0500
TZOFFSETTO:-0600
TZNAME:CST
DTSTART:20241103T070000
END:STANDARD
BEGIN:DAYLIGHT
TZOFFSETFROM:-0600
TZOFFSETTO:-0500
TZNAME:CDT
DTSTART:20250309T080000
END:DAYLIGHT
BEGIN:STANDARD
TZOFFSETFROM:-0500
TZOFFSETTO:-0600
TZNAME:CST
DTSTART:20251102T070000
END:STANDARD
END:VTIMEZONE
BEGIN:VEVENT
DTSTART;TZID=America/Chicago:20240513T100000
DTEND;TZID=America/Chicago:20240513T120000
DTSTAMP:20260421T082737
CREATED:20221216T201708Z
LAST-MODIFIED:20240807T152729Z
UID:10002175-1715594400-1715601600@keystoneservices.org
SUMMARY:Foodmobile Public Distribution - Roseville Public Library
DESCRIPTION:For people needing emergency food support we are pleased to offer public Foodmobile distribution events. Keystone’s Foodmobile will be onsite for a public food distribution at the Roseville Public Library. \nA maximum of 50 households will be served during this time. \nPlease note that the Foodmobile is a Keystone food shelf and thus participants can only access services once a month. Visit here\, for more details about using the Foodmobile. \nPlease note that we have moved our location at the Roseville Library from the South parking lot (blue circle) to the North parking lot (yellow circle). The Foodmobile will be tucked back in the corner in the new spot. \n \n 
URL:https://keystoneservices.org/events/foodmobile-public-distribution-9/2024-05-13/
LOCATION:Roseville County Library\, 2180 Hamline Ave N\, Roseville\, MN\, 55113\, United States
GEO:45.0074048;-93.1557921
X-APPLE-STRUCTURED-LOCATION;VALUE=URI;X-ADDRESS=Roseville County Library 2180 Hamline Ave N Roseville MN 55113 United States;X-APPLE-RADIUS=500;X-TITLE=2180 Hamline Ave N:geo:-93.1557921,45.0074048
END:VEVENT
BEGIN:VEVENT
DTSTART;TZID=America/Chicago:20240514T140000
DTEND;TZID=America/Chicago:20240514T160000
DTSTAMP:20260421T082737
CREATED:20240226T214808Z
LAST-MODIFIED:20241213T222518Z
UID:10002273-1715695200-1715702400@keystoneservices.org
SUMMARY:Foodmobile Public Distribution – St. Michaels Lutheran Church
DESCRIPTION:For people needing emergency food support we are pleased to offer public Foodmobile distribution events. Keystone’s Foodmobile will be onsite for a public food distribution at the St. Michael’s Lutheran Church. \nA maximum of 50 households will be served during this time. \nPlease note that the Foodmobile is a Keystone food shelf and thus participants can only access services once a month. Visit here\, for more details about using the Foodmobile.
URL:https://keystoneservices.org/events/foodmobile-public-distribution-st-michaels-lutheran-church-3/2024-05-14/
LOCATION:St. Michael’s Lutheran Church\, 1660 County B Rd W\, Roseville\, MN\, 55113\, United States
GEO:45.0054763;-93.1701553
X-APPLE-STRUCTURED-LOCATION;VALUE=URI;X-ADDRESS=St. Michael’s Lutheran Church 1660 County B Rd W Roseville MN 55113 United States;X-APPLE-RADIUS=500;X-TITLE=1660 County B Rd W:geo:-93.1701553,45.0054763
END:VEVENT
BEGIN:VEVENT
DTSTART;TZID=America/Chicago:20240515T133000
DTEND;TZID=America/Chicago:20240515T150000
DTSTAMP:20260421T082737
CREATED:20240423T210048Z
LAST-MODIFIED:20240424T143715Z
UID:10002283-1715779800-1715785200@keystoneservices.org
SUMMARY:Community Sing Along
DESCRIPTION:Do you love to sing? How about singing with others who love to sing? \nWhether you have sung in choirs your whole life or have only belted out tunes in the privacy of your shower or car\, come join us at West 7th Community Center for a monthly series of community sing-alongs! Led by conductor Robert Graham and pianist John Jensen of VocalEssence\, a 54-year old choral music organization based in Minneapolis – singers of all levels of musical skill and experience are encouraged to come and raise their voices. We work on learning a variety of familiar and new music while forging new friendships and connections along the way. \nThis FREE series is open to all adults 55+\, no experience necessary! This series is a precursor to the launch of the VocalEssence Vintage Voices choir at Keystone in Spring 2024. \nWe hope to see you there! To RSVP\, please call 651-298-5493.
URL:https://keystoneservices.org/events/community-sing-along-3/2024-05-15/
LOCATION:Merriam Park Community Center\, 2000 St. Anthony Avenue\, Saint Paul\, MN\, 55104\, United States
GEO:44.9526961;-93.1851142
X-APPLE-STRUCTURED-LOCATION;VALUE=URI;X-ADDRESS=Merriam Park Community Center 2000 St. Anthony Avenue Saint Paul MN 55104 United States;X-APPLE-RADIUS=500;X-TITLE=2000 St. Anthony Avenue:geo:-93.1851142,44.9526961
END:VEVENT
BEGIN:VEVENT
DTSTART;TZID=America/Chicago:20240516T140000
DTEND;TZID=America/Chicago:20240516T160000
DTSTAMP:20260421T082737
CREATED:20221205T204430Z
LAST-MODIFIED:20240807T155818Z
UID:10002140-1715868000-1715875200@keystoneservices.org
SUMMARY:Foodmobile Public Distribution - New Life Church
DESCRIPTION:For people needing emergency food support we are pleased to offer public Foodmobile distribution events. Keystone’s Foodmobile will be onsite for a public food distribution at New Life Church. \nPlease note that the Foodmobile is a Keystone food shelf and thus participants can only access services once a month. Visit here\, for more details about using the Foodmobile.
URL:https://keystoneservices.org/events/foodmobile-public-distribution-new-life-church-10-2023-03-22-2023-10-25/2024-05-16/
LOCATION:New Life Church\, 965 Larpenteur Ave W\, Roseville\, MN\, 55113\, United States
GEO:44.9926909;-93.140767
X-APPLE-STRUCTURED-LOCATION;VALUE=URI;X-ADDRESS=New Life Church 965 Larpenteur Ave W Roseville MN 55113 United States;X-APPLE-RADIUS=500;X-TITLE=965 Larpenteur Ave W:geo:-93.140767,44.9926909
END:VEVENT
BEGIN:VEVENT
DTSTART;TZID=America/Chicago:20240516T180000
DTEND;TZID=America/Chicago:20240516T200000
DTSTAMP:20260421T082737
CREATED:20240424T152812Z
LAST-MODIFIED:20240509T172126Z
UID:10002284-1715882400-1715889600@keystoneservices.org
SUMMARY:VocalEssence Vintage Voices and Keystone Community Services Present: The Keystone Community Singers In Concert
DESCRIPTION:Create Peace! Share Joy! Spread Love! \nThe Keystone Community Singers cordially invite you to join us for an evening of song\, spoken word and fellowship at our inaugural Spring concert! As we relish in the spirit of spring renewal\, this heartfelt program will inspire you to be optimistic in the face of life’s challenges\, helping to create a world where we can all thrive in peace\, love\, and joy. \nLight refreshments will be provided.
URL:https://keystoneservices.org/events/community-sing-along-performance-day/
LOCATION:Merriam Park Community Center\, 2000 St. Anthony Avenue\, Saint Paul\, MN\, 55104\, United States
GEO:44.9526961;-93.1851142
X-APPLE-STRUCTURED-LOCATION;VALUE=URI;X-ADDRESS=Merriam Park Community Center 2000 St. Anthony Avenue Saint Paul MN 55104 United States;X-APPLE-RADIUS=500;X-TITLE=2000 St. Anthony Avenue:geo:-93.1851142,44.9526961
END:VEVENT
BEGIN:VEVENT
DTSTART;TZID=America/Chicago:20240517T100000
DTEND;TZID=America/Chicago:20240517T120000
DTSTAMP:20260421T082737
CREATED:20221205T203740Z
LAST-MODIFIED:20250317T200201Z
UID:10002117-1715940000-1715947200@keystoneservices.org
SUMMARY:Foodmobile Public Distribution - M Health Fairview – Roselawn Clinic
DESCRIPTION:For people needing emergency food support we are pleased to offer public Foodmobile distribution events. Keystone’s Foodmobile will be onsite for a public food distribution at M Health Fairview – Roselawn Clinic. \nA maximum of 50 households will be served during this time. \nPlease note that the Foodmobile is a Keystone food shelf and thus participants can only access services once a month. Visit here\, for more details about using the Foodmobile. \nPlease show up no later than 15 minutes before close. This helps us ensure that participants have enough time to shop\, staff have enough time to pack up\, and volunteers are staying true to their designated times. Thank you.
URL:https://keystoneservices.org/events/foodmobile-public-distribution-8/2024-05-17/
LOCATION:M Health Fairview – Roselawn Clinic\, 1983 Sloan Pl #1\, Saint Paul\, MN\, 55117\, United States
GEO:45.001471;-93.0885417
X-APPLE-STRUCTURED-LOCATION;VALUE=URI;X-ADDRESS=M Health Fairview – Roselawn Clinic 1983 Sloan Pl #1 Saint Paul MN 55117 United States;X-APPLE-RADIUS=500;X-TITLE=1983 Sloan Pl #1:geo:-93.0885417,45.001471
END:VEVENT
BEGIN:VEVENT
DTSTART;TZID=America/Chicago:20240518T120000
DTEND;TZID=America/Chicago:20240518T140000
DTSTAMP:20260421T082737
CREATED:20240429T192938Z
LAST-MODIFIED:20240429T193004Z
UID:10002285-1716033600-1716040800@keystoneservices.org
SUMMARY:Growing for Good
DESCRIPTION:Let’s cultivate a stronger community together! Join Como Park Lutheran Church for an educational growing event to learn about pollinators\, gardening\, and the importance of sharing. \nSpecial features include activities for kids\, tools swapping\, local honey tasting\, talking to a Master Gardener\, and more.
URL:https://keystoneservices.org/events/growing-for-good/
LOCATION:Como Park Lutheran Church\, 1376 Hoyt Avenue W\, Saint Paul\, MN\, 55108\, United States
GEO:44.9878663;-93.1582878
X-APPLE-STRUCTURED-LOCATION;VALUE=URI;X-ADDRESS=Como Park Lutheran Church 1376 Hoyt Avenue W Saint Paul MN 55108 United States;X-APPLE-RADIUS=500;X-TITLE=1376 Hoyt Avenue W:geo:-93.1582878,44.9878663
END:VEVENT
END:VCALENDAR