BEGIN:VCALENDAR
VERSION:2.0
PRODID:-//Keystone Community Services - ECPv6.15.17.1//NONSGML v1.0//EN
CALSCALE:GREGORIAN
METHOD:PUBLISH
X-ORIGINAL-URL:https://keystoneservices.org
X-WR-CALDESC:Events for Keystone Community Services
REFRESH-INTERVAL;VALUE=DURATION:PT1H
X-Robots-Tag:noindex
X-PUBLISHED-TTL:PT1H
BEGIN:VTIMEZONE
TZID:America/Chicago
BEGIN:DAYLIGHT
TZOFFSETFROM:-0600
TZOFFSETTO:-0500
TZNAME:CDT
DTSTART:20230312T080000
END:DAYLIGHT
BEGIN:STANDARD
TZOFFSETFROM:-0500
TZOFFSETTO:-0600
TZNAME:CST
DTSTART:20231105T070000
END:STANDARD
BEGIN:DAYLIGHT
TZOFFSETFROM:-0600
TZOFFSETTO:-0500
TZNAME:CDT
DTSTART:20240310T080000
END:DAYLIGHT
BEGIN:STANDARD
TZOFFSETFROM:-0500
TZOFFSETTO:-0600
TZNAME:CST
DTSTART:20241103T070000
END:STANDARD
BEGIN:DAYLIGHT
TZOFFSETFROM:-0600
TZOFFSETTO:-0500
TZNAME:CDT
DTSTART:20250309T080000
END:DAYLIGHT
BEGIN:STANDARD
TZOFFSETFROM:-0500
TZOFFSETTO:-0600
TZNAME:CST
DTSTART:20251102T070000
END:STANDARD
END:VTIMEZONE
BEGIN:VEVENT
DTSTART;TZID=America/Chicago:20240625T093000
DTEND;TZID=America/Chicago:20240625T113000
DTSTAMP:20260422T180940
CREATED:20221116T220105Z
LAST-MODIFIED:20241213T224630Z
UID:10002046-1719307800-1719315000@keystoneservices.org
SUMMARY:Foodmobile Public Distribution – DaVita Dialysis
DESCRIPTION:For people needing emergency food support we are pleased to offer public Foodmobile distribution events. Keystone’s Foodmobile will be onsite for a public food distribution at DaVita Dialysis. \nPlease note that the Foodmobile is a Keystone food shelf and thus participants can only access services once a month. Visit here\, for more details about using the Foodmobile.
URL:https://keystoneservices.org/events/foodmobile-public-distribution-davita-dialysis-2-2023-04-17/2024-06-25/
LOCATION:davita dialysis\, 555 Park St\, Saint Paul\, MN\, 55103\, United States
GEO:44.9583016;-93.1040855
X-APPLE-STRUCTURED-LOCATION;VALUE=URI;X-ADDRESS=davita dialysis 555 Park St Saint Paul MN 55103 United States;X-APPLE-RADIUS=500;X-TITLE=555 Park St:geo:-93.1040855,44.9583016
END:VEVENT
BEGIN:VEVENT
DTSTART;TZID=America/Chicago:20240626T100000
DTEND;TZID=America/Chicago:20240626T120000
DTSTAMP:20260422T180940
CREATED:20221128T213735Z
LAST-MODIFIED:20241213T222158Z
UID:10002095-1719396000-1719403200@keystoneservices.org
SUMMARY:Foodmobile Public Distribution – HealthPartners Como Clinic
DESCRIPTION:For people needing emergency food support we are pleased to offer public Foodmobile distribution events. Keystone’s Foodmobile will be onsite for a public food distribution at the HealthPartners – Como Clinic. \nPlease note that the Foodmobile is a Keystone food shelf and thus participants can only access services once a month. Visit here\, for more details about using the Foodmobile.
URL:https://keystoneservices.org/events/foodmobile-public-distribution-healthpartners-como-clinic/2024-06-26/
LOCATION:HealthPartners – Como Clinic\, 2500 Como Ave\, Saint Paul\, 55108\, United States
GEO:44.9865133;-93.2019148
X-APPLE-STRUCTURED-LOCATION;VALUE=URI;X-ADDRESS=HealthPartners – Como Clinic 2500 Como Ave Saint Paul 55108 United States;X-APPLE-RADIUS=500;X-TITLE=2500 Como Ave:geo:-93.2019148,44.9865133
END:VEVENT
BEGIN:VEVENT
DTSTART;TZID=America/Chicago:20240628T080000
DTEND;TZID=America/Chicago:20240628T170000
DTSTAMP:20260422T180940
CREATED:20240513T195829Z
LAST-MODIFIED:20240513T195918Z
UID:10002286-1719561600-1719594000@keystoneservices.org
SUMMARY:Onedia Scholarship Applications Due
DESCRIPTION:Keystone Community Services announces the availability of scholarships for adult learners\, ages 18+\, who are residents of the West 7th neighborhood of St. Paul. These funds are from money that remained after the closing of the Oneida Education Center that once operated in the West 7th area. Saint Paul Foundation currently provides financial management of the fund. \nBetween one to three individual grants ranging from $1\,000 to $4\,000 will be made to those chosen by the selection committee. Grants must be used towards a certificate or degree granting post-secondary education or training program and/or expenses that will enable the adult learner to pursue education or training. Funds will be paid directly to the school or vendors for directly related expenses such as tuition\, books\, bus passes\, child-care\, etc. or to the student on a reimbursement basis with appropriate receipts for those expenses. \nTo learn more about the scholarship requirements\, click here: 2024 Oneida Scholarship Information Sheet \nTo print the application for the scholarship requirements\, click here: 2024 Oneida Scholarship Application
URL:https://keystoneservices.org/events/onedia-scholarship-applications-due-2/
LOCATION:MN
END:VEVENT
BEGIN:VEVENT
DTSTART;TZID=America/Chicago:20240628T100000
DTEND;TZID=America/Chicago:20240628T120000
DTSTAMP:20260422T180940
CREATED:20221205T203740Z
LAST-MODIFIED:20250317T200201Z
UID:10002118-1719568800-1719576000@keystoneservices.org
SUMMARY:Foodmobile Public Distribution - M Health Fairview – Roselawn Clinic
DESCRIPTION:For people needing emergency food support we are pleased to offer public Foodmobile distribution events. Keystone’s Foodmobile will be onsite for a public food distribution at M Health Fairview – Roselawn Clinic. \nA maximum of 50 households will be served during this time. \nPlease note that the Foodmobile is a Keystone food shelf and thus participants can only access services once a month. Visit here\, for more details about using the Foodmobile. \nPlease show up no later than 15 minutes before close. This helps us ensure that participants have enough time to shop\, staff have enough time to pack up\, and volunteers are staying true to their designated times. Thank you.
URL:https://keystoneservices.org/events/foodmobile-public-distribution-8/2024-06-28/
LOCATION:M Health Fairview – Roselawn Clinic\, 1983 Sloan Pl #1\, Saint Paul\, MN\, 55117\, United States
GEO:45.001471;-93.0885417
X-APPLE-STRUCTURED-LOCATION;VALUE=URI;X-ADDRESS=M Health Fairview – Roselawn Clinic 1983 Sloan Pl #1 Saint Paul MN 55117 United States;X-APPLE-RADIUS=500;X-TITLE=1983 Sloan Pl #1:geo:-93.0885417,45.001471
END:VEVENT
END:VCALENDAR