BEGIN:VCALENDAR
VERSION:2.0
PRODID:-//Keystone Community Services - ECPv6.15.17.1//NONSGML v1.0//EN
CALSCALE:GREGORIAN
METHOD:PUBLISH
X-WR-CALNAME:Keystone Community Services
X-ORIGINAL-URL:https://keystoneservices.org
X-WR-CALDESC:Events for Keystone Community Services
REFRESH-INTERVAL;VALUE=DURATION:PT1H
X-Robots-Tag:noindex
X-PUBLISHED-TTL:PT1H
BEGIN:VTIMEZONE
TZID:America/Chicago
BEGIN:DAYLIGHT
TZOFFSETFROM:-0600
TZOFFSETTO:-0500
TZNAME:CDT
DTSTART:20230312T080000
END:DAYLIGHT
BEGIN:STANDARD
TZOFFSETFROM:-0500
TZOFFSETTO:-0600
TZNAME:CST
DTSTART:20231105T070000
END:STANDARD
BEGIN:DAYLIGHT
TZOFFSETFROM:-0600
TZOFFSETTO:-0500
TZNAME:CDT
DTSTART:20240310T080000
END:DAYLIGHT
BEGIN:STANDARD
TZOFFSETFROM:-0500
TZOFFSETTO:-0600
TZNAME:CST
DTSTART:20241103T070000
END:STANDARD
BEGIN:DAYLIGHT
TZOFFSETFROM:-0600
TZOFFSETTO:-0500
TZNAME:CDT
DTSTART:20250309T080000
END:DAYLIGHT
BEGIN:STANDARD
TZOFFSETFROM:-0500
TZOFFSETTO:-0600
TZNAME:CST
DTSTART:20251102T070000
END:STANDARD
END:VTIMEZONE
BEGIN:VEVENT
DTSTART;TZID=America/Chicago:20240729T160000
DTEND;TZID=America/Chicago:20240729T190000
DTSTAMP:20260421T150914
CREATED:20240708T185938Z
LAST-MODIFIED:20240729T180137Z
UID:10001795-1722268800-1722279600@keystoneservices.org
SUMMARY:Keys Fest 2024 – Join us for a night of fun and community!
DESCRIPTION:Keys Fest is back! Join us for our second annual Keys Fest 2024 event. \nDust off your lawn chair and come out and enjoy this casual\, fun\, free night. Gather with friends and neighbors for an evening of listening to live music for all ages and enjoy a variety of food trucks and activities. \nWhen: Monday\, July 29\nTime: 4:00 – 7:00 p.m.\nWhere: Keystone’s West 7th Community Center\, 265 Oneida Street\, St. Paul\, MN 55102 \nThe event is FREE\, but we encourage attendees to bring a school supply donation or cash contribution! \nMusical guests include: The Everett Smithson Band\, Jeff Ray & The Stakes and The Bazillions (kid-friendly rock n’ roll). \nSet times: \n4 p.m. – The Bazillions.\n5 p.m. – The Everett Smithson Band.\n6 p.m.  – Jeff Ray & The Stakes. \nFood trucks: Sawadtee (Thai cuisine)\, El Hornito’s (local pizza truck)\, and Pretty Great Cheesecake. \n Please note that you will need cash\, debit\, or credit card to purchase from the food trucks. \n \n*This activity is made possible by the voters of Minnesota through a grant from the Metropolitan Regional Arts Council\, thanks to a legislative appropriation from the arts and cultural heritage fund. \n 
URL:https://keystoneservices.org/events/keys-fest-2024-join-us-for-a-night-of-fun-and-community/
LOCATION:West 7th Community Center\, 265 Oneida Street\, St. Paul\, MN\, 55102\, United States
GEO:44.9329884;-93.1237888
X-APPLE-STRUCTURED-LOCATION;VALUE=URI;X-ADDRESS=West 7th Community Center 265 Oneida Street St. Paul MN 55102 United States;X-APPLE-RADIUS=500;X-TITLE=265 Oneida Street:geo:-93.1237888,44.9329884
END:VEVENT
BEGIN:VEVENT
DTSTART;TZID=America/Chicago:20240730T100000
DTEND;TZID=America/Chicago:20240730T120000
DTSTAMP:20260421T150914
CREATED:20231004T164016Z
LAST-MODIFIED:20240715T140401Z
UID:10002221-1722333600-1722340800@keystoneservices.org
SUMMARY:RESCEDULED: Foodmobile Public Distribution – Jeremiah Program (St. Paul)
DESCRIPTION:Due to the projected high temperatures on Monday\, July 15th\, we have rescheduled this stop for Tuesday\, July 30th! \nFor people needing emergency food support we are pleased to offer public Foodmobile distribution events. Keystone’s Foodmobile will be onsite for a public food distribution at Jeremiah Program in St. Paul. \nA maximum of 50 households will be served during this time. \nPlease note that the Foodmobile is a Keystone food shelf and thus participants can only access services once a month. Visit here\, for more details about using the Foodmobile. \nBelow is a map of where you can park:
URL:https://keystoneservices.org/events/foodmobile-public-distribution-jeremiah-program-st-paul-2024-07-15/
LOCATION:Jeremiah Program (St. Paul)\, 932 Rondo Ave\, Saint Paul\, MN\, 55104\, United States
GEO:44.9510297;-93.1398901
X-APPLE-STRUCTURED-LOCATION;VALUE=URI;X-ADDRESS=Jeremiah Program (St. Paul) 932 Rondo Ave Saint Paul MN 55104 United States;X-APPLE-RADIUS=500;X-TITLE=932 Rondo Ave:geo:-93.1398901,44.9510297
END:VEVENT
BEGIN:VEVENT
DTSTART;TZID=America/Chicago:20240801T090000
DTEND;TZID=America/Chicago:20240816T170000
DTSTAMP:20260421T150914
CREATED:20240710T140754Z
LAST-MODIFIED:20240710T140754Z
UID:10001798-1722502800-1723827600@keystoneservices.org
SUMMARY:School Supply Drop Off
DESCRIPTION:Help youth go back to school prepared! \n\nYouth will be heading back to school soon\, which means that back-to-school shopping is near! Shopping for school supplies can seem daunting for low-income families as their budgets are stretched due to the rise of the costs for food\, gas\, and other bills. \nDrop off location: Merriam Park Community Center\, 2000 St. Anthony Ave.\, St. Paul\, MN 55104 \nDrop off times: Monday – Friday\, 9:00 a.m. – 5:00 p.m. \n*New school supplies only! \nSchool supply donations will be accepted through August 16th! \nFor more information\, contact us at 651-645-0349 or info@keystoneservices.org. \nMore about the actual distribution event will be posted soon. \nClick here for the 2024 Supply List Flyer. \nClick here to check out our Amazon Wish List.
URL:https://keystoneservices.org/events/school-supply-drop-off-2/
LOCATION:Merriam Park Community Center\, 2000 St. Anthony Avenue\, Saint Paul\, MN\, 55104\, United States
GEO:44.9526961;-93.1851142
X-APPLE-STRUCTURED-LOCATION;VALUE=URI;X-ADDRESS=Merriam Park Community Center 2000 St. Anthony Avenue Saint Paul MN 55104 United States;X-APPLE-RADIUS=500;X-TITLE=2000 St. Anthony Avenue:geo:-93.1851142,44.9526961
END:VEVENT
BEGIN:VEVENT
DTSTART;TZID=America/Chicago:20240802T100000
DTEND;TZID=America/Chicago:20240802T120000
DTSTAMP:20260421T150914
CREATED:20240521T204202Z
LAST-MODIFIED:20240729T153335Z
UID:10002290-1722592800-1722600000@keystoneservices.org
SUMMARY:Free Farmer’s Market – Roseville Covenant Church
DESCRIPTION:Keystone is committed to giving people in our community access to fresh produce and healthy foods. Throughout the summer season\, Keystone will offer its events at Roseville Covenant Church\, the Rice and Arlington Field\, and the Allianz Field. You can learn more about this program and see the full list of dates here. All are welcome and this visit does NOT count as a food shelf visit. \nRegistration is not required for the events! \nThis event will take place at Roseville Covenant Church\, 2865 Hamline Ave. N\, Roseville\, MN 55113 from 10:00 a.m. to 12:00 p.m. This season’s Roseville Covenant Church event dates are: \n\nAugust 2\nSeptember 6\nOctober 4
URL:https://keystoneservices.org/events/free-farmers-market-roseville-covenant-church-2/2024-08-02/
LOCATION:Roseville Covenant Church\, 2865 Hamline Ave N\, St. Paul\, MN\, 55113\, United States
GEO:45.0275693;-93.1578186
X-APPLE-STRUCTURED-LOCATION;VALUE=URI;X-ADDRESS=Roseville Covenant Church 2865 Hamline Ave N St. Paul MN 55113 United States;X-APPLE-RADIUS=500;X-TITLE=2865 Hamline Ave N:geo:-93.1578186,45.0275693
END:VEVENT
END:VCALENDAR