BEGIN:VCALENDAR
VERSION:2.0
PRODID:-//Keystone Community Services - ECPv6.15.17.1//NONSGML v1.0//EN
CALSCALE:GREGORIAN
METHOD:PUBLISH
X-ORIGINAL-URL:https://keystoneservices.org
X-WR-CALDESC:Events for Keystone Community Services
REFRESH-INTERVAL;VALUE=DURATION:PT1H
X-Robots-Tag:noindex
X-PUBLISHED-TTL:PT1H
BEGIN:VTIMEZONE
TZID:America/Chicago
BEGIN:DAYLIGHT
TZOFFSETFROM:-0600
TZOFFSETTO:-0500
TZNAME:CDT
DTSTART:20230312T080000
END:DAYLIGHT
BEGIN:STANDARD
TZOFFSETFROM:-0500
TZOFFSETTO:-0600
TZNAME:CST
DTSTART:20231105T070000
END:STANDARD
BEGIN:DAYLIGHT
TZOFFSETFROM:-0600
TZOFFSETTO:-0500
TZNAME:CDT
DTSTART:20240310T080000
END:DAYLIGHT
BEGIN:STANDARD
TZOFFSETFROM:-0500
TZOFFSETTO:-0600
TZNAME:CST
DTSTART:20241103T070000
END:STANDARD
BEGIN:DAYLIGHT
TZOFFSETFROM:-0600
TZOFFSETTO:-0500
TZNAME:CDT
DTSTART:20250309T080000
END:DAYLIGHT
BEGIN:STANDARD
TZOFFSETFROM:-0500
TZOFFSETTO:-0600
TZNAME:CST
DTSTART:20251102T070000
END:STANDARD
END:VTIMEZONE
BEGIN:VEVENT
DTSTART;TZID=America/Chicago:20240801T090000
DTEND;TZID=America/Chicago:20240816T170000
DTSTAMP:20260425T052939
CREATED:20240710T140754Z
LAST-MODIFIED:20240710T140754Z
UID:10001798-1722502800-1723827600@keystoneservices.org
SUMMARY:School Supply Drop Off
DESCRIPTION:Help youth go back to school prepared! \n\nYouth will be heading back to school soon\, which means that back-to-school shopping is near! Shopping for school supplies can seem daunting for low-income families as their budgets are stretched due to the rise of the costs for food\, gas\, and other bills. \nDrop off location: Merriam Park Community Center\, 2000 St. Anthony Ave.\, St. Paul\, MN 55104 \nDrop off times: Monday – Friday\, 9:00 a.m. – 5:00 p.m. \n*New school supplies only! \nSchool supply donations will be accepted through August 16th! \nFor more information\, contact us at 651-645-0349 or info@keystoneservices.org. \nMore about the actual distribution event will be posted soon. \nClick here for the 2024 Supply List Flyer. \nClick here to check out our Amazon Wish List.
URL:https://keystoneservices.org/events/school-supply-drop-off-2/
LOCATION:Merriam Park Community Center\, 2000 St. Anthony Avenue\, Saint Paul\, MN\, 55104\, United States
GEO:44.9526961;-93.1851142
X-APPLE-STRUCTURED-LOCATION;VALUE=URI;X-ADDRESS=Merriam Park Community Center 2000 St. Anthony Avenue Saint Paul MN 55104 United States;X-APPLE-RADIUS=500;X-TITLE=2000 St. Anthony Avenue:geo:-93.1851142,44.9526961
END:VEVENT
BEGIN:VEVENT
DTSTART;TZID=America/Chicago:20240812T100000
DTEND;TZID=America/Chicago:20240812T120000
DTSTAMP:20260425T052939
CREATED:20221216T201708Z
LAST-MODIFIED:20240807T152729Z
UID:10002178-1723456800-1723464000@keystoneservices.org
SUMMARY:Foodmobile Public Distribution - Roseville Public Library
DESCRIPTION:For people needing emergency food support we are pleased to offer public Foodmobile distribution events. Keystone’s Foodmobile will be onsite for a public food distribution at the Roseville Public Library. \nA maximum of 50 households will be served during this time. \nPlease note that the Foodmobile is a Keystone food shelf and thus participants can only access services once a month. Visit here\, for more details about using the Foodmobile. \nPlease note that we have moved our location at the Roseville Library from the South parking lot (blue circle) to the North parking lot (yellow circle). The Foodmobile will be tucked back in the corner in the new spot. \n \n 
URL:https://keystoneservices.org/events/foodmobile-public-distribution-9/2024-08-12/
LOCATION:Roseville County Library\, 2180 Hamline Ave N\, Roseville\, MN\, 55113\, United States
GEO:45.0074048;-93.1557921
X-APPLE-STRUCTURED-LOCATION;VALUE=URI;X-ADDRESS=Roseville County Library 2180 Hamline Ave N Roseville MN 55113 United States;X-APPLE-RADIUS=500;X-TITLE=2180 Hamline Ave N:geo:-93.1557921,45.0074048
END:VEVENT
BEGIN:VEVENT
DTSTART;TZID=America/Chicago:20240812T140000
DTEND;TZID=America/Chicago:20240812T160000
DTSTAMP:20260425T052939
CREATED:20240805T204640Z
LAST-MODIFIED:20240805T204640Z
UID:10001827-1723471200-1723478400@keystoneservices.org
SUMMARY:RESCHEDULED: Foodmobile Public Distribution – McDonough Homes Recreation Center
DESCRIPTION:For people needing emergency food support we are pleased to offer public Foodmobile distribution events. Keystone’s Foodmobile will be onsite for a public food distribution at McDonough Homes Recreation Center. \nPlease note that the Foodmobile is a Keystone food shelf and thus participants can only access services once a month. Visit here\, for more details about using the Foodmobile.
URL:https://keystoneservices.org/events/rescheduled-foodmobile-public-distribution-mcdonough-homes-recreation-center/
LOCATION:McDonough Homes Rec Center\, 1544 Timberlake Rd\, St. Paul\, MN\, 55117\, United States
GEO:44.9876869;-93.0925941
X-APPLE-STRUCTURED-LOCATION;VALUE=URI;X-ADDRESS=McDonough Homes Rec Center 1544 Timberlake Rd St. Paul MN 55117 United States;X-APPLE-RADIUS=500;X-TITLE=1544 Timberlake Rd:geo:-93.0925941,44.9876869
END:VEVENT
BEGIN:VEVENT
DTSTART;TZID=America/Chicago:20240813T140000
DTEND;TZID=America/Chicago:20240813T160000
DTSTAMP:20260425T052939
CREATED:20240226T214808Z
LAST-MODIFIED:20241213T222518Z
UID:10002276-1723557600-1723564800@keystoneservices.org
SUMMARY:Foodmobile Public Distribution – St. Michaels Lutheran Church
DESCRIPTION:For people needing emergency food support we are pleased to offer public Foodmobile distribution events. Keystone’s Foodmobile will be onsite for a public food distribution at the St. Michael’s Lutheran Church. \nA maximum of 50 households will be served during this time. \nPlease note that the Foodmobile is a Keystone food shelf and thus participants can only access services once a month. Visit here\, for more details about using the Foodmobile.
URL:https://keystoneservices.org/events/foodmobile-public-distribution-st-michaels-lutheran-church-3/2024-08-13/
LOCATION:St. Michael’s Lutheran Church\, 1660 County B Rd W\, Roseville\, MN\, 55113\, United States
GEO:45.0054763;-93.1701553
X-APPLE-STRUCTURED-LOCATION;VALUE=URI;X-ADDRESS=St. Michael’s Lutheran Church 1660 County B Rd W Roseville MN 55113 United States;X-APPLE-RADIUS=500;X-TITLE=1660 County B Rd W:geo:-93.1701553,45.0054763
END:VEVENT
BEGIN:VEVENT
DTSTART;TZID=America/Chicago:20240815T140000
DTEND;TZID=America/Chicago:20240815T160000
DTSTAMP:20260425T052939
CREATED:20221205T204430Z
LAST-MODIFIED:20240807T155818Z
UID:10002143-1723730400-1723737600@keystoneservices.org
SUMMARY:Foodmobile Public Distribution - New Life Church
DESCRIPTION:For people needing emergency food support we are pleased to offer public Foodmobile distribution events. Keystone’s Foodmobile will be onsite for a public food distribution at New Life Church. \nPlease note that the Foodmobile is a Keystone food shelf and thus participants can only access services once a month. Visit here\, for more details about using the Foodmobile.
URL:https://keystoneservices.org/events/foodmobile-public-distribution-new-life-church-10-2023-03-22-2023-10-25/2024-08-15/
LOCATION:New Life Church\, 965 Larpenteur Ave W\, Roseville\, MN\, 55113\, United States
GEO:44.9926909;-93.140767
X-APPLE-STRUCTURED-LOCATION;VALUE=URI;X-ADDRESS=New Life Church 965 Larpenteur Ave W Roseville MN 55113 United States;X-APPLE-RADIUS=500;X-TITLE=965 Larpenteur Ave W:geo:-93.140767,44.9926909
END:VEVENT
END:VCALENDAR