BEGIN:VCALENDAR
VERSION:2.0
PRODID:-//Keystone Community Services - ECPv6.15.17.1//NONSGML v1.0//EN
CALSCALE:GREGORIAN
METHOD:PUBLISH
X-WR-CALNAME:Keystone Community Services
X-ORIGINAL-URL:https://keystoneservices.org
X-WR-CALDESC:Events for Keystone Community Services
REFRESH-INTERVAL;VALUE=DURATION:PT1H
X-Robots-Tag:noindex
X-PUBLISHED-TTL:PT1H
BEGIN:VTIMEZONE
TZID:America/Chicago
BEGIN:DAYLIGHT
TZOFFSETFROM:-0600
TZOFFSETTO:-0500
TZNAME:CDT
DTSTART:20230312T080000
END:DAYLIGHT
BEGIN:STANDARD
TZOFFSETFROM:-0500
TZOFFSETTO:-0600
TZNAME:CST
DTSTART:20231105T070000
END:STANDARD
BEGIN:DAYLIGHT
TZOFFSETFROM:-0600
TZOFFSETTO:-0500
TZNAME:CDT
DTSTART:20240310T080000
END:DAYLIGHT
BEGIN:STANDARD
TZOFFSETFROM:-0500
TZOFFSETTO:-0600
TZNAME:CST
DTSTART:20241103T070000
END:STANDARD
BEGIN:DAYLIGHT
TZOFFSETFROM:-0600
TZOFFSETTO:-0500
TZNAME:CDT
DTSTART:20250309T080000
END:DAYLIGHT
BEGIN:STANDARD
TZOFFSETFROM:-0500
TZOFFSETTO:-0600
TZNAME:CST
DTSTART:20251102T070000
END:STANDARD
END:VTIMEZONE
BEGIN:VEVENT
DTSTART;TZID=America/Chicago:20240916T100000
DTEND;TZID=America/Chicago:20240916T120000
DTSTAMP:20260425T061643
CREATED:20221216T201708Z
LAST-MODIFIED:20240807T152729Z
UID:10002179-1726480800-1726488000@keystoneservices.org
SUMMARY:Foodmobile Public Distribution - Roseville Public Library
DESCRIPTION:For people needing emergency food support we are pleased to offer public Foodmobile distribution events. Keystone’s Foodmobile will be onsite for a public food distribution at the Roseville Public Library. \nA maximum of 50 households will be served during this time. \nPlease note that the Foodmobile is a Keystone food shelf and thus participants can only access services once a month. Visit here\, for more details about using the Foodmobile. \nPlease note that we have moved our location at the Roseville Library from the South parking lot (blue circle) to the North parking lot (yellow circle). The Foodmobile will be tucked back in the corner in the new spot. \n \n 
URL:https://keystoneservices.org/events/foodmobile-public-distribution-9/2024-09-16/
LOCATION:Roseville County Library\, 2180 Hamline Ave N\, Roseville\, MN\, 55113\, United States
GEO:45.0074048;-93.1557921
X-APPLE-STRUCTURED-LOCATION;VALUE=URI;X-ADDRESS=Roseville County Library 2180 Hamline Ave N Roseville MN 55113 United States;X-APPLE-RADIUS=500;X-TITLE=2180 Hamline Ave N:geo:-93.1557921,45.0074048
END:VEVENT
BEGIN:VEVENT
DTSTART;TZID=America/Chicago:20240918T100000
DTEND;TZID=America/Chicago:20240918T120000
DTSTAMP:20260425T061643
CREATED:20221205T203740Z
LAST-MODIFIED:20250317T200201Z
UID:10002121-1726653600-1726660800@keystoneservices.org
SUMMARY:Foodmobile Public Distribution - M Health Fairview – Roselawn Clinic
DESCRIPTION:For people needing emergency food support we are pleased to offer public Foodmobile distribution events. Keystone’s Foodmobile will be onsite for a public food distribution at M Health Fairview – Roselawn Clinic. \nA maximum of 50 households will be served during this time. \nPlease note that the Foodmobile is a Keystone food shelf and thus participants can only access services once a month. Visit here\, for more details about using the Foodmobile. \nPlease show up no later than 15 minutes before close. This helps us ensure that participants have enough time to shop\, staff have enough time to pack up\, and volunteers are staying true to their designated times. Thank you.
URL:https://keystoneservices.org/events/foodmobile-public-distribution-8/2024-09-18/
LOCATION:M Health Fairview – Roselawn Clinic\, 1983 Sloan Pl #1\, Saint Paul\, MN\, 55117\, United States
GEO:45.001471;-93.0885417
X-APPLE-STRUCTURED-LOCATION;VALUE=URI;X-ADDRESS=M Health Fairview – Roselawn Clinic 1983 Sloan Pl #1 Saint Paul MN 55117 United States;X-APPLE-RADIUS=500;X-TITLE=1983 Sloan Pl #1:geo:-93.0885417,45.001471
END:VEVENT
BEGIN:VEVENT
DTSTART;TZID=America/Chicago:20240918T123000
DTEND;TZID=America/Chicago:20240918T153000
DTSTAMP:20260425T061643
CREATED:20240801T211304Z
LAST-MODIFIED:20240801T211351Z
UID:10001814-1726662600-1726673400@keystoneservices.org
SUMMARY:Keystone Community Singers: Community Sing Along
DESCRIPTION:Do you love to sing? How about singing with others who love to sing? \nWhether you have sung in choirs your whole life or have only belted out tunes in the privacy of your shower or car\, come join us at West 7th Community Center for a monthly series of community sing-alongs! Led by conductor Robert Graham and pianist John Jensen of VocalEssence\, a 54-year old choral music organization based in Minneapolis – singers of all levels of musical skill and experience are encouraged to come and raise their voices. We work on learning a variety of familiar and new music while forging new friendships and connections along the way. \nThis FREE series is open to all adults 55+\, no experience necessary! This series is a precursor to the launch of the VocalEssence Vintage Voices choir at Keystone in Spring 2024. \nWe hope to see you there! To RSVP\, please call 651-298-5493.
URL:https://keystoneservices.org/events/keystone-community-singers-community-sing-along/2024-09-18/
LOCATION:Merriam Park Community Center\, 2000 St. Anthony Avenue\, Saint Paul\, MN\, 55104\, United States
GEO:44.9526961;-93.1851142
X-APPLE-STRUCTURED-LOCATION;VALUE=URI;X-ADDRESS=Merriam Park Community Center 2000 St. Anthony Avenue Saint Paul MN 55104 United States;X-APPLE-RADIUS=500;X-TITLE=2000 St. Anthony Avenue:geo:-93.1851142,44.9526961
END:VEVENT
BEGIN:VEVENT
DTSTART;TZID=America/Chicago:20240919T140000
DTEND;TZID=America/Chicago:20240919T160000
DTSTAMP:20260425T061643
CREATED:20221205T204430Z
LAST-MODIFIED:20240807T155818Z
UID:10002144-1726754400-1726761600@keystoneservices.org
SUMMARY:Foodmobile Public Distribution - New Life Church
DESCRIPTION:For people needing emergency food support we are pleased to offer public Foodmobile distribution events. Keystone’s Foodmobile will be onsite for a public food distribution at New Life Church. \nPlease note that the Foodmobile is a Keystone food shelf and thus participants can only access services once a month. Visit here\, for more details about using the Foodmobile.
URL:https://keystoneservices.org/events/foodmobile-public-distribution-new-life-church-10-2023-03-22-2023-10-25/2024-09-19/
LOCATION:New Life Church\, 965 Larpenteur Ave W\, Roseville\, MN\, 55113\, United States
GEO:44.9926909;-93.140767
X-APPLE-STRUCTURED-LOCATION;VALUE=URI;X-ADDRESS=New Life Church 965 Larpenteur Ave W Roseville MN 55113 United States;X-APPLE-RADIUS=500;X-TITLE=965 Larpenteur Ave W:geo:-93.140767,44.9926909
END:VEVENT
BEGIN:VEVENT
DTSTART;TZID=America/Chicago:20240920T100000
DTEND;TZID=America/Chicago:20240920T120000
DTSTAMP:20260425T061643
CREATED:20240521T204623Z
LAST-MODIFIED:20240729T153310Z
UID:10001794-1726826400-1726833600@keystoneservices.org
SUMMARY:Free Farmer’s Market – Allianz Field
DESCRIPTION:Keystone is committed to giving people in our community access to fresh produce and healthy foods. Throughout the summer season\, Keystone will offer its events at Roseville Covenant Church\, the Rice and Arlington Field\, and the Allianz Field. You can learn more about this program and see the full list of dates here. All are welcome and this visit does count as a food shelf visit. \nRegistration is not required for the events! \nThis event will take place at Allianz Field\, 400 Snelling Ave. N\, St. Paul\, MN 55104 from 10:00 a.m. to 12:00 p.m. This season’s Allianz Field event dates are: \n\nAugust 23\nSeptember 20\n\nFor driving to this event\, please drive North on Snelling Avenue and then turn East onto Spruce Tree Drive (before you get to University Avenue). Our staff and volunteers will direct you from there.
URL:https://keystoneservices.org/events/free-farmers-market-allianz-field-2-2024-07-19/2024-09-20/
LOCATION:Allianz Field\, 400 Snelling Avenue N\, St. Paul\, MN\, 55104\, United States
GEO:44.952885;-93.165213
X-APPLE-STRUCTURED-LOCATION;VALUE=URI;X-ADDRESS=Allianz Field 400 Snelling Avenue N St. Paul MN 55104 United States;X-APPLE-RADIUS=500;X-TITLE=400 Snelling Avenue N:geo:-93.165213,44.952885
END:VEVENT
END:VCALENDAR