BEGIN:VCALENDAR
VERSION:2.0
PRODID:-//Keystone Community Services - ECPv6.15.17.1//NONSGML v1.0//EN
CALSCALE:GREGORIAN
METHOD:PUBLISH
X-ORIGINAL-URL:https://keystoneservices.org
X-WR-CALDESC:Events for Keystone Community Services
REFRESH-INTERVAL;VALUE=DURATION:PT1H
X-Robots-Tag:noindex
X-PUBLISHED-TTL:PT1H
BEGIN:VTIMEZONE
TZID:America/Chicago
BEGIN:DAYLIGHT
TZOFFSETFROM:-0600
TZOFFSETTO:-0500
TZNAME:CDT
DTSTART:20230312T080000
END:DAYLIGHT
BEGIN:STANDARD
TZOFFSETFROM:-0500
TZOFFSETTO:-0600
TZNAME:CST
DTSTART:20231105T070000
END:STANDARD
BEGIN:DAYLIGHT
TZOFFSETFROM:-0600
TZOFFSETTO:-0500
TZNAME:CDT
DTSTART:20240310T080000
END:DAYLIGHT
BEGIN:STANDARD
TZOFFSETFROM:-0500
TZOFFSETTO:-0600
TZNAME:CST
DTSTART:20241103T070000
END:STANDARD
BEGIN:DAYLIGHT
TZOFFSETFROM:-0600
TZOFFSETTO:-0500
TZNAME:CDT
DTSTART:20250309T080000
END:DAYLIGHT
BEGIN:STANDARD
TZOFFSETFROM:-0500
TZOFFSETTO:-0600
TZNAME:CST
DTSTART:20251102T070000
END:STANDARD
END:VTIMEZONE
BEGIN:VEVENT
DTSTART;TZID=America/Chicago:20240923T140000
DTEND;TZID=America/Chicago:20240923T160000
DTSTAMP:20260419T171948
CREATED:20231004T164016Z
LAST-MODIFIED:20241213T223436Z
UID:10002223-1727100000-1727107200@keystoneservices.org
SUMMARY:Foodmobile Public Distribution – Jeremiah Program (St. Paul)
DESCRIPTION:For people needing emergency food support we are pleased to offer public Foodmobile distribution events. Keystone’s Foodmobile will be onsite for a public food distribution at Jeremiah Program in St. Paul. \nA maximum of 50 households will be served during this time. \nPlease note that the Foodmobile is a Keystone food shelf and thus participants can only access services once a month. Visit here\, for more details about using the Foodmobile. \nBelow is a map of where you can park:
URL:https://keystoneservices.org/events/foodmobile-public-distribution-jeremiah-program-st-paul-2024-08-19/2024-09-23/
LOCATION:Jeremiah Program (St. Paul)\, 932 Rondo Ave\, Saint Paul\, MN\, 55104\, United States
GEO:44.9510297;-93.1398901
X-APPLE-STRUCTURED-LOCATION;VALUE=URI;X-ADDRESS=Jeremiah Program (St. Paul) 932 Rondo Ave Saint Paul MN 55104 United States;X-APPLE-RADIUS=500;X-TITLE=932 Rondo Ave:geo:-93.1398901,44.9510297
END:VEVENT
BEGIN:VEVENT
DTSTART;TZID=America/Chicago:20240924T093000
DTEND;TZID=America/Chicago:20240924T113000
DTSTAMP:20260419T171948
CREATED:20221116T220105Z
LAST-MODIFIED:20241213T224630Z
UID:10002049-1727170200-1727177400@keystoneservices.org
SUMMARY:Foodmobile Public Distribution – DaVita Dialysis
DESCRIPTION:For people needing emergency food support we are pleased to offer public Foodmobile distribution events. Keystone’s Foodmobile will be onsite for a public food distribution at DaVita Dialysis. \nPlease note that the Foodmobile is a Keystone food shelf and thus participants can only access services once a month. Visit here\, for more details about using the Foodmobile.
URL:https://keystoneservices.org/events/foodmobile-public-distribution-davita-dialysis-2-2023-04-17/2024-09-24/
LOCATION:davita dialysis\, 555 Park St\, Saint Paul\, MN\, 55103\, United States
GEO:44.9583016;-93.1040855
X-APPLE-STRUCTURED-LOCATION;VALUE=URI;X-ADDRESS=davita dialysis 555 Park St Saint Paul MN 55103 United States;X-APPLE-RADIUS=500;X-TITLE=555 Park St:geo:-93.1040855,44.9583016
END:VEVENT
BEGIN:VEVENT
DTSTART;TZID=America/Chicago:20240925T100000
DTEND;TZID=America/Chicago:20240925T120000
DTSTAMP:20260419T171948
CREATED:20221128T213735Z
LAST-MODIFIED:20241213T222158Z
UID:10002098-1727258400-1727265600@keystoneservices.org
SUMMARY:Foodmobile Public Distribution – HealthPartners Como Clinic
DESCRIPTION:For people needing emergency food support we are pleased to offer public Foodmobile distribution events. Keystone’s Foodmobile will be onsite for a public food distribution at the HealthPartners – Como Clinic. \nPlease note that the Foodmobile is a Keystone food shelf and thus participants can only access services once a month. Visit here\, for more details about using the Foodmobile.
URL:https://keystoneservices.org/events/foodmobile-public-distribution-healthpartners-como-clinic/2024-09-25/
LOCATION:HealthPartners – Como Clinic\, 2500 Como Ave\, Saint Paul\, 55108\, United States
GEO:44.9865133;-93.2019148
X-APPLE-STRUCTURED-LOCATION;VALUE=URI;X-ADDRESS=HealthPartners – Como Clinic 2500 Como Ave Saint Paul 55108 United States;X-APPLE-RADIUS=500;X-TITLE=2500 Como Ave:geo:-93.2019148,44.9865133
END:VEVENT
BEGIN:VEVENT
DTSTART;TZID=America/Chicago:20240925T123000
DTEND;TZID=America/Chicago:20240925T153000
DTSTAMP:20260419T171948
CREATED:20240801T211304Z
LAST-MODIFIED:20240801T211351Z
UID:10001815-1727267400-1727278200@keystoneservices.org
SUMMARY:Keystone Community Singers: Community Sing Along
DESCRIPTION:Do you love to sing? How about singing with others who love to sing? \nWhether you have sung in choirs your whole life or have only belted out tunes in the privacy of your shower or car\, come join us at West 7th Community Center for a monthly series of community sing-alongs! Led by conductor Robert Graham and pianist John Jensen of VocalEssence\, a 54-year old choral music organization based in Minneapolis – singers of all levels of musical skill and experience are encouraged to come and raise their voices. We work on learning a variety of familiar and new music while forging new friendships and connections along the way. \nThis FREE series is open to all adults 55+\, no experience necessary! This series is a precursor to the launch of the VocalEssence Vintage Voices choir at Keystone in Spring 2024. \nWe hope to see you there! To RSVP\, please call 651-298-5493.
URL:https://keystoneservices.org/events/keystone-community-singers-community-sing-along/2024-09-25/
LOCATION:Merriam Park Community Center\, 2000 St. Anthony Avenue\, Saint Paul\, MN\, 55104\, United States
GEO:44.9526961;-93.1851142
X-APPLE-STRUCTURED-LOCATION;VALUE=URI;X-ADDRESS=Merriam Park Community Center 2000 St. Anthony Avenue Saint Paul MN 55104 United States;X-APPLE-RADIUS=500;X-TITLE=2000 St. Anthony Avenue:geo:-93.1851142,44.9526961
END:VEVENT
BEGIN:VEVENT
DTSTART;TZID=America/Chicago:20240926T173000
DTEND;TZID=America/Chicago:20240926T203000
DTSTAMP:20260419T171948
CREATED:20240905T164313Z
LAST-MODIFIED:20240905T164646Z
UID:10002301-1727371800-1727382600@keystoneservices.org
SUMMARY:Keys to Success Gala
DESCRIPTION:Join us for a night of food\, festivities\, and fundraising! \nTickets are available for $75 per person. \nLearn more about this event or buy your ticket today.
URL:https://keystoneservices.org/events/keys-to-success-gala-3/
LOCATION:Allianz Field\, 400 Snelling Avenue N\, St. Paul\, MN\, 55104\, United States
GEO:44.952885;-93.165213
X-APPLE-STRUCTURED-LOCATION;VALUE=URI;X-ADDRESS=Allianz Field 400 Snelling Avenue N St. Paul MN 55104 United States;X-APPLE-RADIUS=500;X-TITLE=400 Snelling Avenue N:geo:-93.165213,44.952885
END:VEVENT
END:VCALENDAR