BEGIN:VCALENDAR
VERSION:2.0
PRODID:-//Keystone Community Services - ECPv6.15.17.1//NONSGML v1.0//EN
CALSCALE:GREGORIAN
METHOD:PUBLISH
X-ORIGINAL-URL:https://keystoneservices.org
X-WR-CALDESC:Events for Keystone Community Services
REFRESH-INTERVAL;VALUE=DURATION:PT1H
X-Robots-Tag:noindex
X-PUBLISHED-TTL:PT1H
BEGIN:VTIMEZONE
TZID:America/Chicago
BEGIN:DAYLIGHT
TZOFFSETFROM:-0600
TZOFFSETTO:-0500
TZNAME:CDT
DTSTART:20240310T080000
END:DAYLIGHT
BEGIN:STANDARD
TZOFFSETFROM:-0500
TZOFFSETTO:-0600
TZNAME:CST
DTSTART:20241103T070000
END:STANDARD
BEGIN:DAYLIGHT
TZOFFSETFROM:-0600
TZOFFSETTO:-0500
TZNAME:CDT
DTSTART:20250309T080000
END:DAYLIGHT
BEGIN:STANDARD
TZOFFSETFROM:-0500
TZOFFSETTO:-0600
TZNAME:CST
DTSTART:20251102T070000
END:STANDARD
BEGIN:DAYLIGHT
TZOFFSETFROM:-0600
TZOFFSETTO:-0500
TZNAME:CDT
DTSTART:20260308T080000
END:DAYLIGHT
BEGIN:STANDARD
TZOFFSETFROM:-0500
TZOFFSETTO:-0600
TZNAME:CST
DTSTART:20261101T070000
END:STANDARD
END:VTIMEZONE
BEGIN:VEVENT
DTSTART;TZID=America/Chicago:20250721T140000
DTEND;TZID=America/Chicago:20250721T160000
DTSTAMP:20260423T192237
CREATED:20250304T183807Z
LAST-MODIFIED:20260324T141727Z
UID:10002430-1753106400-1753113600@keystoneservices.org
SUMMARY:Foodmobile Public Distribution - Roseville Library
DESCRIPTION:For people needing emergency food support we are pleased to offer public Foodmobile distribution events. Keystone’s Foodmobile will be onsite for a public food distribution at the Roseville Public Library. \nPlease note that the Foodmobile is a Keystone food shelf and thus participants can only access services once a month. Visit here\, for more details about using the Foodmobile.
URL:https://keystoneservices.org/events/foodmobile-public-distribution-roseville-library-11/2025-07-21/
LOCATION:Roseville County Library\, 2180 Hamline Ave N\, Roseville\, MN\, 55113\, United States
GEO:45.0074048;-93.1557921
X-APPLE-STRUCTURED-LOCATION;VALUE=URI;X-ADDRESS=Roseville County Library 2180 Hamline Ave N Roseville MN 55113 United States;X-APPLE-RADIUS=500;X-TITLE=2180 Hamline Ave N:geo:-93.1557921,45.0074048
END:VEVENT
BEGIN:VEVENT
DTSTART;TZID=America/Chicago:20250722T140000
DTEND;TZID=America/Chicago:20250722T160000
DTSTAMP:20260423T192237
CREATED:20250304T184157Z
LAST-MODIFIED:20260305T223856Z
UID:10002418-1753192800-1753200000@keystoneservices.org
SUMMARY:Foodmobile Public Distribution – Rice Street Library
DESCRIPTION:For people needing emergency food support we are pleased to offer public Foodmobile distribution events. Keystone’s Foodmobile will be onsite for a public food distribution at St. Paul Library – Rice Street Library location. \nPlease note that the Foodmobile is a Keystone food shelf and thus participants can only access services once a month. Visit here\, for more details about using the Foodmobile. \nLocation: 1011 Rice St\, St Paul\, MN 55117
URL:https://keystoneservices.org/events/foodmobile-public-distribution-rice-street-library-5/2025-07-22/
LOCATION:Rice Street Food Shelf\, 1459 Rice Street\, St. Paul\, MN\, 55117\, United States
GEO:44.9849346;-93.1062465
X-APPLE-STRUCTURED-LOCATION;VALUE=URI;X-ADDRESS=Rice Street Food Shelf 1459 Rice Street St. Paul MN 55117 United States;X-APPLE-RADIUS=500;X-TITLE=1459 Rice Street:geo:-93.1062465,44.9849346
END:VEVENT
BEGIN:VEVENT
DTSTART;TZID=America/Chicago:20250723T100000
DTEND;TZID=America/Chicago:20250723T120000
DTSTAMP:20260423T192237
CREATED:20250304T181501Z
LAST-MODIFIED:20260305T223549Z
UID:10002396-1753264800-1753272000@keystoneservices.org
SUMMARY:Foodmobile Public Distribution - M Health Fairview – Roselawn Clinic
DESCRIPTION:For people needing emergency food support we are pleased to offer public Foodmobile distribution events. Keystone’s Foodmobile will be onsite for a public food distribution at M Health Fairview – Roselawn Clinic. \nA maximum of 50 households will be served during this time. \nPlease note that the Foodmobile is a Keystone food shelf and thus participants can only access services once a month. Visit here\, for more details about using the Foodmobile.
URL:https://keystoneservices.org/events/foodmobile-public-distribution-m-health-fairview-roselawn-clinic-2/2025-07-23/
LOCATION:M Health Fairview – Roselawn Clinic\, 1983 Sloan Pl #1\, Saint Paul\, MN\, 55117\, United States
GEO:45.001471;-93.0885417
X-APPLE-STRUCTURED-LOCATION;VALUE=URI;X-ADDRESS=M Health Fairview – Roselawn Clinic 1983 Sloan Pl #1 Saint Paul MN 55117 United States;X-APPLE-RADIUS=500;X-TITLE=1983 Sloan Pl #1:geo:-93.0885417,45.001471
END:VEVENT
BEGIN:VEVENT
DTSTART;TZID=America/Chicago:20250723T140000
DTEND;TZID=America/Chicago:20250723T160000
DTSTAMP:20260423T192237
CREATED:20250514T154335Z
LAST-MODIFIED:20260305T202721Z
UID:10002391-1753279200-1753286400@keystoneservices.org
SUMMARY:Foodmobile Public Distribution – WIC Clinic
DESCRIPTION:For people needing emergency food support we are pleased to offer public Foodmobile distribution events. Keystone’s Foodmobile will be onsite for a public food distribution at the WIC Clinic \nPlease note that the Foodmobile is a Keystone food shelf and thus participants can only access services once a month. Visit here\, for more details about using the Foodmobile.
URL:https://keystoneservices.org/events/foodmobile-public-distribution-wic-clinic/2025-07-23/
LOCATION:American National Bank\, 1740 Rice St.\, St. Paul\, MN\, 55113\, United States
GEO:44.9940304;-93.1054227
X-APPLE-STRUCTURED-LOCATION;VALUE=URI;X-ADDRESS=American National Bank 1740 Rice St. St. Paul MN 55113 United States;X-APPLE-RADIUS=500;X-TITLE=1740 Rice St.:geo:-93.1054227,44.9940304
END:VEVENT
BEGIN:VEVENT
DTSTART;TZID=America/Chicago:20250724T140000
DTEND;TZID=America/Chicago:20250724T160000
DTSTAMP:20260423T192237
CREATED:20250304T182709Z
LAST-MODIFIED:20260305T223214Z
UID:10002405-1753365600-1753372800@keystoneservices.org
SUMMARY:Foodmobile Public Distribution – New Life Church
DESCRIPTION:For people needing emergency food support we are pleased to offer public Foodmobile distribution events. Keystone’s Foodmobile will be onsite for a public food distribution at New Life Church. \n*Dale St N is a no parking street \nPlease note that the Foodmobile is a Keystone food shelf and thus participants can only access services once a month. Visit here\, for more details about using the Foodmobile.
URL:https://keystoneservices.org/events/foodmobile-public-distribution-new-life-church-12/2025-07-24/
LOCATION:New Life Church\, 965 Larpenteur Ave W\, Roseville\, MN\, 55113\, United States
GEO:44.9926909;-93.140767
X-APPLE-STRUCTURED-LOCATION;VALUE=URI;X-ADDRESS=New Life Church 965 Larpenteur Ave W Roseville MN 55113 United States;X-APPLE-RADIUS=500;X-TITLE=965 Larpenteur Ave W:geo:-93.140767,44.9926909
END:VEVENT
BEGIN:VEVENT
DTSTART;TZID=America/Chicago:20250725T100000
DTEND;TZID=America/Chicago:20250725T120000
DTSTAMP:20260423T192237
CREATED:20250603T162145Z
LAST-MODIFIED:20250603T162145Z
UID:10002383-1753437600-1753444800@keystoneservices.org
SUMMARY:Free Farmers Market 2025 – Galilee Lutheran Church
DESCRIPTION:Keystone is committed to giving people in our community access to fresh produce and healthy foods. Throughout the summer season\, Keystone will offer its events at Roseville Covenant Church\, Galilee Lutheran Church\, and the Allianz Field. You can learn more about this program and see the full list of dates here. All are welcome and this visit does count as a food shelf visit. \nRegistration is not required for the events! \nThis event will take place at Galilee Lutheran Church\, 145 N McCarrons Blvd\, Roseville\, MN 55113 from 10:00 a.m. to 12:00 p.m. This season’s Galilee Lutheran Church event dates are: \n\nJune 27\nJuly 25\nAugust 15\nSeptember 19\nOctober 10
URL:https://keystoneservices.org/events/free-farmers-market-2025-galilee-lutheran-church/2025-07-25/
LOCATION:MN
END:VEVENT
END:VCALENDAR