BEGIN:VCALENDAR
VERSION:2.0
PRODID:-//Keystone Community Services - ECPv6.15.17.1//NONSGML v1.0//EN
CALSCALE:GREGORIAN
METHOD:PUBLISH
X-WR-CALNAME:Keystone Community Services
X-ORIGINAL-URL:https://keystoneservices.org
X-WR-CALDESC:Events for Keystone Community Services
REFRESH-INTERVAL;VALUE=DURATION:PT1H
X-Robots-Tag:noindex
X-PUBLISHED-TTL:PT1H
BEGIN:VTIMEZONE
TZID:America/Chicago
BEGIN:DAYLIGHT
TZOFFSETFROM:-0600
TZOFFSETTO:-0500
TZNAME:CDT
DTSTART:20250309T080000
END:DAYLIGHT
BEGIN:STANDARD
TZOFFSETFROM:-0500
TZOFFSETTO:-0600
TZNAME:CST
DTSTART:20251102T070000
END:STANDARD
BEGIN:DAYLIGHT
TZOFFSETFROM:-0600
TZOFFSETTO:-0500
TZNAME:CDT
DTSTART:20260308T080000
END:DAYLIGHT
BEGIN:STANDARD
TZOFFSETFROM:-0500
TZOFFSETTO:-0600
TZNAME:CST
DTSTART:20261101T070000
END:STANDARD
BEGIN:DAYLIGHT
TZOFFSETFROM:-0600
TZOFFSETTO:-0500
TZNAME:CDT
DTSTART:20270314T080000
END:DAYLIGHT
BEGIN:STANDARD
TZOFFSETFROM:-0500
TZOFFSETTO:-0600
TZNAME:CST
DTSTART:20271107T070000
END:STANDARD
END:VTIMEZONE
BEGIN:VEVENT
DTSTART;TZID=America/Chicago:20260302T100000
DTEND;TZID=America/Chicago:20260302T120000
DTSTAMP:20260420T061914
CREATED:20250304T183807Z
LAST-MODIFIED:20260324T141727Z
UID:10002510-1772445600-1772452800@keystoneservices.org
SUMMARY:Foodmobile Public Distribution - Roseville Library
DESCRIPTION:For people needing emergency food support we are pleased to offer public Foodmobile distribution events. Keystone’s Foodmobile will be onsite for a public food distribution at the Roseville Public Library. \nPlease note that the Foodmobile is a Keystone food shelf and thus participants can only access services once a month. Visit here\, for more details about using the Foodmobile.
URL:https://keystoneservices.org/events/foodmobile-public-distribution-roseville-library-11/2026-03-02/
LOCATION:Roseville County Library\, 2180 Hamline Ave N\, Roseville\, MN\, 55113\, United States
GEO:45.0074048;-93.1557921
X-APPLE-STRUCTURED-LOCATION;VALUE=URI;X-ADDRESS=Roseville County Library 2180 Hamline Ave N Roseville MN 55113 United States;X-APPLE-RADIUS=500;X-TITLE=2180 Hamline Ave N:geo:-93.1557921,45.0074048
END:VEVENT
BEGIN:VEVENT
DTSTART;TZID=America/Chicago:20260302T150000
DTEND;TZID=America/Chicago:20260302T160000
DTSTAMP:20260420T061914
CREATED:20250929T150030Z
LAST-MODIFIED:20260305T191845Z
UID:10002560-1772463600-1772467200@keystoneservices.org
SUMMARY:Foodmobile Public Distribution - Lyons Court Senior Apartments
DESCRIPTION:For people needing emergency food support we are pleased to offer public Foodmobile distribution events. Keystone’s Foodmobile will be onsite for a public food distribution at Lyons Court Senior Apartments. \nPlease note that the Foodmobile is a Keystone food shelf and thus participants can only access services once a month. Visit here\, for more details about using the Foodmobile.
URL:https://keystoneservices.org/events/lyons-court-senior-apartments/2026-03-02/
LOCATION:Lyons Court Senior Apartments\, 510 N Sibley St.\, St Paul.\, MN\, 55101\, United States
GEO:44.9526799;-93.0910454
X-APPLE-STRUCTURED-LOCATION;VALUE=URI;X-ADDRESS=Lyons Court Senior Apartments 510 N Sibley St. St Paul. MN 55101 United States;X-APPLE-RADIUS=500;X-TITLE=510 N Sibley St.:geo:-93.0910454,44.9526799
END:VEVENT
BEGIN:VEVENT
DTSTART;TZID=America/Chicago:20260305T100000
DTEND;TZID=America/Chicago:20260305T120000
DTSTAMP:20260420T061914
CREATED:20250304T181945Z
LAST-MODIFIED:20260304T210420Z
UID:10002516-1772704800-1772712000@keystoneservices.org
SUMMARY:Foodmobile Public Distribution – HealthPartners Como Clinic
DESCRIPTION:For people needing emergency food support we are pleased to offer public Foodmobile distribution events. Keystone’s Foodmobile will be onsite for a public food distribution at the HealthPartners – Como Clinic. \nPlease note that the Foodmobile is a Keystone food shelf and thus participants can only access services once a month. Visit here\, for more details about using the Foodmobile.
URL:https://keystoneservices.org/events/foodmobile-public-distribution-healthpartners-como-clinic-3/2026-03-05/
LOCATION:HealthPartners – Como Clinic\, 2500 Como Ave\, Saint Paul\, 55108\, United States
GEO:44.9865133;-93.2019148
X-APPLE-STRUCTURED-LOCATION;VALUE=URI;X-ADDRESS=HealthPartners – Como Clinic 2500 Como Ave Saint Paul 55108 United States;X-APPLE-RADIUS=500;X-TITLE=2500 Como Ave:geo:-93.2019148,44.9865133
END:VEVENT
BEGIN:VEVENT
DTSTART;TZID=America/Chicago:20260306T100000
DTEND;TZID=America/Chicago:20260306T120000
DTSTAMP:20260420T061914
CREATED:20250929T165746Z
LAST-MODIFIED:20260304T211421Z
UID:10002507-1772791200-1772798400@keystoneservices.org
SUMMARY:Foodmobile Public Distribution - North End Community Center
DESCRIPTION:For people needing emergency food support we are pleased to offer public Foodmobile distribution events. Keystone’s Foodmobile will be onsite for a public food distribution at North End Community Center location. \nPlease note that the Foodmobile is a Keystone food shelf and thus participants can only access services once a month. Visit here\, for more details about using the Foodmobile.
URL:https://keystoneservices.org/events/north-end-community-center/2026-03-06/
LOCATION:North End Community Center\, 145 Lawson Ave W.\, St Paul\, MN\, 55117\, United States
GEO:44.9723708;-93.106555
X-APPLE-STRUCTURED-LOCATION;VALUE=URI;X-ADDRESS=North End Community Center 145 Lawson Ave W. St Paul MN 55117 United States;X-APPLE-RADIUS=500;X-TITLE=145 Lawson Ave W.:geo:-93.106555,44.9723708
END:VEVENT
END:VCALENDAR