BEGIN:VCALENDAR
VERSION:2.0
PRODID:-//Keystone Community Services - ECPv6.15.17.1//NONSGML v1.0//EN
CALSCALE:GREGORIAN
METHOD:PUBLISH
X-WR-CALNAME:Keystone Community Services
X-ORIGINAL-URL:https://keystoneservices.org
X-WR-CALDESC:Events for Keystone Community Services
REFRESH-INTERVAL;VALUE=DURATION:PT1H
X-Robots-Tag:noindex
X-PUBLISHED-TTL:PT1H
BEGIN:VTIMEZONE
TZID:America/Chicago
BEGIN:DAYLIGHT
TZOFFSETFROM:-0600
TZOFFSETTO:-0500
TZNAME:CDT
DTSTART:20250309T080000
END:DAYLIGHT
BEGIN:STANDARD
TZOFFSETFROM:-0500
TZOFFSETTO:-0600
TZNAME:CST
DTSTART:20251102T070000
END:STANDARD
BEGIN:DAYLIGHT
TZOFFSETFROM:-0600
TZOFFSETTO:-0500
TZNAME:CDT
DTSTART:20260308T080000
END:DAYLIGHT
BEGIN:STANDARD
TZOFFSETFROM:-0500
TZOFFSETTO:-0600
TZNAME:CST
DTSTART:20261101T070000
END:STANDARD
BEGIN:DAYLIGHT
TZOFFSETFROM:-0600
TZOFFSETTO:-0500
TZNAME:CDT
DTSTART:20270314T080000
END:DAYLIGHT
BEGIN:STANDARD
TZOFFSETFROM:-0500
TZOFFSETTO:-0600
TZNAME:CST
DTSTART:20271107T070000
END:STANDARD
END:VTIMEZONE
BEGIN:VEVENT
DTSTART;TZID=America/Chicago:20260324T140000
DTEND;TZID=America/Chicago:20260324T160000
DTSTAMP:20260421T151013
CREATED:20250304T184157Z
LAST-MODIFIED:20260305T223856Z
UID:10002550-1774360800-1774368000@keystoneservices.org
SUMMARY:Foodmobile Public Distribution – Rice Street Library
DESCRIPTION:For people needing emergency food support we are pleased to offer public Foodmobile distribution events. Keystone’s Foodmobile will be onsite for a public food distribution at St. Paul Library – Rice Street Library location. \nPlease note that the Foodmobile is a Keystone food shelf and thus participants can only access services once a month. Visit here\, for more details about using the Foodmobile. \nLocation: 1011 Rice St\, St Paul\, MN 55117
URL:https://keystoneservices.org/events/foodmobile-public-distribution-rice-street-library-5/2026-03-24/
LOCATION:Rice Street Food Shelf\, 1459 Rice Street\, St. Paul\, MN\, 55117\, United States
GEO:44.9849346;-93.1062465
X-APPLE-STRUCTURED-LOCATION;VALUE=URI;X-ADDRESS=Rice Street Food Shelf 1459 Rice Street St. Paul MN 55117 United States;X-APPLE-RADIUS=500;X-TITLE=1459 Rice Street:geo:-93.1062465,44.9849346
END:VEVENT
BEGIN:VEVENT
DTSTART;TZID=America/Chicago:20260325T093000
DTEND;TZID=America/Chicago:20260325T113000
DTSTAMP:20260421T151013
CREATED:20250304T184550Z
LAST-MODIFIED:20260305T202509Z
UID:10002553-1774431000-1774438200@keystoneservices.org
SUMMARY:Foodmobile Public Distribution – DaVita Dialysis
DESCRIPTION:For people needing emergency food support we are pleased to offer public Foodmobile distribution events. Keystone’s Foodmobile will be onsite for a public food distribution at DaVita Dialysis. \nPlease note that the Foodmobile is a Keystone food shelf and thus participants can only access services once a month. Visit here\, for more details about using the Foodmobile.
URL:https://keystoneservices.org/events/foodmobile-public-distribution-davita-dialysis-3/2026-03-25/
LOCATION:davita dialysis\, 555 Park St\, Saint Paul\, MN\, 55103\, United States
GEO:44.9583016;-93.1040855
X-APPLE-STRUCTURED-LOCATION;VALUE=URI;X-ADDRESS=davita dialysis 555 Park St Saint Paul MN 55103 United States;X-APPLE-RADIUS=500;X-TITLE=555 Park St:geo:-93.1040855,44.9583016
END:VEVENT
BEGIN:VEVENT
DTSTART;TZID=America/Chicago:20260325T140000
DTEND;TZID=America/Chicago:20260325T160000
DTSTAMP:20260421T151013
CREATED:20250514T154335Z
LAST-MODIFIED:20260305T202721Z
UID:10002556-1774447200-1774454400@keystoneservices.org
SUMMARY:Foodmobile Public Distribution – WIC Clinic
DESCRIPTION:For people needing emergency food support we are pleased to offer public Foodmobile distribution events. Keystone’s Foodmobile will be onsite for a public food distribution at the WIC Clinic \nPlease note that the Foodmobile is a Keystone food shelf and thus participants can only access services once a month. Visit here\, for more details about using the Foodmobile.
URL:https://keystoneservices.org/events/foodmobile-public-distribution-wic-clinic/2026-03-25/
LOCATION:American National Bank\, 1740 Rice St.\, St. Paul\, MN\, 55113\, United States
GEO:44.9940304;-93.1054227
X-APPLE-STRUCTURED-LOCATION;VALUE=URI;X-ADDRESS=American National Bank 1740 Rice St. St. Paul MN 55113 United States;X-APPLE-RADIUS=500;X-TITLE=1740 Rice St.:geo:-93.1054227,44.9940304
END:VEVENT
BEGIN:VEVENT
DTSTART;TZID=America/Chicago:20260326T140000
DTEND;TZID=America/Chicago:20260326T160000
DTSTAMP:20260421T151013
CREATED:20250304T182709Z
LAST-MODIFIED:20260305T223214Z
UID:10002544-1774533600-1774540800@keystoneservices.org
SUMMARY:Foodmobile Public Distribution – New Life Church
DESCRIPTION:For people needing emergency food support we are pleased to offer public Foodmobile distribution events. Keystone’s Foodmobile will be onsite for a public food distribution at New Life Church. \n*Dale St N is a no parking street \nPlease note that the Foodmobile is a Keystone food shelf and thus participants can only access services once a month. Visit here\, for more details about using the Foodmobile.
URL:https://keystoneservices.org/events/foodmobile-public-distribution-new-life-church-12/2026-03-26/
LOCATION:New Life Church\, 965 Larpenteur Ave W\, Roseville\, MN\, 55113\, United States
GEO:44.9926909;-93.140767
X-APPLE-STRUCTURED-LOCATION;VALUE=URI;X-ADDRESS=New Life Church 965 Larpenteur Ave W Roseville MN 55113 United States;X-APPLE-RADIUS=500;X-TITLE=965 Larpenteur Ave W:geo:-93.140767,44.9926909
END:VEVENT
BEGIN:VEVENT
DTSTART;TZID=America/Chicago:20260327T100000
DTEND;TZID=America/Chicago:20260327T120000
DTSTAMP:20260421T151013
CREATED:20250304T181501Z
LAST-MODIFIED:20260305T223549Z
UID:10002547-1774605600-1774612800@keystoneservices.org
SUMMARY:Foodmobile Public Distribution - M Health Fairview – Roselawn Clinic
DESCRIPTION:For people needing emergency food support we are pleased to offer public Foodmobile distribution events. Keystone’s Foodmobile will be onsite for a public food distribution at M Health Fairview – Roselawn Clinic. \nA maximum of 50 households will be served during this time. \nPlease note that the Foodmobile is a Keystone food shelf and thus participants can only access services once a month. Visit here\, for more details about using the Foodmobile.
URL:https://keystoneservices.org/events/foodmobile-public-distribution-m-health-fairview-roselawn-clinic-2/2026-03-27/
LOCATION:M Health Fairview – Roselawn Clinic\, 1983 Sloan Pl #1\, Saint Paul\, MN\, 55117\, United States
GEO:45.001471;-93.0885417
X-APPLE-STRUCTURED-LOCATION;VALUE=URI;X-ADDRESS=M Health Fairview – Roselawn Clinic 1983 Sloan Pl #1 Saint Paul MN 55117 United States;X-APPLE-RADIUS=500;X-TITLE=1983 Sloan Pl #1:geo:-93.0885417,45.001471
END:VEVENT
BEGIN:VEVENT
DTSTART;TZID=America/Chicago:20260327T140000
DTEND;TZID=America/Chicago:20260327T160000
DTSTAMP:20260421T151013
CREATED:20250811T174033Z
LAST-MODIFIED:20260318T141303Z
UID:10002633-1774620000-1774627200@keystoneservices.org
SUMMARY:Foodmobile Public Distribution – Garden Terrace Commons Apartments
DESCRIPTION:For people needing emergency food support we are pleased to offer public Foodmobile distribution events. Keystone’s Foodmobile will be onsite for a public food distribution at Garden Terrace. \nPlease note that the Foodmobile is a Keystone food shelf and thus participants can only access services once a month. Visit here\, for more details about using the Foodmobile. \nPlease DO NOT park in the apartment complex’s parking lot. You may park at the nearby bowling alley or shopping complex lot. \n2874 Market Pl Dr\, Little Canada\, MN 55117
URL:https://keystoneservices.org/events/foodmobile-public-distribution-garden-terrace-2/2026-03-27/
LOCATION:Garden Terrace Commons Apartments\, 2874 Market Place Drive\, Little Canada\, MN\, 55117\, United States
GEO:45.0277463;-93.1015084
X-APPLE-STRUCTURED-LOCATION;VALUE=URI;X-ADDRESS=Garden Terrace Commons Apartments 2874 Market Place Drive Little Canada MN 55117 United States;X-APPLE-RADIUS=500;X-TITLE=2874 Market Place Drive:geo:-93.1015084,45.0277463
END:VEVENT
END:VCALENDAR