BEGIN:VCALENDAR
VERSION:2.0
PRODID:-//Keystone Community Services - ECPv6.15.17.1//NONSGML v1.0//EN
CALSCALE:GREGORIAN
METHOD:PUBLISH
X-ORIGINAL-URL:https://keystoneservices.org
X-WR-CALDESC:Events for Keystone Community Services
REFRESH-INTERVAL;VALUE=DURATION:PT1H
X-Robots-Tag:noindex
X-PUBLISHED-TTL:PT1H
BEGIN:VTIMEZONE
TZID:America/Chicago
BEGIN:DAYLIGHT
TZOFFSETFROM:-0600
TZOFFSETTO:-0500
TZNAME:CDT
DTSTART:20250309T080000
END:DAYLIGHT
BEGIN:STANDARD
TZOFFSETFROM:-0500
TZOFFSETTO:-0600
TZNAME:CST
DTSTART:20251102T070000
END:STANDARD
BEGIN:DAYLIGHT
TZOFFSETFROM:-0600
TZOFFSETTO:-0500
TZNAME:CDT
DTSTART:20260308T080000
END:DAYLIGHT
BEGIN:STANDARD
TZOFFSETFROM:-0500
TZOFFSETTO:-0600
TZNAME:CST
DTSTART:20261101T070000
END:STANDARD
BEGIN:DAYLIGHT
TZOFFSETFROM:-0600
TZOFFSETTO:-0500
TZNAME:CDT
DTSTART:20270314T080000
END:DAYLIGHT
BEGIN:STANDARD
TZOFFSETFROM:-0500
TZOFFSETTO:-0600
TZNAME:CST
DTSTART:20271107T070000
END:STANDARD
END:VTIMEZONE
BEGIN:VEVENT
DTSTART;TZID=America/Chicago:20260406T100000
DTEND;TZID=America/Chicago:20260406T120000
DTSTAMP:20260423T203619
CREATED:20250304T183807Z
LAST-MODIFIED:20260324T141727Z
UID:10002589-1775469600-1775476800@keystoneservices.org
SUMMARY:Foodmobile Public Distribution - Roseville Library
DESCRIPTION:For people needing emergency food support we are pleased to offer public Foodmobile distribution events. Keystone’s Foodmobile will be onsite for a public food distribution at the Roseville Public Library. \nPlease note that the Foodmobile is a Keystone food shelf and thus participants can only access services once a month. Visit here\, for more details about using the Foodmobile.
URL:https://keystoneservices.org/events/foodmobile-public-distribution-roseville-library-11/2026-04-06/
LOCATION:Roseville County Library\, 2180 Hamline Ave N\, Roseville\, MN\, 55113\, United States
GEO:45.0074048;-93.1557921
X-APPLE-STRUCTURED-LOCATION;VALUE=URI;X-ADDRESS=Roseville County Library 2180 Hamline Ave N Roseville MN 55113 United States;X-APPLE-RADIUS=500;X-TITLE=2180 Hamline Ave N:geo:-93.1557921,45.0074048
END:VEVENT
BEGIN:VEVENT
DTSTART;TZID=America/Chicago:20260406T140000
DTEND;TZID=America/Chicago:20260406T160000
DTSTAMP:20260423T203619
CREATED:20250929T150030Z
LAST-MODIFIED:20260305T191845Z
UID:10002595-1775484000-1775491200@keystoneservices.org
SUMMARY:Foodmobile Public Distribution - Lyons Court Senior Apartments
DESCRIPTION:For people needing emergency food support we are pleased to offer public Foodmobile distribution events. Keystone’s Foodmobile will be onsite for a public food distribution at Lyons Court Senior Apartments. \nPlease note that the Foodmobile is a Keystone food shelf and thus participants can only access services once a month. Visit here\, for more details about using the Foodmobile.
URL:https://keystoneservices.org/events/lyons-court-senior-apartments/2026-04-06/
LOCATION:Lyons Court Senior Apartments\, 510 N Sibley St.\, St Paul.\, MN\, 55101\, United States
GEO:44.9526799;-93.0910454
X-APPLE-STRUCTURED-LOCATION;VALUE=URI;X-ADDRESS=Lyons Court Senior Apartments 510 N Sibley St. St Paul. MN 55101 United States;X-APPLE-RADIUS=500;X-TITLE=510 N Sibley St.:geo:-93.0910454,44.9526799
END:VEVENT
BEGIN:VEVENT
DTSTART;TZID=America/Chicago:20260408T100000
DTEND;TZID=America/Chicago:20260408T120000
DTSTAMP:20260423T203619
CREATED:20250828T202825Z
LAST-MODIFIED:20260305T192414Z
UID:10002598-1775642400-1775649600@keystoneservices.org
SUMMARY:Foodmobile Public Distribution - Frogtown Community Center
DESCRIPTION:For people needing emergency food support we are pleased to offer public Foodmobile distribution events. Keystone’s Foodmobile will be onsite for a public food distribution at Frogtown Community Center. \nPlease note that the Foodmobile is a Keystone food shelf and thus participants can only access services once a month. Visit here\, for more details about using the Foodmobile.
URL:https://keystoneservices.org/events/foodmobile-public-distribution-frogtown-community-center/2026-04-08/
LOCATION:Frogtown Community Center\, 230 Como Ave.\, Saint Paul\, MN\, 55103
GEO:44.9608225;-93.1099929
X-APPLE-STRUCTURED-LOCATION;VALUE=URI;X-ADDRESS=Frogtown Community Center 230 Como Ave. Saint Paul MN 55103;X-APPLE-RADIUS=500;X-TITLE=230 Como Ave.:geo:-93.1099929,44.9608225
END:VEVENT
BEGIN:VEVENT
DTSTART;TZID=America/Chicago:20260410T100000
DTEND;TZID=America/Chicago:20260410T120000
DTSTAMP:20260423T203619
CREATED:20250304T180749Z
LAST-MODIFIED:20260305T192951Z
UID:10002601-1775815200-1775822400@keystoneservices.org
SUMMARY:Foodmobile Public Distribution – Anpetu Teca Education Center
DESCRIPTION:For people needing emergency food support we are pleased to offer public Foodmobile distribution events. Keystone’s Foodmobile will be onsite for a public food distribution at the Anpetu Teca Education Center. \nPlease note that the Foodmobile is a Keystone food shelf and thus participants can only access services once a month. Visit here\, for more details about using the Foodmobile. \n This site gets fairly busy so if you are looking for a Foodmobile site that is less busy\, please check out these sites: St. Michaels\, DaVita Dialysis\, McDonough Rec Center\, Rice St. Library\, or New Life Church.
URL:https://keystoneservices.org/events/foodmobile-public-distribution-anpetu-teca-education-center-3/2026-04-10/
LOCATION:Anpetu Teca Education Center\, 1910 County B Rd W\, Roseville\, MN\, 55113\, United States
GEO:45.0049815;-93.1801093
X-APPLE-STRUCTURED-LOCATION;VALUE=URI;X-ADDRESS=Anpetu Teca Education Center 1910 County B Rd W Roseville MN 55113 United States;X-APPLE-RADIUS=500;X-TITLE=1910 County B Rd W:geo:-93.1801093,45.0049815
END:VEVENT
END:VCALENDAR