BEGIN:VCALENDAR
VERSION:2.0
PRODID:-//Keystone Community Services - ECPv6.15.17.1//NONSGML v1.0//EN
CALSCALE:GREGORIAN
METHOD:PUBLISH
X-WR-CALNAME:Keystone Community Services
X-ORIGINAL-URL:https://keystoneservices.org
X-WR-CALDESC:Events for Keystone Community Services
REFRESH-INTERVAL;VALUE=DURATION:PT1H
X-Robots-Tag:noindex
X-PUBLISHED-TTL:PT1H
BEGIN:VTIMEZONE
TZID:America/Chicago
BEGIN:DAYLIGHT
TZOFFSETFROM:-0600
TZOFFSETTO:-0500
TZNAME:CDT
DTSTART:20250309T080000
END:DAYLIGHT
BEGIN:STANDARD
TZOFFSETFROM:-0500
TZOFFSETTO:-0600
TZNAME:CST
DTSTART:20251102T070000
END:STANDARD
BEGIN:DAYLIGHT
TZOFFSETFROM:-0600
TZOFFSETTO:-0500
TZNAME:CDT
DTSTART:20260308T080000
END:DAYLIGHT
BEGIN:STANDARD
TZOFFSETFROM:-0500
TZOFFSETTO:-0600
TZNAME:CST
DTSTART:20261101T070000
END:STANDARD
BEGIN:DAYLIGHT
TZOFFSETFROM:-0600
TZOFFSETTO:-0500
TZNAME:CDT
DTSTART:20270314T080000
END:DAYLIGHT
BEGIN:STANDARD
TZOFFSETFROM:-0500
TZOFFSETTO:-0600
TZNAME:CST
DTSTART:20271107T070000
END:STANDARD
END:VTIMEZONE
BEGIN:VEVENT
DTSTART;TZID=America/Chicago:20260512T140000
DTEND;TZID=America/Chicago:20260512T160000
DTSTAMP:20260424T070913
CREATED:20250304T182326Z
LAST-MODIFIED:20260305T195749Z
UID:10002604-1778594400-1778601600@keystoneservices.org
SUMMARY:Foodmobile Public Distribution – St. Michaels Lutheran Church
DESCRIPTION:For people needing emergency food support we are pleased to offer public Foodmobile distribution events. Keystone’s Foodmobile will be onsite for a public food distribution at the St. Michael’s Lutheran Church. \nA maximum of 50 households will be served during this time. \nPlease note that the Foodmobile is a Keystone food shelf and thus participants can only access services once a month. Visit here\, for more details about using the Foodmobile.
URL:https://keystoneservices.org/events/foodmobile-public-distribution-st-michaels-lutheran-church-5/2026-05-12/
LOCATION:St. Michael’s Lutheran Church\, 1660 County B Rd W\, Roseville\, MN\, 55113\, United States
GEO:45.0054763;-93.1701553
X-APPLE-STRUCTURED-LOCATION;VALUE=URI;X-ADDRESS=St. Michael’s Lutheran Church 1660 County B Rd W Roseville MN 55113 United States;X-APPLE-RADIUS=500;X-TITLE=1660 County B Rd W:geo:-93.1701553,45.0054763
END:VEVENT
BEGIN:VEVENT
DTSTART;TZID=America/Chicago:20260513T100000
DTEND;TZID=America/Chicago:20260513T120000
DTSTAMP:20260424T070913
CREATED:20250828T202825Z
LAST-MODIFIED:20260305T192414Z
UID:10002599-1778666400-1778673600@keystoneservices.org
SUMMARY:Foodmobile Public Distribution - Frogtown Community Center
DESCRIPTION:For people needing emergency food support we are pleased to offer public Foodmobile distribution events. Keystone’s Foodmobile will be onsite for a public food distribution at Frogtown Community Center. \nPlease note that the Foodmobile is a Keystone food shelf and thus participants can only access services once a month. Visit here\, for more details about using the Foodmobile.
URL:https://keystoneservices.org/events/foodmobile-public-distribution-frogtown-community-center/2026-05-13/
LOCATION:Frogtown Community Center\, 230 Como Ave.\, Saint Paul\, MN\, 55103
GEO:44.9608225;-93.1099929
X-APPLE-STRUCTURED-LOCATION;VALUE=URI;X-ADDRESS=Frogtown Community Center 230 Como Ave. Saint Paul MN 55103;X-APPLE-RADIUS=500;X-TITLE=230 Como Ave.:geo:-93.1099929,44.9608225
END:VEVENT
BEGIN:VEVENT
DTSTART;TZID=America/Chicago:20260515T100000
DTEND;TZID=America/Chicago:20260515T120000
DTSTAMP:20260424T070913
CREATED:20250304T190936Z
LAST-MODIFIED:20260421T162824Z
UID:10002610-1778839200-1778846400@keystoneservices.org
SUMMARY:Foodmobile Public Distribution - Lamplighter Village Apartments
DESCRIPTION:For people needing emergency food support we are pleased to offer public Foodmobile distribution events. Keystone’s Foodmobile will be onsite for a public food distribution at the Lamplighter Village Apartments. \nPlease note that the Foodmobile is a Keystone food shelf and thus participants can only access services once a month. Visit here\, for more details about using the Foodmobile.
URL:https://keystoneservices.org/events/foodmobile-public-distribution-lamplighter-village-apartments/2026-05-15/
LOCATION:Lamplighter Village Apartments\, 1512 N Woodbridge St\, St Paul\, 55117\, United States
GEO:44.9869884;-93.1079469
X-APPLE-STRUCTURED-LOCATION;VALUE=URI;X-ADDRESS=Lamplighter Village Apartments 1512 N Woodbridge St St Paul 55117 United States;X-APPLE-RADIUS=500;X-TITLE=1512 N Woodbridge St:geo:-93.1079469,44.9869884
END:VEVENT
BEGIN:VEVENT
DTSTART;TZID=America/Chicago:20260515T140000
DTEND;TZID=America/Chicago:20260515T160000
DTSTAMP:20260424T070913
CREATED:20250304T183305Z
LAST-MODIFIED:20260421T162523Z
UID:10002613-1778853600-1778860800@keystoneservices.org
SUMMARY:Foodmobile Public Distribution – Jeremiah Program (St. Paul)
DESCRIPTION:For people needing emergency food support we are pleased to offer public Foodmobile distribution events. Keystone’s Foodmobile will be onsite for a public food distribution at Jeremiah Program in St. Paul. \nA maximum of 50 households will be served during this time. \nPlease note that the Foodmobile is a Keystone food shelf and thus participants can only access services once a month. Visit here\, for more details about using the Foodmobile. \nBelow is a map of where you can park:
URL:https://keystoneservices.org/events/foodmobile-public-distribution-jeremiah-program-st-paul-2/2026-05-15/
LOCATION:Jeremiah Program (St. Paul)\, 932 Rondo Ave\, Saint Paul\, MN\, 55104\, United States
GEO:44.9510297;-93.1398901
X-APPLE-STRUCTURED-LOCATION;VALUE=URI;X-ADDRESS=Jeremiah Program (St. Paul) 932 Rondo Ave Saint Paul MN 55104 United States;X-APPLE-RADIUS=500;X-TITLE=932 Rondo Ave:geo:-93.1398901,44.9510297
END:VEVENT
END:VCALENDAR