BEGIN:VCALENDAR
VERSION:2.0
PRODID:-//Keystone Community Services - ECPv6.15.17.1//NONSGML v1.0//EN
CALSCALE:GREGORIAN
METHOD:PUBLISH
X-WR-CALNAME:Keystone Community Services
X-ORIGINAL-URL:https://keystoneservices.org
X-WR-CALDESC:Events for Keystone Community Services
REFRESH-INTERVAL;VALUE=DURATION:PT1H
X-Robots-Tag:noindex
X-PUBLISHED-TTL:PT1H
BEGIN:VTIMEZONE
TZID:America/Chicago
BEGIN:DAYLIGHT
TZOFFSETFROM:-0600
TZOFFSETTO:-0500
TZNAME:CDT
DTSTART:20220313T080000
END:DAYLIGHT
BEGIN:STANDARD
TZOFFSETFROM:-0500
TZOFFSETTO:-0600
TZNAME:CST
DTSTART:20221106T070000
END:STANDARD
BEGIN:DAYLIGHT
TZOFFSETFROM:-0600
TZOFFSETTO:-0500
TZNAME:CDT
DTSTART:20230312T080000
END:DAYLIGHT
BEGIN:STANDARD
TZOFFSETFROM:-0500
TZOFFSETTO:-0600
TZNAME:CST
DTSTART:20231105T070000
END:STANDARD
BEGIN:DAYLIGHT
TZOFFSETFROM:-0600
TZOFFSETTO:-0500
TZNAME:CDT
DTSTART:20240310T080000
END:DAYLIGHT
BEGIN:STANDARD
TZOFFSETFROM:-0500
TZOFFSETTO:-0600
TZNAME:CST
DTSTART:20241103T070000
END:STANDARD
END:VTIMEZONE
BEGIN:VEVENT
DTSTART;TZID=America/Chicago:20231203T120000
DTEND;TZID=America/Chicago:20231203T150000
DTSTAMP:20260420T165407
CREATED:20231030T173845Z
LAST-MODIFIED:20231115T215155Z
UID:10002228-1701604800-1701615600@keystoneservices.org
SUMMARY:Presented by the St. Paul North Ramsey 500 Lions Club: Pictures with Santa
DESCRIPTION:Bring your little ones to meet Santa and support hunger relief in our community! \n\nWhen: Sunday\, December 3 \n\nTime: 12:00 – 3:00 P.M. \n\nWhere: Autumn Grove Park Facility 1395 Lydia Ave. W\, Roseville\, MN 55113 \n\nCost: $10 per child\, payable with cash or check at the door \n\nOne fresh cut\, decorated Christmas tree will be raffled off at $2/ticket. The winner will be announced at 3pm! \n\nAll proceeds benefit the Keystone Community Services Foodmobile program. The Lions are partnering with Keystone to provide mobile food support to people in need. Please consider bringing a non perishable food item! \nCLICK HERE TO REGISTER: https://www.signupgenius.com/go/4090C4CACAC23A7FD0-44560831-pictures#/
URL:https://keystoneservices.org/events/presented-by-the-st-paul-north-ramsey-500-lions-club-pictures-with-santa/
LOCATION:Autumn Grove Park Facility\, 1395 Lydia Ave W\, Roseville\, MN\, 55113\, United States
GEO:45.033147;-93.206362
X-APPLE-STRUCTURED-LOCATION;VALUE=URI;X-ADDRESS=Autumn Grove Park Facility 1395 Lydia Ave W Roseville MN 55113 United States;X-APPLE-RADIUS=500;X-TITLE=1395 Lydia Ave W:geo:-93.206362,45.033147
END:VEVENT
END:VCALENDAR