BEGIN:VCALENDAR
VERSION:2.0
PRODID:-//Keystone Community Services - ECPv6.15.17.1//NONSGML v1.0//EN
CALSCALE:GREGORIAN
METHOD:PUBLISH
X-WR-CALNAME:Keystone Community Services
X-ORIGINAL-URL:https://keystoneservices.org
X-WR-CALDESC:Events for Keystone Community Services
REFRESH-INTERVAL;VALUE=DURATION:PT1H
X-Robots-Tag:noindex
X-PUBLISHED-TTL:PT1H
BEGIN:VTIMEZONE
TZID:America/Chicago
BEGIN:DAYLIGHT
TZOFFSETFROM:-0600
TZOFFSETTO:-0500
TZNAME:CDT
DTSTART:20160313T080000
END:DAYLIGHT
BEGIN:STANDARD
TZOFFSETFROM:-0500
TZOFFSETTO:-0600
TZNAME:CST
DTSTART:20161106T070000
END:STANDARD
BEGIN:DAYLIGHT
TZOFFSETFROM:-0600
TZOFFSETTO:-0500
TZNAME:CDT
DTSTART:20170312T080000
END:DAYLIGHT
BEGIN:STANDARD
TZOFFSETFROM:-0500
TZOFFSETTO:-0600
TZNAME:CST
DTSTART:20171105T070000
END:STANDARD
BEGIN:DAYLIGHT
TZOFFSETFROM:-0600
TZOFFSETTO:-0500
TZNAME:CDT
DTSTART:20180311T080000
END:DAYLIGHT
BEGIN:STANDARD
TZOFFSETFROM:-0500
TZOFFSETTO:-0600
TZNAME:CST
DTSTART:20181104T070000
END:STANDARD
BEGIN:DAYLIGHT
TZOFFSETFROM:-0600
TZOFFSETTO:-0500
TZNAME:CDT
DTSTART:20190310T080000
END:DAYLIGHT
BEGIN:STANDARD
TZOFFSETFROM:-0500
TZOFFSETTO:-0600
TZNAME:CST
DTSTART:20191103T070000
END:STANDARD
END:VTIMEZONE
BEGIN:VEVENT
DTSTART;TZID=America/Chicago:20181108T180000
DTEND;TZID=America/Chicago:20181108T210000
DTSTAMP:20260425T085901
CREATED:20180921T154920Z
LAST-MODIFIED:20181029T210525Z
UID:10001189-1541700000-1541710800@keystoneservices.org
SUMMARY:2018 Community Service Awards Dinner
DESCRIPTION:Keystone Community Services is proud to present the 2018 Community Service Awards Dinner. \nPlease join us we as present Thomas Schroeder and Gary Brueggemann with the 2018 West 7th Community Service Award. We will also be honoring United Hospital\, part of Allina Health with the Keystone Good Neighbor Award. \nWHEN: Thursday\, November 8 from 6:00 – 9:00 p.m. \nWHERE: Mancini’s Char House\, 531 7th Street West\, St. Paul\, MN 55012 \nCOST: Tickets are $28 per person \nYou can buy your tickets online here. Or call us at 651-298-5493 to buy your ticket over the phone. \nSpace is limited so please purchase your ticket(s) today to ensure your seat at this momentous occasion.
URL:https://keystoneservices.org/events/2018-community-service-awards-dinner/
LOCATION:Mancini’s Char House\, 531 7th Street West\, Saint Paul\, MN\, 55102\, United States
GEO:44.9368049;-93.1137591
X-APPLE-STRUCTURED-LOCATION;VALUE=URI;X-ADDRESS=Mancini’s Char House 531 7th Street West Saint Paul MN 55102 United States;X-APPLE-RADIUS=500;X-TITLE=531 7th Street West:geo:-93.1137591,44.9368049
END:VEVENT
BEGIN:VEVENT
DTSTART;TZID=America/Chicago:20171108T180000
DTEND;TZID=America/Chicago:20171108T210000
DTSTAMP:20260425T085901
CREATED:20171005T185108Z
LAST-MODIFIED:20180921T154640Z
UID:10001276-1510164000-1510174800@keystoneservices.org
SUMMARY:2017 Community Service Awards Dinner
DESCRIPTION:Keystone Community Services is proud to present the 2017 Community Service Awards Dinner. \nPlease join us as we honor and celebrate Betty Moran and Ed Johnson for their four decades of dedicated service at the Fort Road Federation and present them with the 2017 West 7th Community Service Award. We will also be honoring Winsor Learning with the Keystone Good Neighbor Award. \nWHEN: Wednesday\, November 8 from 6:00 – 9:00 p.m. \nWHERE: Mancini’s Char House\, 531 7th Street West\, St. Paul\, MN 55012 \nCOST: Tickets are $28 per person \nYou can buy your tickets online here. Or call us at 651-298-5493 to buy your ticket over the phone. \nSpace is limited so please purchase your ticket(s) today to ensure your seat at this momentous occasion. \nBuy your ticket today
URL:https://keystoneservices.org/events/community-service-awards-dinner/
LOCATION:Mancini’s Char House\, 531 7th Street West\, Saint Paul\, MN\, 55102\, United States
GEO:44.9368049;-93.1137591
X-APPLE-STRUCTURED-LOCATION;VALUE=URI;X-ADDRESS=Mancini’s Char House 531 7th Street West Saint Paul MN 55102 United States;X-APPLE-RADIUS=500;X-TITLE=531 7th Street West:geo:-93.1137591,44.9368049
END:VEVENT
END:VCALENDAR