BEGIN:VCALENDAR
VERSION:2.0
PRODID:-//Keystone Community Services - ECPv6.15.17.1//NONSGML v1.0//EN
CALSCALE:GREGORIAN
METHOD:PUBLISH
X-WR-CALNAME:Keystone Community Services
X-ORIGINAL-URL:https://keystoneservices.org
X-WR-CALDESC:Events for Keystone Community Services
REFRESH-INTERVAL;VALUE=DURATION:PT1H
X-Robots-Tag:noindex
X-PUBLISHED-TTL:PT1H
BEGIN:VTIMEZONE
TZID:America/Chicago
BEGIN:DAYLIGHT
TZOFFSETFROM:-0600
TZOFFSETTO:-0500
TZNAME:CDT
DTSTART:20200308T080000
END:DAYLIGHT
BEGIN:STANDARD
TZOFFSETFROM:-0500
TZOFFSETTO:-0600
TZNAME:CST
DTSTART:20201101T070000
END:STANDARD
BEGIN:DAYLIGHT
TZOFFSETFROM:-0600
TZOFFSETTO:-0500
TZNAME:CDT
DTSTART:20210314T080000
END:DAYLIGHT
BEGIN:STANDARD
TZOFFSETFROM:-0500
TZOFFSETTO:-0600
TZNAME:CST
DTSTART:20211107T070000
END:STANDARD
BEGIN:DAYLIGHT
TZOFFSETFROM:-0600
TZOFFSETTO:-0500
TZNAME:CDT
DTSTART:20220313T080000
END:DAYLIGHT
BEGIN:STANDARD
TZOFFSETFROM:-0500
TZOFFSETTO:-0600
TZNAME:CST
DTSTART:20221106T070000
END:STANDARD
END:VTIMEZONE
BEGIN:VEVENT
DTSTART;TZID=America/Chicago:20211208T150000
DTEND;TZID=America/Chicago:20211208T210000
DTSTAMP:20260422T111801
CREATED:20211207T152503Z
LAST-MODIFIED:20211207T152503Z
UID:10001847-1638975600-1638997200@keystoneservices.org
SUMMARY:Minnesota Pint Day Fundraising Event Benefitting Keystone
DESCRIPTION:Urban Growler Brewing Company will be supporting Keystone Community Services on MN Pint Day\, on December 8! For $10\, guests receive a pint of any beverage on tap along with a MN Pint Day glass to take home and cherish. $5 of each MN Pint Day glass will be donated to Keystone Community Services to help provide vital\, community-based services in our community. \nGrab a friend\, support a small business in our community\, and support Keystone at the same time! \nMore information about the event can be found online here.
URL:https://keystoneservices.org/events/minnesota-pint-day-fundraising-event-benefitting-keystone/
LOCATION:Urban Growler\, 2325 Endicott Street\, St. Paul\, MN\, 55114\, United States
GEO:44.9704196;-93.1933574
X-APPLE-STRUCTURED-LOCATION;VALUE=URI;X-ADDRESS=Urban Growler 2325 Endicott Street St. Paul MN 55114 United States;X-APPLE-RADIUS=500;X-TITLE=2325 Endicott Street:geo:-93.1933574,44.9704196
END:VEVENT
END:VCALENDAR